From mboxrd@z Thu Jan 1 00:00:00 1970 Return-Path: Received: from mails.dpdk.org (mails.dpdk.org [217.70.189.124]) by inbox.dpdk.org (Postfix) with ESMTP id 6E89748A66 for ; Sun, 2 Nov 2025 17:55:32 +0100 (CET) Received: from mails.dpdk.org (localhost [127.0.0.1]) by mails.dpdk.org (Postfix) with ESMTP id 6715340261; Sun, 2 Nov 2025 17:55:32 +0100 (CET) Received: from mail-pf1-f228.google.com (mail-pf1-f228.google.com [209.85.210.228]) by mails.dpdk.org (Postfix) with ESMTP id 33CFB40261 for ; Sun, 2 Nov 2025 17:55:31 +0100 (CET) Received: by mail-pf1-f228.google.com with SMTP id d2e1a72fcca58-76e2ea933b7so3667285b3a.1 for ; Sun, 02 Nov 2025 08:55:31 -0800 (PST) DKIM-Signature: v=1; a=rsa-sha256; c=relaxed/relaxed; d=iol.unh.edu; s=unh-iol; t=1762102530; x=1762707330; darn=dpdk.org; h=references:in-reply-to:cc:to:from:subject:message-id:date:from:to :cc:subject:date:message-id:reply-to; bh=rlS0OBaxO5gTH9rLFCmAf4jWKZV+G2+tDusi9sTglHQ=; b=Pz757THRWqKLy0N3Ak+UD+xH9XMragDE1WUtrbiJRN2KVGTNUEMy0FJgoMBpcdU3B5 74PZJEcl8ji9VgtllpTK/hBbssHj+eP/u5+puSXT5kJ6SY8oIFZCTmCojbAMEzqX4pQ2 L5pzd3xLUY4rEThbaEHA8KCJkt4XhoPf5n3BI= X-Google-DKIM-Signature: v=1; a=rsa-sha256; c=relaxed/relaxed; d=1e100.net; s=20230601; t=1762102530; x=1762707330; h=references:in-reply-to:cc:to:from:subject:message-id:date :x-gm-message-state:from:to:cc:subject:date:message-id:reply-to; bh=rlS0OBaxO5gTH9rLFCmAf4jWKZV+G2+tDusi9sTglHQ=; b=e8uiBiz+m2PyyzT2F0aUY1ujYAX1V0OZAhmEMAZmjD5hlB39t0FP+Mrrc9x4pyai6q ZLJ8z+KM5Uq0nL4gw3dK+65Kk6qpt8tioOwnqr+sos6GwVPxXIetHvT1UJ4z/E2o5AyX 7mKs3rrosYIjNDtQzT6XKccx2CQrFr0NZJ+eot06egVU73HobkgMYL20Hy1GE6hbtCg1 zEaxwf8WyejzAn+nb0Wlr/quB9wsaBoSV5GaaRF5DAaJa3xpEaeczmKXkgNE1uAEuvo8 A+4DPSRDDqh+W4KydaIwQSQCaNY9gggiJ78pJ9uArD0E2GMd64VkLnttyvwI/aVheojI 19KA== X-Gm-Message-State: AOJu0Yyg4qkom+qay3ryMXmPZyk4F6DdPG7NXFDrffEIGXgMzkE5kwwI O63sWIDcfBllsLXUy+r9vqSKFTwQXc8YeSuzoPyyhMoRc/Yoxr3HSjUYAsOhBbOKLLYoDvcYVMg gnykBynq0aVm6K0f/fJKCmt9gsvAJgspEsQi8cBanBvpVQMQc9vzrrLWGrX29 X-Gm-Gg: ASbGncvXL34Mk0D6ARulStNyaLXX7jz6LhhViaCsXFHamUQ3d4K+cTuyzuvinWBucqD hvUziez+XdpVXe7YAh0dLPxPVQfbNcSvBcHjqo1lay5xnwSwLu1YOFHMGmLVoUCLob9uNWMRzb4 kH7u2pjqtZbjo1lP0ofRImWxHh+pR0J5ObrcHkLZwODI0CkXGmdkg6avszMnfAxzNYi39CZTJKC w6Pcw3d8ErC0pANJ0TZyEM59KEn6PbJ3p0jzdUubdM3I7Xa0CyTyUxRkaRHvVcRY0KOE2UT9Pi+ Iu6ncOh+ots7+wP8UxjpbiF4YBwv3kpCYrbjT0n33R8xQRCtAFImDE6ht7BlLVvL27AmNqcpAxE YV+6GInTh X-Google-Smtp-Source: AGHT+IHhU5x/5mpKi++dEe1al71S5zTF1gywmoN77vIcEdwzoQ93w9z7mctKAYNZgwAfBUrcljCBEq39ReIr X-Received: by 2002:a05:6a20:914c:b0:341:471c:9392 with SMTP id adf61e73a8af0-348ba87a6ffmr12377594637.10.1762102530376; Sun, 02 Nov 2025 08:55:30 -0800 (PST) Received: from postal.iol.unh.edu (postal.iol.unh.edu. [2606:4100:3880:1234::84]) by smtp-relay.gmail.com with ESMTPS id 98e67ed59e1d1-340b0c72be0sm575448a91.5.2025.11.02.08.55.30 (version=TLS1_2 cipher=ECDHE-ECDSA-AES128-GCM-SHA256 bits=128/128); Sun, 02 Nov 2025 08:55:30 -0800 (PST) X-Relaying-Domain: iol.unh.edu Date: Sun, 02 Nov 2025 08:55:30 -0800 (PST) Message-ID: <69078d02.170a0220.db04c.08f0SMTPIN_ADDED_MISSING@mx.google.com> Received: from [172.21.0.4] (unknown [172.18.0.240]) by postal.iol.unh.edu (Postfix) with ESMTP id 984906051830; Sun, 2 Nov 2025 11:55:29 -0500 (EST) Subject: |WARNING| pw158339 [PATCH] maintainers: remove some inactives From: dpdklab@iol.unh.edu To: Test Report Cc: dpdk-test-reports@iol.unh.edu In-Reply-To: <20251102161410.4004823-1-thomas@monjalon.net> References: <20251102161410.4004823-1-thomas@monjalon.net> Content-Type: text/plain X-BeenThere: test-report@dpdk.org X-Mailman-Version: 2.1.29 Precedence: list List-Id: automatic DPDK test reports List-Unsubscribe: , List-Archive: List-Post: List-Help: List-Subscribe: , Errors-To: test-report-bounces@dpdk.org Test-Label: iol-compile-amd64-testing Test-Status: WARNING http://dpdk.org/patch/158339 _Testing issues_ Submitter: Thomas Monjalon Date: Sunday, November 02 2025 16:14:10 DPDK git baseline: Repo:dpdk Branch: master CommitID:8c4861d00aabcf54ef9d6f1df2a4cfb37c06f6c2 158339 --> testing issues Upstream job id: Generic-DPDK-Compile-Meson#440057 Test environment and result as below: +-------------------------------+--------------------+-------------------+------------------+ | Environment | dpdk_meson_compile | dpdk_compile_spdk | dpdk_compile_ovs | +===============================+====================+===================+==================+ | CentOS Stream 9 | PEND | PEND | SKIPPED | +-------------------------------+--------------------+-------------------+------------------+ | Debian GNU/Linux 12 | PEND | PEND | SKIPPED | +-------------------------------+--------------------+-------------------+------------------+ | CentOS Stream 10 | PASS | SKIPPED | SKIPPED | +-------------------------------+--------------------+-------------------+------------------+ | Red Hat Enterprise Linux 9.5 | PASS | SKIPPED | SKIPPED | +-------------------------------+--------------------+-------------------+------------------+ | openSUSE Leap 15.6 | PASS | SKIPPED | SKIPPED | +-------------------------------+--------------------+-------------------+------------------+ | Fedora Linux 42 | PEND | PEND | PEND | +-------------------------------+--------------------+-------------------+------------------+ | Red Hat Enterprise Linux 8.10 | PASS | SKIPPED | SKIPPED | +-------------------------------+--------------------+-------------------+------------------+ | Ubuntu 20.04 | PASS | SKIPPED | SKIPPED | +-------------------------------+--------------------+-------------------+------------------+ | Ubuntu 22.04 | PASS | WARN | SKIPPED | +-------------------------------+--------------------+-------------------+------------------+ | Ubuntu 24.04 | PEND | PEND | PEND | +-------------------------------+--------------------+-------------------+------------------+ | FreeBSD 14.2 | PASS | SKIPPED | SKIPPED | +-------------------------------+--------------------+-------------------+------------------+ | Alpine Linux 3.22.0 | PEND | SKIPPED | SKIPPED | +-------------------------------+--------------------+-------------------+------------------+ ==== 20 line log output for Ubuntu 22.04 (dpdk_compile_spdk): ==== --- Failed to get log output --- ==== End log output ==== CentOS Stream 9 Kernel: 5.15 Compiler: gcc gcc (GCC) 11.5.0 20240719 (Red Hat 11.5.0-11) Debian GNU/Linux 12 Kernel: 5.15 Compiler: gcc gcc (Debian 12.2.0-14+deb12u1) 12.2.0 CentOS Stream 10 Kernel: 5.15 Compiler: gcc gcc (GCC) 14.2.1 20250110 (Red Hat 14.2.1-8) Red Hat Enterprise Linux 9.5 Kernel: 5.15 Compiler: gcc gcc (GCC) 11.5.0 20240719 (Red Hat 11.5.0-2) openSUSE Leap 15.6 Kernel: 5.15 Compiler: gcc gcc (SUSE Linux) 7.5.0 Fedora Linux 42 Kernel: 5.15 Compiler: gcc gcc (GCC) 15.2.1 20250808 (Red Hat 15.2.1-1) Red Hat Enterprise Linux 8.10 Kernel: 5.15 Compiler: gcc gcc (GCC) 8.5.0 20210514 (Red Hat 8.5.0-22) Ubuntu 20.04 Kernel: 5.15 Compiler: gcc gcc (Ubuntu 9.4.0-1ubuntu1~20.04.2) 9.4.0 Ubuntu 22.04 Kernel: 5.15 Compiler: gcc gcc (Ubuntu 11.4.0-1ubuntu1~22.04) 11.4.0 Ubuntu 24.04 Kernel: 5.15 Compiler: gcc gcc (Ubuntu 13.3.0-6ubuntu2~24.04) 13.3.0 FreeBSD 14.2 Kernel: 14.2-RELEASE Compiler: clang 18.1.6 Alpine Linux 3.22.0 Kernel: 5.15 Compiler: gcc gcc (Alpine 14.2.0) 14.2.0 To view detailed results, visit: https://lab.dpdk.org/results/dashboard/patchsets/34442/ UNH-IOL DPDK Community Lab To manage your email subscriptions, visit: https://lab.dpdk.org/results/dashboard/preferences/subscriptions/