From: dpdklab@iol.unh.edu
To: Test Report <test-report@dpdk.org>
Cc: dpdk-test-reports@iol.unh.edu
Subject: |WARNING| pw158334-158338 [PATCH] [5/5] net/mlx5: remove useless con
Date: Sun, 02 Nov 2025 09:07:42 -0800 (PST)	[thread overview]
Message-ID: <69078fde.170a0220.37d2ac.0e4bSMTPIN_ADDED_MISSING@mx.google.com> (raw)
In-Reply-To: <20251102155617.4001783-6-thomas@monjalon.net>
Test-Label: iol-sample-apps-testing
Test-Status: WARNING
http://dpdk.org/patch/158338
_Testing issues_
Submitter: Thomas Monjalon <thomas@monjalon.net>
Date: Sunday, November 02 2025 15:53:04 
DPDK git baseline: Repo:dpdk
  Branch: master
  CommitID:8c4861d00aabcf54ef9d6f1df2a4cfb37c06f6c2
158334-158338 --> testing issues
Upstream job id: Template-DTS-Pipeline#252511
Test environment and result as below:
+--------------+----------------------+----------------------+
| Environment  | dpdk_fips_validation | compressdev_zlib_pmd |
+==============+======================+======================+
| Ubuntu 20.04 | WARN                 | SKIPPED              |
+--------------+----------------------+----------------------+
| Ubuntu 22.04 | SKIPPED              | PASS                 |
+--------------+----------------------+----------------------+
==== 20 line log output for Ubuntu 20.04 (dpdk_fips_validation): ====
Traceback (most recent call last):
File "/dpdk-ci/tools/acvp/acvp_tool.py", line 368, in <module>
main(
File "/dpdk-ci/tools/acvp/acvp_tool.py", line 314, in main
with open(response_path, 'r') as upload_file:
FileNotFoundError: [Errno 2] No such file or directory: '/root/workspace/ACVP-FIPS-testing/out/hmac-sha-1-answers.rsp'
INFO:root:Using response file...
Traceback (most recent call last):
File "/dpdk-ci/tools/acvp/acvp_tool.py", line 368, in <module>
main(
File "/dpdk-ci/tools/acvp/acvp_tool.py", line 314, in main
with open(response_path, 'r') as upload_file:
FileNotFoundError: [Errno 2] No such file or directory: '/root/workspace/ACVP-FIPS-testing/out/acvp-tdes-cbc-answers.rsp'
INFO:root:Using response file...
Traceback (most recent call last):
File "/dpdk-ci/tools/acvp/acvp_tool.py", line 368, in <module>
main(
File "/dpdk-ci/tools/acvp/acvp_tool.py", line 314, in main
with open(response_path, 'r') as upload_file:
FileNotFoundError: [Errno 2] No such file or directory: '/root/workspace/ACVP-FIPS-testing/out/acvp-aes-ctr-answers.rsp'
==== End log output ====
Ubuntu 20.04
	Kernel: 5.15
	Compiler: gcc gcc (Ubuntu 9.4.0-1ubuntu1~20.04.2) 9.4.0
Ubuntu 22.04
	Kernel: 5.15
	Compiler: gcc gcc (Ubuntu 11.4.0-1ubuntu1~22.04.2) 11.4.0
To view detailed results, visit:
https://lab.dpdk.org/results/dashboard/patchsets/34441/
UNH-IOL DPDK Community Lab
To manage your email subscriptions, visit: 
https://lab.dpdk.org/results/dashboard/preferences/subscriptions/
next prev parent reply	other threads:[~2025-11-02 17:07 UTC|newest]
Thread overview: 26+ messages / expand[flat|nested]  mbox.gz  Atom feed  top
     [not found] <20251102155617.4001783-6-thomas@monjalon.net>
2025-11-02 15:23 ` |SUCCESS| pw158334-158338 [PATCH 5/5] net/mlx5: remove useless constants qemudev
2025-11-02 15:28 ` qemudev
2025-11-02 15:56 ` |SUCCESS| pw158338 " checkpatch
2025-11-02 16:21 ` |PENDING| pw158334-158338 [PATCH] [5/5] net/mlx5: remove useless con dpdklab
2025-11-02 16:23 ` |SUCCESS| " dpdklab
2025-11-02 16:24 ` |PENDING| " dpdklab
2025-11-02 16:24 ` dpdklab
2025-11-02 16:27 ` dpdklab
2025-11-02 16:28 ` |SUCCESS| " dpdklab
2025-11-02 16:33 ` |PENDING| " dpdklab
2025-11-02 16:40 ` |SUCCESS| " dpdklab
2025-11-02 16:43 ` dpdklab
2025-11-02 16:45 ` dpdklab
2025-11-02 16:54 ` |WARNING| " dpdklab
2025-11-02 17:07 ` dpdklab [this message]
2025-11-02 17:13 ` |SUCCESS| " dpdklab
2025-11-02 17:20 ` |WARNING| " dpdklab
2025-11-02 17:20 ` |SUCCESS| " dpdklab
2025-11-02 17:21 ` |SUCCESS| pw158338 [PATCH 5/5] net/mlx5: remove useless constants 0-day Robot
2025-11-02 17:21 ` 0-day Robot
2025-11-02 17:24 ` |SUCCESS| pw158334-158338 [PATCH] [5/5] net/mlx5: remove useless con dpdklab
2025-11-02 17:55 ` dpdklab
2025-11-02 19:44 ` dpdklab
2025-11-03 15:50 ` dpdklab
2025-11-03 15:50 ` dpdklab
2025-11-03 16:58 ` |WARNING| " dpdklab
Reply instructions:
You may reply publicly to this message via plain-text email
using any one of the following methods:
* Save the following mbox file, import it into your mail client,
  and reply-to-all from there: mbox
  Avoid top-posting and favor interleaved quoting:
  https://en.wikipedia.org/wiki/Posting_style#Interleaved_style
* Reply using the --to, --cc, and --in-reply-to
  switches of git-send-email(1):
  git send-email \
    --in-reply-to=69078fde.170a0220.37d2ac.0e4bSMTPIN_ADDED_MISSING@mx.google.com \
    --to=dpdklab@iol.unh.edu \
    --cc=dpdk-test-reports@iol.unh.edu \
    --cc=test-report@dpdk.org \
    /path/to/YOUR_REPLY
  https://kernel.org/pub/software/scm/git/docs/git-send-email.html
* If your mail client supports setting the In-Reply-To header
  via mailto: links, try the mailto: link
  Be sure your reply has a Subject: header at the top and a blank line
  before the message body.
This is a public inbox, see mirroring instructions
for how to clone and mirror all data and code used for this inbox;
as well as URLs for NNTP newsgroup(s).