automatic DPDK test reports
 help / color / mirror / Atom feed
From: dpdklab@iol.unh.edu
To: Test Report <test-report@dpdk.org>
Cc: dpdk-test-reports@iol.unh.edu
Subject: |WARNING| pw158339 [PATCH] maintainers: remove some inactives
Date: Sun, 02 Nov 2025 09:08:37 -0800 (PST)	[thread overview]
Message-ID: <69079015.050a0220.4b68e.4664SMTPIN_ADDED_MISSING@mx.google.com> (raw)
In-Reply-To: <20251102161410.4004823-1-thomas@monjalon.net>

Test-Label: iol-sample-apps-testing
Test-Status: WARNING
http://dpdk.org/patch/158339

_Testing issues_

Submitter: Thomas Monjalon <thomas@monjalon.net>
Date: Sunday, November 02 2025 16:14:10 
DPDK git baseline: Repo:dpdk
  Branch: master
  CommitID:8c4861d00aabcf54ef9d6f1df2a4cfb37c06f6c2

158339 --> testing issues

Upstream job id: ACVP-FIPS-testing#11646

Test environment and result as below:

+--------------+----------------------+----------------------+
| Environment  | compressdev_zlib_pmd | dpdk_fips_validation |
+==============+======================+======================+
| Ubuntu 22.04 | PASS                 | SKIPPED              |
+--------------+----------------------+----------------------+
| Ubuntu 20.04 | SKIPPED              | WARN                 |
+--------------+----------------------+----------------------+

==== 20 line log output for Ubuntu 20.04 (dpdk_fips_validation): ====
Traceback (most recent call last):
File "/dpdk-ci/tools/acvp/acvp_tool.py", line 368, in <module>
main(
File "/dpdk-ci/tools/acvp/acvp_tool.py", line 314, in main
with open(response_path, 'r') as upload_file:
FileNotFoundError: [Errno 2] No such file or directory: '/root/workspace/ACVP-FIPS-testing/out/hmac-sha-1-answers.rsp'
INFO:root:Using response file...
Traceback (most recent call last):
File "/dpdk-ci/tools/acvp/acvp_tool.py", line 368, in <module>
main(
File "/dpdk-ci/tools/acvp/acvp_tool.py", line 314, in main
with open(response_path, 'r') as upload_file:
FileNotFoundError: [Errno 2] No such file or directory: '/root/workspace/ACVP-FIPS-testing/out/acvp-tdes-cbc-answers.rsp'
INFO:root:Using response file...
Traceback (most recent call last):
File "/dpdk-ci/tools/acvp/acvp_tool.py", line 368, in <module>
main(
File "/dpdk-ci/tools/acvp/acvp_tool.py", line 314, in main
with open(response_path, 'r') as upload_file:
FileNotFoundError: [Errno 2] No such file or directory: '/root/workspace/ACVP-FIPS-testing/out/acvp-aes-ctr-answers.rsp'
==== End log output ====

Ubuntu 22.04
	Kernel: 5.15
	Compiler: gcc gcc (Ubuntu 11.4.0-1ubuntu1~22.04.2) 11.4.0

Ubuntu 20.04
	Kernel: 5.15
	Compiler: gcc gcc (Ubuntu 9.4.0-1ubuntu1~20.04.2) 9.4.0

To view detailed results, visit:
https://lab.dpdk.org/results/dashboard/patchsets/34442/

UNH-IOL DPDK Community Lab

To manage your email subscriptions, visit: 
https://lab.dpdk.org/results/dashboard/preferences/subscriptions/

  parent reply	other threads:[~2025-11-02 17:08 UTC|newest]

Thread overview: 28+ messages / expand[flat|nested]  mbox.gz  Atom feed  top
     [not found] <20251102161410.4004823-1-thomas@monjalon.net>
2025-11-02 15:39 ` |SUCCESS| " qemudev
2025-11-02 15:44 ` qemudev
2025-11-02 16:13 ` checkpatch
2025-11-02 16:42 ` |PENDING| " dpdklab
2025-11-02 16:45 ` |SUCCESS| " dpdklab
2025-11-02 16:49 ` |PENDING| " dpdklab
2025-11-02 16:54 ` |SUCCESS| " dpdklab
2025-11-02 16:54 ` dpdklab
2025-11-02 16:55 ` |WARNING| " dpdklab
2025-11-02 17:03 ` |SUCCESS| " dpdklab
2025-11-02 17:05 ` |PENDING| " dpdklab
2025-11-02 17:08 ` dpdklab [this message]
2025-11-02 17:09 ` dpdklab
2025-11-02 17:09 ` |SUCCESS| " dpdklab
2025-11-02 17:13 ` dpdklab
2025-11-02 17:21 ` 0-day Robot
2025-11-02 17:21 ` 0-day Robot
2025-11-02 17:38 ` dpdklab
2025-11-02 17:43 ` |WARNING| " dpdklab
2025-11-02 17:51 ` |SUCCESS| " dpdklab
2025-11-02 17:52 ` |WARNING| " dpdklab
2025-11-02 17:53 ` dpdklab
2025-11-02 17:55 ` |SUCCESS| " dpdklab
2025-11-02 17:57 ` dpdklab
2025-11-02 18:52 ` dpdklab
2025-11-02 20:07 ` dpdklab
2025-11-03 15:50 ` dpdklab
2025-11-03 15:50 ` dpdklab

Reply instructions:

You may reply publicly to this message via plain-text email
using any one of the following methods:

* Save the following mbox file, import it into your mail client,
  and reply-to-all from there: mbox

  Avoid top-posting and favor interleaved quoting:
  https://en.wikipedia.org/wiki/Posting_style#Interleaved_style

* Reply using the --to, --cc, and --in-reply-to
  switches of git-send-email(1):

  git send-email \
    --in-reply-to=69079015.050a0220.4b68e.4664SMTPIN_ADDED_MISSING@mx.google.com \
    --to=dpdklab@iol.unh.edu \
    --cc=dpdk-test-reports@iol.unh.edu \
    --cc=test-report@dpdk.org \
    /path/to/YOUR_REPLY

  https://kernel.org/pub/software/scm/git/docs/git-send-email.html

* If your mail client supports setting the In-Reply-To header
  via mailto: links, try the mailto: link
Be sure your reply has a Subject: header at the top and a blank line before the message body.
This is a public inbox, see mirroring instructions
for how to clone and mirror all data and code used for this inbox;
as well as URLs for NNTP newsgroup(s).