From mboxrd@z Thu Jan 1 00:00:00 1970 Return-Path: Received: from mails.dpdk.org (mails.dpdk.org [217.70.189.124]) by inbox.dpdk.org (Postfix) with ESMTP id 0361A48A67 for ; Sun, 2 Nov 2025 18:20:14 +0100 (CET) Received: from mails.dpdk.org (localhost [127.0.0.1]) by mails.dpdk.org (Postfix) with ESMTP id D189540261; Sun, 2 Nov 2025 18:20:14 +0100 (CET) Received: from mail-pl1-f226.google.com (mail-pl1-f226.google.com [209.85.214.226]) by mails.dpdk.org (Postfix) with ESMTP id CB94840261 for ; Sun, 2 Nov 2025 18:20:12 +0100 (CET) Received: by mail-pl1-f226.google.com with SMTP id d9443c01a7336-294fb21b160so25272655ad.1 for ; Sun, 02 Nov 2025 09:20:12 -0800 (PST) DKIM-Signature: v=1; a=rsa-sha256; c=relaxed/relaxed; d=iol.unh.edu; s=unh-iol; t=1762104012; x=1762708812; darn=dpdk.org; h=references:in-reply-to:cc:to:from:subject:message-id:date:from:to :cc:subject:date:message-id:reply-to; bh=1B2RXlnzYBgo2jX/+oCgAVyAlhmSPJ21hVrLBBq+iWo=; b=HhXFn/IYqmj4fQrMRQsRuRSe4mKdADxTBW4I2boZLobW6aQc5+n7FZWoNHhcUS4Uyr HE0iDx+aP5lslWwXVpAxkRTUmg7V4aSlP8W0bzUBvWlxq0xe0nU2yzKpiKMTx1KMGm/2 DdOiL4xV7JoV0e6rGI96WA4UbhLkfH9LWVg4M= X-Google-DKIM-Signature: v=1; a=rsa-sha256; c=relaxed/relaxed; d=1e100.net; s=20230601; t=1762104012; x=1762708812; h=references:in-reply-to:cc:to:from:subject:message-id:date :x-gm-message-state:from:to:cc:subject:date:message-id:reply-to; bh=1B2RXlnzYBgo2jX/+oCgAVyAlhmSPJ21hVrLBBq+iWo=; b=hxOdIZ3XrDpt8ZlrTFp3a/aB3gkDmmUinKJDvSgzyBnt3OKJJ+LjQivtxT//7MMXNr MlhBZ/r8Nwke+Rs8undmsHYl6Y/sWa6Bb218S6bVxPQty2qB9gdkR7pd9fHYTXt0ftj4 x+wm1o8TKD1NI+028tIUgioeLEqkemR1g4i3wy/f4OlFFqBNKdUmj6YjM/WXf2+Yjk5O YKzuxgy8g6TB36Z52cnOJeD0WZ8+9o3cGRXDRQTUUzDVT6x2SjWJO8PQw/mh9Nc8mIub hnAz8HrunTC4dyNOc45i09IiJARNW+8oCsKx9KHZfy+ms4NrMMzxzMSQSlVZuSwwcMwY Zuog== X-Gm-Message-State: AOJu0YzB4b1bjQTxkyOOx+FHE3o4O3ng6UnjvhrG9QfEf5Pz6Z/bm60u MFIlPUzyj69kH0uK0WgkeSjAZz+9Cu+Zo5gaKJo5cpZevSIQOjleS2s7mmRK6OCtRB7xkSUAMQa 2CXqZy3+/I5qxN1CggD6JJCq9ggZXre5+uO/urBK+KXVp X-Gm-Gg: ASbGncvtZFcCgQguu6vGtgQQhmZWpe90zTvhbrtl5sRLVKygWi/oLz2QfeJYXDD4trF qFiS9+9Rf5vLsnWZpMkjGA/9UsuOwUDgcLQzddi8P6HST62g1nbXfSuEGtc+hD0PMreEmSrSmeG kWLy/F7moRtLRyXZgk1hT/1+ppsbvd/jAkWqBcP34g/D4nXQGK2AJXePgqH6FWUtm5sktV1T5ge kirn4cPrjRA+zuScYnKEyGoeMJ8KyArw/3Bwf1njVaJel5hVaDi/npqhsBT9W1gIQVLEwctRdgK wQ1PNkfnd4ckUprceZw4jtEIlr6XozCunMSEdYweiKduASSmen+6SJvLm0rtuEOjZIFuXuD5UCJ MpyH80beIVd3qzXc8/ZU0/wp7Gn4IX7w= X-Google-Smtp-Source: AGHT+IFNnoHeFBFFUTy3xwU20CRfJoXIeZpKP1BOaTGgj7zxDKvkoj5UgMJB5xRoL+OVBiSgkThbyIPLgQQ0 X-Received: by 2002:a17:903:2305:b0:295:3eb5:6de8 with SMTP id d9443c01a7336-2953eb56fddmr80992035ad.12.1762104011972; Sun, 02 Nov 2025 09:20:11 -0800 (PST) Received: from postal.iol.unh.edu (postal.iol.unh.edu. [132.177.123.84]) by smtp-relay.gmail.com with ESMTPS id d9443c01a7336-29535080be8sm6394825ad.51.2025.11.02.09.20.11 (version=TLS1_2 cipher=ECDHE-ECDSA-AES128-GCM-SHA256 bits=128/128); Sun, 02 Nov 2025 09:20:11 -0800 (PST) X-Relaying-Domain: iol.unh.edu Date: Sun, 02 Nov 2025 09:20:11 -0800 (PST) Message-ID: <690792cb.170a0220.10b3fe.1059SMTPIN_ADDED_MISSING@mx.google.com> Received: from [172.21.0.3] (unknown [172.18.0.240]) by postal.iol.unh.edu (Postfix) with ESMTP id 660E96051830; Sun, 2 Nov 2025 12:20:11 -0500 (EST) Subject: |WARNING| pw158334-158338 [PATCH] [5/5] net/mlx5: remove useless con From: dpdklab@iol.unh.edu To: Test Report Cc: dpdk-test-reports@iol.unh.edu In-Reply-To: <20251102155617.4001783-6-thomas@monjalon.net> References: <20251102155617.4001783-6-thomas@monjalon.net> Content-Type: text/plain X-BeenThere: test-report@dpdk.org X-Mailman-Version: 2.1.29 Precedence: list List-Id: automatic DPDK test reports List-Unsubscribe: , List-Archive: List-Post: List-Help: List-Subscribe: , Errors-To: test-report-bounces@dpdk.org Test-Label: iol-compile-amd64-testing Test-Status: WARNING http://dpdk.org/patch/158338 _Testing issues_ Submitter: Thomas Monjalon Date: Sunday, November 02 2025 15:53:04 DPDK git baseline: Repo:dpdk Branch: master CommitID:8c4861d00aabcf54ef9d6f1df2a4cfb37c06f6c2 158334-158338 --> testing issues Upstream job id: Generic-DPDK-Compile-Meson#440024 Test environment and result as below: +-------------------------------+--------------------+-------------------+------------------+-------------------------+-------------------+----------------------+ | Environment | dpdk_meson_compile | dpdk_compile_spdk | dpdk_compile_ovs | dpdk_llvm_clang_compile | dpdk_msvc_compile | dpdk_mingw64_compile | +===============================+====================+===================+==================+=========================+===================+======================+ | Debian GNU/Linux 12 | PASS | WARN | SKIPPED | SKIPPED | SKIPPED | SKIPPED | +-------------------------------+--------------------+-------------------+------------------+-------------------------+-------------------+----------------------+ | Alpine Linux 3.22.0 | PASS | SKIPPED | SKIPPED | SKIPPED | SKIPPED | SKIPPED | +-------------------------------+--------------------+-------------------+------------------+-------------------------+-------------------+----------------------+ | CentOS Stream 9 | PASS | WARN | SKIPPED | SKIPPED | SKIPPED | SKIPPED | +-------------------------------+--------------------+-------------------+------------------+-------------------------+-------------------+----------------------+ | Fedora Linux 42 | PASS | WARN | PASS | SKIPPED | SKIPPED | SKIPPED | +-------------------------------+--------------------+-------------------+------------------+-------------------------+-------------------+----------------------+ | CentOS Stream 10 | PASS | SKIPPED | SKIPPED | SKIPPED | SKIPPED | SKIPPED | +-------------------------------+--------------------+-------------------+------------------+-------------------------+-------------------+----------------------+ | openSUSE Leap 15.6 | PASS | SKIPPED | SKIPPED | SKIPPED | SKIPPED | SKIPPED | +-------------------------------+--------------------+-------------------+------------------+-------------------------+-------------------+----------------------+ | Red Hat Enterprise Linux 9.5 | PASS | SKIPPED | SKIPPED | SKIPPED | SKIPPED | SKIPPED | +-------------------------------+--------------------+-------------------+------------------+-------------------------+-------------------+----------------------+ | Red Hat Enterprise Linux 8.10 | PASS | SKIPPED | SKIPPED | SKIPPED | SKIPPED | SKIPPED | +-------------------------------+--------------------+-------------------+------------------+-------------------------+-------------------+----------------------+ | Ubuntu 24.04 | PASS | WARN | PASS | SKIPPED | SKIPPED | SKIPPED | +-------------------------------+--------------------+-------------------+------------------+-------------------------+-------------------+----------------------+ | Ubuntu 20.04 | PASS | SKIPPED | SKIPPED | SKIPPED | SKIPPED | SKIPPED | +-------------------------------+--------------------+-------------------+------------------+-------------------------+-------------------+----------------------+ | Ubuntu 22.04 | PASS | WARN | SKIPPED | SKIPPED | SKIPPED | SKIPPED | +-------------------------------+--------------------+-------------------+------------------+-------------------------+-------------------+----------------------+ | FreeBSD 14.2 | PASS | SKIPPED | SKIPPED | SKIPPED | SKIPPED | SKIPPED | +-------------------------------+--------------------+-------------------+------------------+-------------------------+-------------------+----------------------+ | Windows Server 2022 | SKIPPED | SKIPPED | SKIPPED | PASS | PASS | PASS | +-------------------------------+--------------------+-------------------+------------------+-------------------------+-------------------+----------------------+ ==== 20 line log output for Ubuntu 22.04 (dpdk_compile_spdk): ==== --- Failed to get log output --- ==== End log output ==== Debian GNU/Linux 12 Kernel: 5.15 Compiler: gcc gcc (Debian 12.2.0-14+deb12u1) 12.2.0 Alpine Linux 3.22.0 Kernel: 5.15 Compiler: gcc gcc (Alpine 14.2.0) 14.2.0 CentOS Stream 9 Kernel: 5.15 Compiler: gcc gcc (GCC) 11.5.0 20240719 (Red Hat 11.5.0-11) Fedora Linux 42 Kernel: 5.15 Compiler: clang gcc (GCC) 15.2.1 20250808 (Red Hat 15.2.1-1) CentOS Stream 10 Kernel: 5.15 Compiler: gcc gcc (GCC) 14.2.1 20250110 (Red Hat 14.2.1-8) openSUSE Leap 15.6 Kernel: 5.15 Compiler: gcc gcc (SUSE Linux) 7.5.0 Red Hat Enterprise Linux 9.5 Kernel: 5.15 Compiler: gcc gcc (GCC) 11.5.0 20240719 (Red Hat 11.5.0-2) Red Hat Enterprise Linux 8.10 Kernel: 5.15 Compiler: gcc gcc (GCC) 8.5.0 20210514 (Red Hat 8.5.0-22) Ubuntu 24.04 Kernel: 5.15 Compiler: gcc gcc (Ubuntu 13.3.0-6ubuntu2~24.04) 13.3.0 Ubuntu 20.04 Kernel: 4.19 Compiler: gcc gcc (Ubuntu 9.4.0-1ubuntu1~20.04.2) 9.4.0 Ubuntu 22.04 Kernel: 5.15 Compiler: gcc gcc (Ubuntu 11.4.0-1ubuntu1~22.04) 11.4.0 FreeBSD 14.2 Kernel: 14.2-RELEASE Compiler: clang 18.1.6 Windows Server 2022 Kernel: 10.0.20348.2031 Compiler: clang 15.0.7, gcc 14.1.0 (MinGW), and MSVC VS 19.39.33521 To view detailed results, visit: https://lab.dpdk.org/results/dashboard/patchsets/34441/ UNH-IOL DPDK Community Lab To manage your email subscriptions, visit: https://lab.dpdk.org/results/dashboard/preferences/subscriptions/