From mboxrd@z Thu Jan 1 00:00:00 1970 Return-Path: Received: from mails.dpdk.org (mails.dpdk.org [217.70.189.124]) by inbox.dpdk.org (Postfix) with ESMTP id E284F48A67 for ; Sun, 2 Nov 2025 18:20:16 +0100 (CET) Received: from mails.dpdk.org (localhost [127.0.0.1]) by mails.dpdk.org (Postfix) with ESMTP id DD10F402D3; Sun, 2 Nov 2025 18:20:16 +0100 (CET) Received: from mail-il1-f226.google.com (mail-il1-f226.google.com [209.85.166.226]) by mails.dpdk.org (Postfix) with ESMTP id 21828402D3 for ; Sun, 2 Nov 2025 18:20:15 +0100 (CET) Received: by mail-il1-f226.google.com with SMTP id e9e14a558f8ab-431d65ad973so14906315ab.3 for ; Sun, 02 Nov 2025 09:20:15 -0800 (PST) DKIM-Signature: v=1; a=rsa-sha256; c=relaxed/relaxed; d=iol.unh.edu; s=unh-iol; t=1762104014; x=1762708814; darn=dpdk.org; h=references:in-reply-to:cc:to:from:subject:message-id:date:from:to :cc:subject:date:message-id:reply-to; bh=cXnvU7dk9QNjk13RuBhcsdaIG1BXBccg8fbdLAQSckE=; b=CiSUdPmpEXKQVVsST+wUr0mk28QMvRVJJLyy+guZnuwFL6IIa8FafjF9o2Y+RHcbOw P0as5AS/pGjrxhV4XEtaLB5+TSsTB2C8rGJ0D+8jFxPV/e6P5tblSDvIUTxStDL7Q8/l wEorq904ut/wPJBtaU8Ca9yr/95u+ro7rT4Po= X-Google-DKIM-Signature: v=1; a=rsa-sha256; c=relaxed/relaxed; d=1e100.net; s=20230601; t=1762104014; x=1762708814; h=references:in-reply-to:cc:to:from:subject:message-id:date :x-gm-message-state:from:to:cc:subject:date:message-id:reply-to; bh=cXnvU7dk9QNjk13RuBhcsdaIG1BXBccg8fbdLAQSckE=; b=BLON8Bsg44hVU31OkndiGC/L24UlNtUqz+s47R41YHwP1xx8oFReSHch9Y0AWSt0h6 SyYdBljoNJaYtfsc/y9lDFkYAJJZLCZLfhqZLmSWPjUreWMSJwg7X8TvFwGlJMBiCJpC dteeaRtVLDGWrcuxdBemtjn7WFgJ5m4e77iqzRiaAL+vpLoXBcQ4J75nkoawGZEBL7B6 W0ywzxcAPoD+f9sm+f1Hp+Aj+m+4buidk9/DnRb83JE2vFGBZCn7OivS8oysMMoh9X5F nZuzP9TUKNwpge7R/PRkrZ6Zvwk7PBz4b+mZJt56NIWliM7IQK5TRtWu5ux8k0Z7aKJ6 4dqQ== X-Gm-Message-State: AOJu0YyHgTa5ug/DFEUvRQ5SHarjOc6UL0uIYU7SrEDVhBEXHcgjizXg /l4earYqW5jmHUDYifSGTtfda6UP9CvU22hUOYBFpSS7UJeF3DbDrqDEqUk26ujuti1M+oVoG10 5U/JEaSHU6tdTag0g2MFRMeAzZnp/W+0gsb3nZ2bAnTGl X-Gm-Gg: ASbGncuLXHxWiPF1GBem/kCB8jSVftMBZTwzf58TBjDEXX7V9/mTtIJ/fLPoofjCFS9 xGHqXOjVRUaBpLMGj8ku1BpCkEv1WVS8RO3kZnXKM1YnfQIb/bLmncU0HG2HwQjD+t0t/T+AoP1 FP4e4TZxYQvyWxLHKlFyRKlfEyTsOhIyg7BrBAR5WWdIqlXfkBkzLTZMiTnCpfwM1fapI7N1BCs oIoTP+mWt3GX+iqIb1o1m7o6MWKBQUvUSvGORew5Otjg5HsmtKevd3pXdFUcjHFswZnptWQQJYO WvH4ziTf17lVGRgeg1jaVUEkxJJMVcwFOY9sxj3p5RNal6baoqGiatMedHT1eMAcbbyV87Da+WM AwWYGrL+zeeUZ0P40b0F//33Ohogrkdc= X-Google-Smtp-Source: AGHT+IFuzb3uBrKa7kdxMeWsD2ynK9MomdsxNbGx+pHVkajsWZOOKKwI9voru3r4g1CEj+qPDGU2r/23Bdd2 X-Received: by 2002:a05:6e02:1a28:b0:42d:8b25:47ed with SMTP id e9e14a558f8ab-4330d127eafmr143981875ab.6.1762104014403; Sun, 02 Nov 2025 09:20:14 -0800 (PST) Received: from postal.iol.unh.edu (postal.iol.unh.edu. [132.177.123.84]) by smtp-relay.gmail.com with ESMTPS id 8926c6da1cb9f-5b70f4c527fsm228702173.27.2025.11.02.09.20.14 (version=TLS1_2 cipher=ECDHE-ECDSA-AES128-GCM-SHA256 bits=128/128); Sun, 02 Nov 2025 09:20:14 -0800 (PST) X-Relaying-Domain: iol.unh.edu Date: Sun, 02 Nov 2025 09:20:14 -0800 (PST) Message-ID: <690792ce.050a0220.153992.c4b2SMTPIN_ADDED_MISSING@mx.google.com> Received: from [172.21.0.2] (unknown [172.18.0.240]) by postal.iol.unh.edu (Postfix) with ESMTP id ED8EE6051830; Sun, 2 Nov 2025 12:20:13 -0500 (EST) Subject: |SUCCESS| pw158334-158338 [PATCH] [5/5] net/mlx5: remove useless con From: dpdklab@iol.unh.edu To: Test Report Cc: dpdk-test-reports@iol.unh.edu In-Reply-To: <20251102155617.4001783-6-thomas@monjalon.net> References: <20251102155617.4001783-6-thomas@monjalon.net> Content-Type: text/plain X-BeenThere: test-report@dpdk.org X-Mailman-Version: 2.1.29 Precedence: list List-Id: automatic DPDK test reports List-Unsubscribe: , List-Archive: List-Post: List-Help: List-Subscribe: , Errors-To: test-report-bounces@dpdk.org Test-Label: iol-unit-amd64-testing Test-Status: SUCCESS http://dpdk.org/patch/158338 _Testing PASS_ Submitter: Thomas Monjalon Date: Sunday, November 02 2025 15:53:04 DPDK git baseline: Repo:dpdk Branch: master CommitID:8c4861d00aabcf54ef9d6f1df2a4cfb37c06f6c2 158334-158338 --> testing pass Upstream job id: Generic-VM-Unit-Test-DPDK#32236 Test environment and result as below: +-------------------------------+----------------+ | Environment | dpdk_unit_test | +===============================+================+ | Fedora Linux 41 | PASS | +-------------------------------+----------------+ | Fedora Linux 40 | PASS | +-------------------------------+----------------+ | Ubuntu 24.04 | PASS | +-------------------------------+----------------+ | Red Hat Enterprise Linux 8.10 | PASS | +-------------------------------+----------------+ | Ubuntu 20.04 | PASS | +-------------------------------+----------------+ | Ubuntu 22.04 | PASS | +-------------------------------+----------------+ | CentOS Stream 10 | PASS | +-------------------------------+----------------+ | CentOS Stream 9 | PASS | +-------------------------------+----------------+ | Fedora Linux 42 | PASS | +-------------------------------+----------------+ | Red Hat Enterprise Linux 9.5 | PASS | +-------------------------------+----------------+ | Debian GNU/Linux 12 | PASS | +-------------------------------+----------------+ | Windows Server 2022 | PASS | +-------------------------------+----------------+ Fedora Linux 41 Kernel: 5.15 Compiler: gcc gcc (GCC) 14.3.1 20250523 (Red Hat 14.3.1-1) Fedora Linux 40 Kernel: 5.15 Compiler: clang gcc (GCC) 14.2.1 20240912 (Red Hat 14.2.1-3) Ubuntu 24.04 Kernel: 5.15 Compiler: gcc gcc (Ubuntu 13.3.0-6ubuntu2~24.04) 13.3.0 Red Hat Enterprise Linux 8.10 Kernel: 5.15 Compiler: gcc gcc (GCC) 8.5.0 20210514 (Red Hat 8.5.0-22) Ubuntu 20.04 Kernel: 5.15 Compiler: gcc gcc (Ubuntu 9.4.0-1ubuntu1~20.04.2) 9.4.0 Ubuntu 22.04 Kernel: 5.15 Compiler: gcc gcc (Ubuntu 11.4.0-1ubuntu1~22.04) 11.4.0 CentOS Stream 10 Kernel: 5.15 Compiler: gcc gcc (GCC) 14.2.1 20250110 (Red Hat 14.2.1-8) CentOS Stream 9 Kernel: 5.15 Compiler: gcc gcc (GCC) 11.5.0 20240719 (Red Hat 11.5.0-11) Fedora Linux 42 Kernel: 5.15 Compiler: clang gcc (GCC) 15.2.1 20250808 (Red Hat 15.2.1-1) Red Hat Enterprise Linux 9.5 Kernel: 5.15 Compiler: gcc gcc (GCC) 11.5.0 20240719 (Red Hat 11.5.0-2) Debian GNU/Linux 12 Kernel: 5.15 Compiler: gcc gcc (Debian 12.2.0-14+deb12u1) 12.2.0 Windows Server 2022 Kernel: 10.0.20348.2031 Compiler: clang 15.0.7, gcc 14.1.0 (MinGW), and MSVC VS 19.39.33521 To view detailed results, visit: https://lab.dpdk.org/results/dashboard/patchsets/34441/ UNH-IOL DPDK Community Lab To manage your email subscriptions, visit: https://lab.dpdk.org/results/dashboard/preferences/subscriptions/