From mboxrd@z Thu Jan 1 00:00:00 1970 Return-Path: Received: from mails.dpdk.org (mails.dpdk.org [217.70.189.124]) by inbox.dpdk.org (Postfix) with ESMTP id 3A63E48A6C for ; Sun, 2 Nov 2025 18:43:08 +0100 (CET) Received: from mails.dpdk.org (localhost [127.0.0.1]) by mails.dpdk.org (Postfix) with ESMTP id 1943B40261; Sun, 2 Nov 2025 18:43:08 +0100 (CET) Received: from mail-il1-f228.google.com (mail-il1-f228.google.com [209.85.166.228]) by mails.dpdk.org (Postfix) with ESMTP id 37AFF40261 for ; Sun, 2 Nov 2025 18:43:07 +0100 (CET) Received: by mail-il1-f228.google.com with SMTP id e9e14a558f8ab-43321629a25so15178805ab.3 for ; Sun, 02 Nov 2025 09:43:07 -0800 (PST) DKIM-Signature: v=1; a=rsa-sha256; c=relaxed/relaxed; d=iol.unh.edu; s=unh-iol; t=1762105386; x=1762710186; darn=dpdk.org; h=references:in-reply-to:cc:to:from:subject:message-id:date:from:to :cc:subject:date:message-id:reply-to; bh=fOotrvm6/Pti27Wg+r3lRf69NWxYMfgugdB4dPZy1ZI=; b=EPo07dtdAYyELna7X5x4wRjBWPit4ebomw0I77ng5D9zahGMJXcUyL8aWxqVQOUX4e Im6iqH1S+H4ub599Yt3f8RZ3uMbY0cIv4+VrBhEpXxNOlXUrlotZt3m/p8CEH5ARQNLX SzRpNzqJ24UnUKqHpEEkC4ZNpLkWLvTeQ+KQ4= X-Google-DKIM-Signature: v=1; a=rsa-sha256; c=relaxed/relaxed; d=1e100.net; s=20230601; t=1762105386; x=1762710186; h=references:in-reply-to:cc:to:from:subject:message-id:date :x-gm-message-state:from:to:cc:subject:date:message-id:reply-to; bh=fOotrvm6/Pti27Wg+r3lRf69NWxYMfgugdB4dPZy1ZI=; b=XqzZjDuk+DPDbhokmaGFhDM01AOdTTWxfR4ouJD7b93ehF9zj2dDW0B2qcpT9MVQKp C0ZQqWUmfMRdU5IEqfIEkg9Bmpz0LwJCdka1ZOHYt/qof8gL7+vftHbXn0HSpaOrDzZL Y5gItdYakRp6EHRCR4/4tFi/Ww+5ex0q1Y5wgucMmUkXSHMZO0/iVV2BPgWdPM/wys2/ X2hEwnNrCu7dWeNsdJwMivPVM2s0gBhwU8SDAFawcg/gmuGMsEl9fxn/rgyqKJTbTxO+ 3dyb6GjzjYIjYgIAJ8l4ZWT6/NwwrVmtWXgFTM4J/hF+6G9L4j4EUBgbmCxiFNYYxENp 620w== X-Gm-Message-State: AOJu0Yylohsp+Q77ZEMhRbc/FnNwqQSDxpb86wW/emdGIr1no/u/ap2m EcSw6Cdtm0Jco6NP1xxMY2/bX/6qVSc6wKC2ZEEBNAW1O4Aqp7Ojz4Ekciwbe5tsYc9yYCvxglU QEltJkQ6L9AmB8ThVw5jgL5st95LROQI1xLas5d25lmUb/M6XwT5yHyFK4jYj X-Gm-Gg: ASbGnctl76hWNEZTe5lwBbkn6JLjbXBS0NSJYO4yccxhgvQq4QYb/HkLjrPVKXENuyk F4lOZWZxNQZzHdF5aeKnSUlnK93tiXg+w8Gf2HYrD51+kCb92nZesvctCqVbd0NY27Z5TQYhSgf kxXci3agkIcEEJTdLxL0KRjpQB7VEWaq0Mm5fZ0EhHcXyUDeheo1hYPnbLm5df4+MNK2v4HN41s g0fdSLUkbNwT4Fi/ux6MxhIiJ/V+7CMh5X/TYBpmwbHaiK/Qa3/zB/5Lt+R5k8A/UsHm4Kcg42X CsxLheFMq5ShlVFRhGwQbxXFcEk50T1GdSZZ9RC611cFexsSAtA/nvb4Son4PKND2PqdoIS8dwB JcXmTH8AM X-Google-Smtp-Source: AGHT+IFrmQ0WDL3PnkqWVfB//P9c2O0p6uxmee9p2wBS+xL+bHswgqmXFS9E1R+hqh+0mWLL3W9RM7jzAE7v X-Received: by 2002:a92:c267:0:b0:433:2839:d5a5 with SMTP id e9e14a558f8ab-4332839ec18mr48009855ab.9.1762105386507; Sun, 02 Nov 2025 09:43:06 -0800 (PST) Received: from postal.iol.unh.edu (postal.iol.unh.edu. [2606:4100:3880:1234::84]) by smtp-relay.gmail.com with ESMTPS id e9e14a558f8ab-433292374besm2147395ab.24.2025.11.02.09.43.06 (version=TLS1_2 cipher=ECDHE-ECDSA-AES128-GCM-SHA256 bits=128/128); Sun, 02 Nov 2025 09:43:06 -0800 (PST) X-Relaying-Domain: iol.unh.edu Date: Sun, 02 Nov 2025 09:43:06 -0800 (PST) Message-ID: <6907982a.050a0220.75064.b3e5SMTPIN_ADDED_MISSING@mx.google.com> Received: from [172.21.0.2] (unknown [172.18.0.240]) by postal.iol.unh.edu (Postfix) with ESMTP id 083E86051830; Sun, 2 Nov 2025 12:43:06 -0500 (EST) Subject: |WARNING| pw158339 [PATCH] maintainers: remove some inactives From: dpdklab@iol.unh.edu To: Test Report Cc: dpdk-test-reports@iol.unh.edu In-Reply-To: <20251102161410.4004823-1-thomas@monjalon.net> References: <20251102161410.4004823-1-thomas@monjalon.net> Content-Type: text/plain X-BeenThere: test-report@dpdk.org X-Mailman-Version: 2.1.29 Precedence: list List-Id: automatic DPDK test reports List-Unsubscribe: , List-Archive: List-Post: List-Help: List-Subscribe: , Errors-To: test-report-bounces@dpdk.org Test-Label: iol-compile-amd64-testing Test-Status: WARNING http://dpdk.org/patch/158339 _Testing issues_ Submitter: Thomas Monjalon Date: Sunday, November 02 2025 16:14:10 DPDK git baseline: Repo:dpdk Branch: master CommitID:8c4861d00aabcf54ef9d6f1df2a4cfb37c06f6c2 158339 --> testing issues Upstream job id: Windows-Compile-DPDK-Native#32063 Test environment and result as below: +-------------------------------+--------------------+-------------------+------------------+-------------------+-------------------------+ | Environment | dpdk_meson_compile | dpdk_compile_spdk | dpdk_compile_ovs | dpdk_msvc_compile | dpdk_llvm_clang_compile | +===============================+====================+===================+==================+===================+=========================+ | CentOS Stream 9 | PASS | WARN | SKIPPED | SKIPPED | SKIPPED | +-------------------------------+--------------------+-------------------+------------------+-------------------+-------------------------+ | Debian GNU/Linux 12 | PASS | WARN | SKIPPED | SKIPPED | SKIPPED | +-------------------------------+--------------------+-------------------+------------------+-------------------+-------------------------+ | CentOS Stream 10 | PASS | SKIPPED | SKIPPED | SKIPPED | SKIPPED | +-------------------------------+--------------------+-------------------+------------------+-------------------+-------------------------+ | Red Hat Enterprise Linux 9.5 | PASS | SKIPPED | SKIPPED | SKIPPED | SKIPPED | +-------------------------------+--------------------+-------------------+------------------+-------------------+-------------------------+ | openSUSE Leap 15.6 | PASS | SKIPPED | SKIPPED | SKIPPED | SKIPPED | +-------------------------------+--------------------+-------------------+------------------+-------------------+-------------------------+ | Fedora Linux 42 | PASS | WARN | PASS | SKIPPED | SKIPPED | +-------------------------------+--------------------+-------------------+------------------+-------------------+-------------------------+ | Red Hat Enterprise Linux 8.10 | PASS | SKIPPED | SKIPPED | SKIPPED | SKIPPED | +-------------------------------+--------------------+-------------------+------------------+-------------------+-------------------------+ | Ubuntu 20.04 | PASS | SKIPPED | SKIPPED | SKIPPED | SKIPPED | +-------------------------------+--------------------+-------------------+------------------+-------------------+-------------------------+ | Ubuntu 22.04 | PASS | WARN | SKIPPED | SKIPPED | SKIPPED | +-------------------------------+--------------------+-------------------+------------------+-------------------+-------------------------+ | Ubuntu 24.04 | PASS | WARN | PASS | SKIPPED | SKIPPED | +-------------------------------+--------------------+-------------------+------------------+-------------------+-------------------------+ | FreeBSD 14.2 | PASS | SKIPPED | SKIPPED | SKIPPED | SKIPPED | +-------------------------------+--------------------+-------------------+------------------+-------------------+-------------------------+ | Alpine Linux 3.22.0 | PASS | SKIPPED | SKIPPED | SKIPPED | SKIPPED | +-------------------------------+--------------------+-------------------+------------------+-------------------+-------------------------+ | Windows Server 2022 | SKIPPED | SKIPPED | SKIPPED | PASS | PASS | +-------------------------------+--------------------+-------------------+------------------+-------------------+-------------------------+ ==== 20 line log output for Ubuntu 24.04 (dpdk_compile_spdk): ==== --- Failed to get log output --- ==== End log output ==== CentOS Stream 9 Kernel: 5.15 Compiler: gcc gcc (GCC) 11.5.0 20240719 (Red Hat 11.5.0-11) Debian GNU/Linux 12 Kernel: 5.15 Compiler: gcc gcc (Debian 12.2.0-14+deb12u1) 12.2.0 CentOS Stream 10 Kernel: 5.15 Compiler: gcc gcc (GCC) 14.2.1 20250110 (Red Hat 14.2.1-8) Red Hat Enterprise Linux 9.5 Kernel: 5.15 Compiler: gcc gcc (GCC) 11.5.0 20240719 (Red Hat 11.5.0-2) openSUSE Leap 15.6 Kernel: 5.15 Compiler: gcc gcc (SUSE Linux) 7.5.0 Fedora Linux 42 Kernel: 5.15 Compiler: gcc gcc (GCC) 15.2.1 20250808 (Red Hat 15.2.1-1) Red Hat Enterprise Linux 8.10 Kernel: 5.15 Compiler: gcc gcc (GCC) 8.5.0 20210514 (Red Hat 8.5.0-22) Ubuntu 20.04 Kernel: 5.15 Compiler: gcc gcc (Ubuntu 9.4.0-1ubuntu1~20.04.2) 9.4.0 Ubuntu 22.04 Kernel: 5.15 Compiler: gcc gcc (Ubuntu 11.4.0-1ubuntu1~22.04) 11.4.0 Ubuntu 24.04 Kernel: 5.15 Compiler: gcc gcc (Ubuntu 13.3.0-6ubuntu2~24.04) 13.3.0 FreeBSD 14.2 Kernel: 14.2-RELEASE Compiler: clang 18.1.6 Alpine Linux 3.22.0 Kernel: 5.15 Compiler: gcc gcc (Alpine 14.2.0) 14.2.0 Windows Server 2022 Kernel: 10.0.20348.2031 Compiler: clang 15.0.7, gcc 14.1.0 (MinGW), and MSVC VS 19.39.33521 To view detailed results, visit: https://lab.dpdk.org/results/dashboard/patchsets/34442/ UNH-IOL DPDK Community Lab To manage your email subscriptions, visit: https://lab.dpdk.org/results/dashboard/preferences/subscriptions/