From mboxrd@z Thu Jan 1 00:00:00 1970 Return-Path: Received: from mails.dpdk.org (mails.dpdk.org [217.70.189.124]) by inbox.dpdk.org (Postfix) with ESMTP id E505D48A6B for ; Sun, 2 Nov 2025 18:51:10 +0100 (CET) Received: from mails.dpdk.org (localhost [127.0.0.1]) by mails.dpdk.org (Postfix) with ESMTP id B78FF40261; Sun, 2 Nov 2025 18:51:10 +0100 (CET) Received: from mail-oa1-f97.google.com (mail-oa1-f97.google.com [209.85.160.97]) by mails.dpdk.org (Postfix) with ESMTP id 6A16A40261 for ; Sun, 2 Nov 2025 18:51:09 +0100 (CET) Received: by mail-oa1-f97.google.com with SMTP id 586e51a60fabf-3c9c379af8aso2514869fac.1 for ; Sun, 02 Nov 2025 09:51:09 -0800 (PST) DKIM-Signature: v=1; a=rsa-sha256; c=relaxed/relaxed; d=iol.unh.edu; s=unh-iol; t=1762105868; x=1762710668; darn=dpdk.org; h=references:in-reply-to:cc:to:from:subject:message-id:date:from:to :cc:subject:date:message-id:reply-to; bh=H1kQAHQ26X+9GL62kw9Jhcp9oUl55IAWDVk1vfgkT3w=; b=QBSwW3ULSkuzW3dC36mZ9AhxVfw09TkoJataGzxh0ic7Nw/J0/zx6c0xrJ9uWH+UdB m/dtKIAUPWfodRYCOtskEJ+I/LDTSOl9aL5TASJZGoyONj/goo/LGhrRGY5Cw+O2y/lq jV1K9OyvwQJa6iskfSbmYdxDW2UBVbfBr3j08= X-Google-DKIM-Signature: v=1; a=rsa-sha256; c=relaxed/relaxed; d=1e100.net; s=20230601; t=1762105868; x=1762710668; h=references:in-reply-to:cc:to:from:subject:message-id:date :x-gm-message-state:from:to:cc:subject:date:message-id:reply-to; bh=H1kQAHQ26X+9GL62kw9Jhcp9oUl55IAWDVk1vfgkT3w=; b=ct9fDysPfIy6OiJFgpXqZgWz+CX+aOsNyy/cEqoJJ6R5ngULrb95wdbT3RNxNOqkvN coUlXtD4gTA7tUD8q97qFrGKtiQHUl0duZjVeZY1jumFdS0hyb1rzM/RXJV4DiL5AmcH EvPwnCR1BNGHm7l+n5q1ZM/knQFqCWn8nYS/tKrE5EqRX6U2TbqMr/82EpBEdSCOSg7y tV4tqcXzdBTVIPhS63PVt8TCjRmxhAKWxKN+btKveddwmkcuUj7sTusGBX4LGIN+PTsz reVYu2+riAGEDp9MRRYnjE8dfm1tiVKKBU7ZUdaBUIBV3IyCvm90ER4ecxvMdcHLUlGb FAlg== X-Gm-Message-State: AOJu0Yzi4d9gBl2nzNqu1jUz2vnsIzxeCRiux1dvIL2s10UhftqUkBCG SNnRmXqmJ1T3+hT4qpKS8o8QDNv06Xj/rBJtM1LsAd5Af00Zk6+PEeW8I2gyVuJaC9E3uXuDB6Z /+1USLRz2bEDa/ozTzDKJa6K7tQS0Ou54ZWsffVP3mQGa X-Gm-Gg: ASbGnct57ixq/PCNyBP5/d+yT1ZJJ6XFuNbe5XoTKfLhllyDky4KPTEPIu0ISw71tEM FEfqvbjEWDGwp3ubj22LcDngamNp4tuvA9KUfPc58zR31ny2+HG0LWhnSYa40KYVkPf50d3pIWT 27whEpyBkQMSvLItz2m1hmgk4bt/lZXZeZ6suWSFVmIW815MCGp3pg+4e8tUG9gmWZwaQI1Youa BwYymHV8Iee4Fy4QapgiZS4YTP7l1jnMB8M/t9/dCwzYsqovWDoQ4IiDY1aW/8mHV5hlXztaU1k wpCAeGdlpOZ9JeBbrOfeQSSZqeyxTlA1JC3gZyEoUuDNt5rluQ23nYmO4lyu8GRcKG4PMXqQfS0 a09KF3WH1mPpgR62bUC6IUsaWhJdjbcM= X-Google-Smtp-Source: AGHT+IGDUnkzz0p8g4YprSmItHPwFQ92rFofh3FExhxa2gdrPB3tvVCV50Xjh7pbww7uFWKS6N3+rTj6K66j X-Received: by 2002:a05:6870:b510:b0:3b0:31e5:a6bc with SMTP id 586e51a60fabf-3dab6af7256mr4175347fac.0.1762105868459; Sun, 02 Nov 2025 09:51:08 -0800 (PST) Received: from postal.iol.unh.edu (postal.iol.unh.edu. [132.177.123.84]) by smtp-relay.gmail.com with ESMTPS id 586e51a60fabf-3db41ea04e2sm750761fac.17.2025.11.02.09.51.08 (version=TLS1_2 cipher=ECDHE-ECDSA-AES128-GCM-SHA256 bits=128/128); Sun, 02 Nov 2025 09:51:08 -0800 (PST) X-Relaying-Domain: iol.unh.edu Date: Sun, 02 Nov 2025 09:51:08 -0800 (PST) Message-ID: <69079a0c.050a0220.320c1d.6f82SMTPIN_ADDED_MISSING@mx.google.com> Received: from [172.21.0.2] (unknown [172.18.0.240]) by postal.iol.unh.edu (Postfix) with ESMTP id EBDC66051830; Sun, 2 Nov 2025 12:51:07 -0500 (EST) Subject: |SUCCESS| pw158339 [PATCH] maintainers: remove some inactives From: dpdklab@iol.unh.edu To: Test Report Cc: dpdk-test-reports@iol.unh.edu In-Reply-To: <20251102161410.4004823-1-thomas@monjalon.net> References: <20251102161410.4004823-1-thomas@monjalon.net> Content-Type: text/plain X-BeenThere: test-report@dpdk.org X-Mailman-Version: 2.1.29 Precedence: list List-Id: automatic DPDK test reports List-Unsubscribe: , List-Archive: List-Post: List-Help: List-Subscribe: , Errors-To: test-report-bounces@dpdk.org Test-Label: iol-unit-amd64-testing Test-Status: SUCCESS http://dpdk.org/patch/158339 _Testing PASS_ Submitter: Thomas Monjalon Date: Sunday, November 02 2025 16:14:10 DPDK git baseline: Repo:dpdk Branch: master CommitID:8c4861d00aabcf54ef9d6f1df2a4cfb37c06f6c2 158339 --> testing pass Upstream job id: Generic-VM-Unit-Test-DPDK#32237 Test environment and result as below: +-------------------------------+----------------+ | Environment | dpdk_unit_test | +===============================+================+ | Fedora Linux 42 | PASS | +-------------------------------+----------------+ | Red Hat Enterprise Linux 8.10 | PASS | +-------------------------------+----------------+ | Ubuntu 24.04 | PASS | +-------------------------------+----------------+ | CentOS Stream 10 | PASS | +-------------------------------+----------------+ | Debian GNU/Linux 12 | PASS | +-------------------------------+----------------+ | Fedora Linux 41 | PASS | +-------------------------------+----------------+ | Ubuntu 22.04 | PASS | +-------------------------------+----------------+ | Red Hat Enterprise Linux 9.5 | PASS | +-------------------------------+----------------+ | Fedora Linux 40 | PASS | +-------------------------------+----------------+ | CentOS Stream 9 | PASS | +-------------------------------+----------------+ | Ubuntu 20.04 | PASS | +-------------------------------+----------------+ | Windows Server 2022 | PASS | +-------------------------------+----------------+ Fedora Linux 42 Kernel: 5.15 Compiler: clang gcc (GCC) 15.2.1 20250808 (Red Hat 15.2.1-1) Red Hat Enterprise Linux 8.10 Kernel: 5.15 Compiler: gcc gcc (GCC) 8.5.0 20210514 (Red Hat 8.5.0-22) Ubuntu 24.04 Kernel: 5.15 Compiler: gcc gcc (Ubuntu 13.3.0-6ubuntu2~24.04) 13.3.0 CentOS Stream 10 Kernel: 5.15 Compiler: gcc gcc (GCC) 14.2.1 20250110 (Red Hat 14.2.1-8) Debian GNU/Linux 12 Kernel: 5.15 Compiler: gcc gcc (Debian 12.2.0-14+deb12u1) 12.2.0 Fedora Linux 41 Kernel: 5.15 Compiler: clang gcc (GCC) 14.3.1 20250523 (Red Hat 14.3.1-1) Ubuntu 22.04 Kernel: 5.15 Compiler: gcc gcc (Ubuntu 11.4.0-1ubuntu1~22.04) 11.4.0 Red Hat Enterprise Linux 9.5 Kernel: 5.15 Compiler: gcc gcc (GCC) 11.5.0 20240719 (Red Hat 11.5.0-2) Fedora Linux 40 Kernel: 5.15 Compiler: gcc gcc (GCC) 14.2.1 20240912 (Red Hat 14.2.1-3) CentOS Stream 9 Kernel: 5.15 Compiler: gcc gcc (GCC) 11.5.0 20240719 (Red Hat 11.5.0-11) Ubuntu 20.04 Kernel: 5.15 Compiler: gcc gcc (Ubuntu 9.4.0-1ubuntu1~20.04.2) 9.4.0 Windows Server 2022 Kernel: 10.0.20348.2031 Compiler: clang 15.0.7, gcc 14.1.0 (MinGW), and MSVC VS 19.39.33521 To view detailed results, visit: https://lab.dpdk.org/results/dashboard/patchsets/34442/ UNH-IOL DPDK Community Lab To manage your email subscriptions, visit: https://lab.dpdk.org/results/dashboard/preferences/subscriptions/