From mboxrd@z Thu Jan 1 00:00:00 1970 Return-Path: Received: from mails.dpdk.org (mails.dpdk.org [217.70.189.124]) by inbox.dpdk.org (Postfix) with ESMTP id DD60848A6C for ; Sun, 2 Nov 2025 18:52:11 +0100 (CET) Received: from mails.dpdk.org (localhost [127.0.0.1]) by mails.dpdk.org (Postfix) with ESMTP id D79A140261; Sun, 2 Nov 2025 18:52:11 +0100 (CET) Received: from mail-pj1-f98.google.com (mail-pj1-f98.google.com [209.85.216.98]) by mails.dpdk.org (Postfix) with ESMTP id 9BFF340261 for ; Sun, 2 Nov 2025 18:52:10 +0100 (CET) Received: by mail-pj1-f98.google.com with SMTP id 98e67ed59e1d1-33b5a3e8ae2so3935481a91.1 for ; Sun, 02 Nov 2025 09:52:10 -0800 (PST) DKIM-Signature: v=1; a=rsa-sha256; c=relaxed/relaxed; d=iol.unh.edu; s=unh-iol; t=1762105930; x=1762710730; darn=dpdk.org; h=references:in-reply-to:cc:to:from:subject:message-id:date:from:to :cc:subject:date:message-id:reply-to; bh=w5ZCjpPeDv4eMc/7RYXpOl65kdIEQI3YKu50TWhNLBE=; b=biufuvyUVCfGubL2PhwFeES74WQ0eDQ5hYY+0V/H2jO3qYlRrZwggn8BnXvgrypVlw No/lrZUOYlpLbVsaf4UexNrgdjLQRg9Ndzrrm9eCrkyAM7T8JX8lYuhqYY2hEv1vfI4W BnVjE3PDvAetXZosHWgghexM2CbOyIDdjuRRc= X-Google-DKIM-Signature: v=1; a=rsa-sha256; c=relaxed/relaxed; d=1e100.net; s=20230601; t=1762105930; x=1762710730; h=references:in-reply-to:cc:to:from:subject:message-id:date :x-gm-message-state:from:to:cc:subject:date:message-id:reply-to; bh=w5ZCjpPeDv4eMc/7RYXpOl65kdIEQI3YKu50TWhNLBE=; b=RTDxa/5JOmE4jRIqP1MSZhHUvGSnPIFFRCWCtVwDTedThWdbWyVBItCxsfo7rFRpC5 r5ROl4Ihx+VL63dGza/s3S3YNxbD/f/nvLB+WzGt4g1NNLq8A3G5RbkNe1gb4KNan1rs ByiJe+W7wbrZqxW70vg4LeTccR0e8MfpKCrDwj/m+fbzXB5OGCzGb3eej4NZW+mnuZnP Vq15sovRdZTbUPgSFW33XE+3Vlz3zNLiCis0yNu/Lm6S7DisXO9L22U5mZ4qVFhCfmOg CXxhXoU99g7FaqUjYal1n6RS++U6p2DAzgZhl7gRbGWgUJSzDsx0fCXIZon9HIKT54CD +dCg== X-Gm-Message-State: AOJu0YyNeg3vhtMhL1QmTSNCSkdTjAJFsykcAtzrkQ51KEMvHNO9q6Om zDVQ5jdsDksRPGI1fcwn048iBXxsUTZ5RVlGi7BvOsNw99FFlJX5ddpkzeCjIEeh/rpOvY+3z4n 7k933goYWcVSEoX6y6qX+4Wj9xxqMOmut91+PpdaU4QyV X-Gm-Gg: ASbGncvkoFXuSQKX4F10s8JCR2oe46sDw/NO8Zsr5bswKT7hO2w7k3FvMFTL0bfM1wN oOndgLukRJl8LWIlpUWTlODAxUp8S0hvySw+VBAiiVZ7LqKmX/pi1h5jRWIT4uUMV1DpsHhJobu HUMH4jp/nBndZ47ajSfGkOA5hihJJLCtXAyrN7vz4g5Rw3WScZlVZ3gmbv7L3xpRW5VQ3oZ2HBA YkFqciSdlXAG6EMyQoCdi4XPJRXEFPF53a2vEd8d31sf2Rk3p4FkTRZfSdIO57ObXduhj3RmDW6 XxvXmCBnfuATrkThv1p3/3Ilb4k0EJ8R3zwunimK+ol6+DFhqn8MeUOzQO0rNbb779Ah2AXJS1O cFR2ZzQLSDSiSVqeKfxUkwilHVvb75XY= X-Google-Smtp-Source: AGHT+IEUsX0YagdHxyCufDEczOK390vL0Z+04VBiV2sEs85IZeGrbge+iunP+ZOWFvjbiuuRajHhLbSXIWOE X-Received: by 2002:a17:90b:1f92:b0:340:bfcd:6af9 with SMTP id 98e67ed59e1d1-340bfcd741bmr5707256a91.3.1762105929774; Sun, 02 Nov 2025 09:52:09 -0800 (PST) Received: from postal.iol.unh.edu (postal.iol.unh.edu. [132.177.123.84]) by smtp-relay.gmail.com with ESMTPS id 98e67ed59e1d1-340b4794960sm592711a91.8.2025.11.02.09.52.09 (version=TLS1_2 cipher=ECDHE-ECDSA-AES128-GCM-SHA256 bits=128/128); Sun, 02 Nov 2025 09:52:09 -0800 (PST) X-Relaying-Domain: iol.unh.edu Date: Sun, 02 Nov 2025 09:52:09 -0800 (PST) Message-ID: <69079a49.170a0220.c6c0f.09e7SMTPIN_ADDED_MISSING@mx.google.com> Received: from [172.21.0.2] (unknown [172.18.0.240]) by postal.iol.unh.edu (Postfix) with ESMTP id E07E46051830; Sun, 2 Nov 2025 12:52:08 -0500 (EST) Subject: |WARNING| pw158339 [PATCH] maintainers: remove some inactives From: dpdklab@iol.unh.edu To: Test Report Cc: dpdk-test-reports@iol.unh.edu In-Reply-To: <20251102161410.4004823-1-thomas@monjalon.net> References: <20251102161410.4004823-1-thomas@monjalon.net> Content-Type: text/plain X-BeenThere: test-report@dpdk.org X-Mailman-Version: 2.1.29 Precedence: list List-Id: automatic DPDK test reports List-Unsubscribe: , List-Archive: List-Post: List-Help: List-Subscribe: , Errors-To: test-report-bounces@dpdk.org Test-Label: iol-compile-amd64-testing Test-Status: WARNING http://dpdk.org/patch/158339 _Testing issues_ Submitter: Thomas Monjalon Date: Sunday, November 02 2025 16:14:10 DPDK git baseline: Repo:dpdk Branch: master CommitID:8c4861d00aabcf54ef9d6f1df2a4cfb37c06f6c2 158339 --> testing issues Upstream job id: Windows-Compile-DPDK-Native#32064 Test environment and result as below: +-------------------------------+--------------------+-------------------+------------------+-------------------+-------------------------+----------------------+ | Environment | dpdk_meson_compile | dpdk_compile_spdk | dpdk_compile_ovs | dpdk_msvc_compile | dpdk_llvm_clang_compile | dpdk_mingw64_compile | +===============================+====================+===================+==================+===================+=========================+======================+ | CentOS Stream 9 | PASS | WARN | SKIPPED | SKIPPED | SKIPPED | SKIPPED | +-------------------------------+--------------------+-------------------+------------------+-------------------+-------------------------+----------------------+ | Debian GNU/Linux 12 | PASS | WARN | SKIPPED | SKIPPED | SKIPPED | SKIPPED | +-------------------------------+--------------------+-------------------+------------------+-------------------+-------------------------+----------------------+ | CentOS Stream 10 | PASS | SKIPPED | SKIPPED | SKIPPED | SKIPPED | SKIPPED | +-------------------------------+--------------------+-------------------+------------------+-------------------+-------------------------+----------------------+ | Red Hat Enterprise Linux 9.5 | PASS | SKIPPED | SKIPPED | SKIPPED | SKIPPED | SKIPPED | +-------------------------------+--------------------+-------------------+------------------+-------------------+-------------------------+----------------------+ | openSUSE Leap 15.6 | PASS | SKIPPED | SKIPPED | SKIPPED | SKIPPED | SKIPPED | +-------------------------------+--------------------+-------------------+------------------+-------------------+-------------------------+----------------------+ | Fedora Linux 42 | PASS | WARN | PASS | SKIPPED | SKIPPED | SKIPPED | +-------------------------------+--------------------+-------------------+------------------+-------------------+-------------------------+----------------------+ | Red Hat Enterprise Linux 8.10 | PASS | SKIPPED | SKIPPED | SKIPPED | SKIPPED | SKIPPED | +-------------------------------+--------------------+-------------------+------------------+-------------------+-------------------------+----------------------+ | Ubuntu 20.04 | PASS | SKIPPED | SKIPPED | SKIPPED | SKIPPED | SKIPPED | +-------------------------------+--------------------+-------------------+------------------+-------------------+-------------------------+----------------------+ | Ubuntu 22.04 | PASS | WARN | SKIPPED | SKIPPED | SKIPPED | SKIPPED | +-------------------------------+--------------------+-------------------+------------------+-------------------+-------------------------+----------------------+ | Ubuntu 24.04 | PASS | WARN | PASS | SKIPPED | SKIPPED | SKIPPED | +-------------------------------+--------------------+-------------------+------------------+-------------------+-------------------------+----------------------+ | FreeBSD 14.2 | PASS | SKIPPED | SKIPPED | SKIPPED | SKIPPED | SKIPPED | +-------------------------------+--------------------+-------------------+------------------+-------------------+-------------------------+----------------------+ | Alpine Linux 3.22.0 | PASS | SKIPPED | SKIPPED | SKIPPED | SKIPPED | SKIPPED | +-------------------------------+--------------------+-------------------+------------------+-------------------+-------------------------+----------------------+ | Windows Server 2022 | SKIPPED | SKIPPED | SKIPPED | PASS | PASS | PASS | +-------------------------------+--------------------+-------------------+------------------+-------------------+-------------------------+----------------------+ ==== 20 line log output for Ubuntu 24.04 (dpdk_compile_spdk): ==== --- Failed to get log output --- ==== End log output ==== CentOS Stream 9 Kernel: 5.15 Compiler: gcc gcc (GCC) 11.5.0 20240719 (Red Hat 11.5.0-11) Debian GNU/Linux 12 Kernel: 5.15 Compiler: gcc gcc (Debian 12.2.0-14+deb12u1) 12.2.0 CentOS Stream 10 Kernel: 5.15 Compiler: gcc gcc (GCC) 14.2.1 20250110 (Red Hat 14.2.1-8) Red Hat Enterprise Linux 9.5 Kernel: 5.15 Compiler: gcc gcc (GCC) 11.5.0 20240719 (Red Hat 11.5.0-2) openSUSE Leap 15.6 Kernel: 5.15 Compiler: gcc gcc (SUSE Linux) 7.5.0 Fedora Linux 42 Kernel: 5.15 Compiler: gcc gcc (GCC) 15.2.1 20250808 (Red Hat 15.2.1-1) Red Hat Enterprise Linux 8.10 Kernel: 5.15 Compiler: gcc gcc (GCC) 8.5.0 20210514 (Red Hat 8.5.0-22) Ubuntu 20.04 Kernel: 5.15 Compiler: gcc gcc (Ubuntu 9.4.0-1ubuntu1~20.04.2) 9.4.0 Ubuntu 22.04 Kernel: 5.15 Compiler: gcc gcc (Ubuntu 11.4.0-1ubuntu1~22.04) 11.4.0 Ubuntu 24.04 Kernel: 5.15 Compiler: gcc gcc (Ubuntu 13.3.0-6ubuntu2~24.04) 13.3.0 FreeBSD 14.2 Kernel: 14.2-RELEASE Compiler: clang 18.1.6 Alpine Linux 3.22.0 Kernel: 5.15 Compiler: gcc gcc (Alpine 14.2.0) 14.2.0 Windows Server 2022 Kernel: 10.0.20348.2031 Compiler: clang 15.0.7, gcc 14.1.0 (MinGW), and MSVC VS 19.39.33521 To view detailed results, visit: https://lab.dpdk.org/results/dashboard/patchsets/34442/ UNH-IOL DPDK Community Lab To manage your email subscriptions, visit: https://lab.dpdk.org/results/dashboard/preferences/subscriptions/