From mboxrd@z Thu Jan 1 00:00:00 1970 Return-Path: Received: from mails.dpdk.org (mails.dpdk.org [217.70.189.124]) by inbox.dpdk.org (Postfix) with ESMTP id 661EF48A6C for ; Sun, 2 Nov 2025 18:55:15 +0100 (CET) Received: from mails.dpdk.org (localhost [127.0.0.1]) by mails.dpdk.org (Postfix) with ESMTP id 3DA9040261; Sun, 2 Nov 2025 18:55:15 +0100 (CET) Received: from mail-oa1-f97.google.com (mail-oa1-f97.google.com [209.85.160.97]) by mails.dpdk.org (Postfix) with ESMTP id 3879540261 for ; Sun, 2 Nov 2025 18:55:14 +0100 (CET) Received: by mail-oa1-f97.google.com with SMTP id 586e51a60fabf-3c92328d0bcso2292065fac.2 for ; Sun, 02 Nov 2025 09:55:14 -0800 (PST) DKIM-Signature: v=1; a=rsa-sha256; c=relaxed/relaxed; d=iol.unh.edu; s=unh-iol; t=1762106113; x=1762710913; darn=dpdk.org; h=references:in-reply-to:cc:to:from:subject:message-id:date:from:to :cc:subject:date:message-id:reply-to; bh=jH+yhBWWdHZO7PjF270sTwAFCUeLcDEsOtdA4innFLo=; b=WfCq+2wTra2iYv+e/0CpyUxZk0WyjsXKJGIaif498ry0v6ExneNZjlDj1R+B4z2Jn6 XW4O3U6vY9K85YQ6+LTiEziau2aMO8NbDF+NI1JlNaqWgSTLzBBj9WODM70hall7s+s7 vFjSY3w8xIE0Qdgz3a/HzPeEvLHRQRvMbM9zc= X-Google-DKIM-Signature: v=1; a=rsa-sha256; c=relaxed/relaxed; d=1e100.net; s=20230601; t=1762106113; x=1762710913; h=references:in-reply-to:cc:to:from:subject:message-id:date :x-gm-message-state:from:to:cc:subject:date:message-id:reply-to; bh=jH+yhBWWdHZO7PjF270sTwAFCUeLcDEsOtdA4innFLo=; b=XHUBimN1eLMHQLwLnFZu93OgAT3agZZhXxjnhTKZrYh/KUXf0it1oyD0f1YaehVNRS LYB3nmo+fSg8p2UYBGDA8ozbohDWkt7UCi2zMfUFz13ly6LMItsERKGFbxytsM9RHHeh r3Z87GUdo0A68PHcVEJhjF1W1it4DDGcHzbMl0t1cBmCAMkhIu4AgLGEwnPQuNgG6g6h 7di6IrrcVwq/O4cGnONF0Z8MlNOrbKQnQKBj63xbLS6rvQ8bMYsf8kiph8wjB6tOM5nI C3XUuiCf90K5aO92c/NoQkF8W5UDndGv14fcyFCb79PDlnGH2bz0o2BvgSD91DBZeK/d Nq9Q== X-Gm-Message-State: AOJu0Yx8/ggA3U5GnnQaEP6jQwQq6a0tS57iVjn9oEWXyf6k04lfNrQl OjaV/qlewqG6hWoPn07NSKP1rO696W2acHsehpMM/0piZ4J+kyqzZjpDzUMVP+uV5vDRCKx0imx lDZo9Yq06AiaD5XGJ9jUjAP5wk7UKAhN3qf4nq0SVMdPv X-Gm-Gg: ASbGncsTS/MKU448gWt/wRy4FERIJ07PICPwwZKd/8NlYUt6EI1XQzg7xkqtgrCbWc3 wBKrl0fdxgjNtUJ5wESkuFkZM78l1aw+iYnlEokrZFptORuONRxkKgYkrBobIebxlj19dFAKNPB a913+DiiwJjnNkCazB7+NfTOE7KyfDxxqlZNwAF9Dm/oDeJmPuC1Q0jmVI47772Yi6Bd1ijGVKF LbCkTkARKkwgFmcDd8AFTVen/FTOWrXbFmIkxwS2F1Y1bt5EaNDjV1VnBfdTcOK/dl0ds+WGkaf VuBgwZZaEiph0Q0tyOvcFI+pVvEOg2a73E0wyTYqQiS1GfG1qufldT1tycjaCiZVrW3i9/ifFpp fZsWavWbJ6RQP8qqYNpR4cDBv49DbAaI= X-Google-Smtp-Source: AGHT+IFy19mMOWAJcz8424vPNpx6lGNyQib4vWHb6o8iboLgMl8wFBPIo4r2LchbG0mnC77PKEcrqsncMq2V X-Received: by 2002:a05:6870:1081:b0:3de:d5b6:11a6 with SMTP id 586e51a60fabf-3ded5c5ce52mr103585fac.46.1762106113483; Sun, 02 Nov 2025 09:55:13 -0800 (PST) Received: from postal.iol.unh.edu (postal.iol.unh.edu. [132.177.123.84]) by smtp-relay.gmail.com with ESMTPS id 586e51a60fabf-3db41ea04e2sm751472fac.17.2025.11.02.09.55.13 (version=TLS1_2 cipher=ECDHE-ECDSA-AES128-GCM-SHA256 bits=128/128); Sun, 02 Nov 2025 09:55:13 -0800 (PST) X-Relaying-Domain: iol.unh.edu Date: Sun, 02 Nov 2025 09:55:13 -0800 (PST) Message-ID: <69079b01.050a0220.320c1d.71b5SMTPIN_ADDED_MISSING@mx.google.com> Received: from [172.21.0.2] (unknown [172.18.0.240]) by postal.iol.unh.edu (Postfix) with ESMTP id 016CB6051830; Sun, 2 Nov 2025 12:55:12 -0500 (EST) Subject: |SUCCESS| pw158334-158338 [PATCH] [5/5] net/mlx5: remove useless con From: dpdklab@iol.unh.edu To: Test Report Cc: dpdk-test-reports@iol.unh.edu In-Reply-To: <20251102155617.4001783-6-thomas@monjalon.net> References: <20251102155617.4001783-6-thomas@monjalon.net> Content-Type: text/plain X-BeenThere: test-report@dpdk.org X-Mailman-Version: 2.1.29 Precedence: list List-Id: automatic DPDK test reports List-Unsubscribe: , List-Archive: List-Post: List-Help: List-Subscribe: , Errors-To: test-report-bounces@dpdk.org Test-Label: iol-unit-arm64-testing Test-Status: SUCCESS http://dpdk.org/patch/158338 _Testing PASS_ Submitter: Thomas Monjalon Date: Sunday, November 02 2025 15:53:04 DPDK git baseline: Repo:dpdk Branch: master CommitID:8c4861d00aabcf54ef9d6f1df2a4cfb37c06f6c2 158334-158338 --> testing pass Upstream job id: Generic-Unit-Test-DPDK#387788 Test environment and result as below: +------------------------------+---------------------------+--------------+------------------------------+----------------+ | Environment | cryptodev_sw_zuc_autotest | lpm_autotest | cryptodev_sw_snow3g_autotest | dpdk_unit_test | +==============================+===========================+==============+==============================+================+ | Debian 12 (arm) | PASS | SKIPPED | PASS | SKIPPED | +------------------------------+---------------------------+--------------+------------------------------+----------------+ | Ubuntu 20.04 | SKIPPED | PASS | SKIPPED | PASS | +------------------------------+---------------------------+--------------+------------------------------+----------------+ | CentOS Stream 9 | SKIPPED | SKIPPED | SKIPPED | PASS | +------------------------------+---------------------------+--------------+------------------------------+----------------+ | CentOS Stream 10 | SKIPPED | SKIPPED | SKIPPED | PASS | +------------------------------+---------------------------+--------------+------------------------------+----------------+ | Ubuntu 24.04 | SKIPPED | SKIPPED | SKIPPED | PASS | +------------------------------+---------------------------+--------------+------------------------------+----------------+ | Ubuntu 22.04 | SKIPPED | SKIPPED | SKIPPED | PASS | +------------------------------+---------------------------+--------------+------------------------------+----------------+ | Fedora Linux 41 | SKIPPED | SKIPPED | SKIPPED | PASS | +------------------------------+---------------------------+--------------+------------------------------+----------------+ | Debian GNU/Linux 12 | SKIPPED | SKIPPED | SKIPPED | PASS | +------------------------------+---------------------------+--------------+------------------------------+----------------+ | Fedora Linux 40 | SKIPPED | SKIPPED | SKIPPED | PASS | +------------------------------+---------------------------+--------------+------------------------------+----------------+ | Fedora Linux 42 | SKIPPED | SKIPPED | SKIPPED | PASS | +------------------------------+---------------------------+--------------+------------------------------+----------------+ | Red Hat Enterprise Linux 9.5 | SKIPPED | SKIPPED | SKIPPED | PASS | +------------------------------+---------------------------+--------------+------------------------------+----------------+ Debian 12 (arm) Kernel: Depends on container host Compiler: gcc (Debian 12.2.0-14) 12.2.0 Ubuntu 20.04 Kernel: 5.4 Compiler: gcc gcc (Ubuntu 9.4.0-1ubuntu1~20.04.2) 9.4.0 CentOS Stream 9 Kernel: 5.4 Compiler: gcc gcc (GCC) 11.5.0 20240719 (Red Hat 11.5.0-11) CentOS Stream 10 Kernel: 5.4 Compiler: gcc gcc (GCC) 14.2.1 20250110 (Red Hat 14.2.1-8) Ubuntu 24.04 Kernel: 5.4 Compiler: gcc gcc (Ubuntu 13.3.0-6ubuntu2~24.04) 13.3.0 Ubuntu 22.04 Kernel: 5.4 Compiler: gcc gcc (Ubuntu 11.4.0-1ubuntu1~22.04) 11.4.0 Fedora Linux 41 Kernel: 5.4 Compiler: gcc gcc (GCC) 14.3.1 20250523 (Red Hat 14.3.1-1) Debian GNU/Linux 12 Kernel: 5.4 Compiler: gcc gcc (Debian 12.2.0-14+deb12u1) 12.2.0 Fedora Linux 40 Kernel: 5.4 Compiler: gcc gcc (GCC) 14.2.1 20240912 (Red Hat 14.2.1-3) Fedora Linux 42 Kernel: 5.4 Compiler: gcc gcc (GCC) 15.2.1 20250808 (Red Hat 15.2.1-1) Red Hat Enterprise Linux 9.5 Kernel: 5.4 Compiler: gcc gcc (GCC) 11.5.0 20240719 (Red Hat 11.5.0-2) To view detailed results, visit: https://lab.dpdk.org/results/dashboard/patchsets/34441/ UNH-IOL DPDK Community Lab To manage your email subscriptions, visit: https://lab.dpdk.org/results/dashboard/preferences/subscriptions/