From mboxrd@z Thu Jan 1 00:00:00 1970 Return-Path: Received: from mails.dpdk.org (mails.dpdk.org [217.70.189.124]) by inbox.dpdk.org (Postfix) with ESMTP id 5F18D48A6C for ; Sun, 2 Nov 2025 18:56:01 +0100 (CET) Received: from mails.dpdk.org (localhost [127.0.0.1]) by mails.dpdk.org (Postfix) with ESMTP id 5A38040261; Sun, 2 Nov 2025 18:56:01 +0100 (CET) Received: from mail-pj1-f100.google.com (mail-pj1-f100.google.com [209.85.216.100]) by mails.dpdk.org (Postfix) with ESMTP id E62C140261 for ; Sun, 2 Nov 2025 18:55:59 +0100 (CET) Received: by mail-pj1-f100.google.com with SMTP id 98e67ed59e1d1-3407f385dd0so2028706a91.1 for ; Sun, 02 Nov 2025 09:55:59 -0800 (PST) DKIM-Signature: v=1; a=rsa-sha256; c=relaxed/relaxed; d=iol.unh.edu; s=unh-iol; t=1762106159; x=1762710959; darn=dpdk.org; h=references:in-reply-to:cc:to:from:subject:message-id:date:from:to :cc:subject:date:message-id:reply-to; bh=JkTGzfQrCWiYkIddLbRzCf8KA6y+zHOt9+XUGGgUTGw=; b=Yn8IjtCPVKzLi1h5FPF7Js88zESu5NtsYlhfxRyx22oa15HjRn+ARYSvmDpBiVWZVz 1niA42fagzlvCCHcc+84BRridX7rLkbZrqzFueNcVXdCDmxh8fm8N7an0Duh1qAYLinV XYNiY0CdQZfJSrdeMwQRFDtqdvt3rlM73ASAY= X-Google-DKIM-Signature: v=1; a=rsa-sha256; c=relaxed/relaxed; d=1e100.net; s=20230601; t=1762106159; x=1762710959; h=references:in-reply-to:cc:to:from:subject:message-id:date :x-gm-message-state:from:to:cc:subject:date:message-id:reply-to; bh=JkTGzfQrCWiYkIddLbRzCf8KA6y+zHOt9+XUGGgUTGw=; b=sWnXTybX2uEjGOPwiT+QgC/FIBOBlioTqk0BxZAeuuL0mxxrXsvm3aO/p6uZkmwCKY PEXbIMjUyrMTu1AFO/HuQKf3XXF9CO++uBHsIXvI/+Z90bQBKehn+zl07Ibd+g4Dw+uK Qp4QTvzrcXpFD/5yGwDd4F4T3wHDod9zbsJDvgdRw4c6cVEzJl0TrASk0RRVA79wQQSV KMaV+0Lyux0IWQxz8hmtxAtzT+GU+VQvjpU+D7cMZnsl/dzRhf779G/FqVO12BTtFrU8 s44lF8t7n9N526xgR4fehnUMykjWGPtCpDQ2rrM7a11BuB+4qHXF+aB7vByCco9xfJMN 67lA== X-Gm-Message-State: AOJu0Yyi9YkidH8taiXQxwrf5o4KQnqyHDtzmbecKDpH7cwYWmaaE591 Ad6H2OtR06/gfH+syJhpoqtsitgDQIrLpJLdsnqYJQZ5g4+g/PzyrEwaSz6EXoJVL8ZOjJHmd7K SNQWbnjhgQqe7CUF3Ghg6th9J/yGAmiQT3IEhGWrP6QNF X-Gm-Gg: ASbGnct2Rb3Q1vFYTOg58p6ROmwGZfrhR/66uzRJynwjGgHOS18+LVb6ST+CYuw19JQ GWzicIcT1lXtmZj8gQlbahs5X8vgxWAK+SyQCmhDMp7wsMQX2TlPnEBV+QbDDMz8UQ8tgkK4ZM+ bS5RR3J7mMFkNeU9XIBHzgm0SQdmFTs6FilANnbN2KOk7Zb/TBkbo6+Vl94UWusI9c+RS5C58vf u9EpsI6pGuRfZD5e/dyiaz/axG1RfszRrb5Ep8KQnGJorf8F0PgHbNTB7K/GpP9J8pbGVXVKp/6 u7jKthBSD10Im8WYSgCJgiYsb79ZcLwl5Z5pTtf+5Q9NCAMTjuE4Uq+4r7P5E2mJWcXs1QWaBZe OEo3kOyauzjhGOT2KvG6xQvVSiFPHdxw= X-Google-Smtp-Source: AGHT+IGeOI3s5LmmH1xNotsf/jJa666Dtyfpa4EEyaCUrjnfFWVth0vbg6Nncv+XyYJyqR2XfI0dOzMG3I6F X-Received: by 2002:a17:90b:1804:b0:341:124f:4746 with SMTP id 98e67ed59e1d1-341124f5655mr1632259a91.31.1762106159109; Sun, 02 Nov 2025 09:55:59 -0800 (PST) Received: from postal.iol.unh.edu (postal.iol.unh.edu. [132.177.123.84]) by smtp-relay.gmail.com with ESMTPS id 98e67ed59e1d1-3407b30934bsm834049a91.0.2025.11.02.09.55.58 (version=TLS1_2 cipher=ECDHE-ECDSA-AES128-GCM-SHA256 bits=128/128); Sun, 02 Nov 2025 09:55:59 -0800 (PST) X-Relaying-Domain: iol.unh.edu Date: Sun, 02 Nov 2025 09:55:59 -0800 (PST) Message-ID: <69079b2f.170a0220.1b4f62.d3a0SMTPIN_ADDED_MISSING@mx.google.com> Received: from [172.21.0.2] (unknown [172.18.0.240]) by postal.iol.unh.edu (Postfix) with ESMTP id 473416051830; Sun, 2 Nov 2025 12:55:58 -0500 (EST) Subject: |SUCCESS| pw158339 [PATCH] maintainers: remove some inactives From: dpdklab@iol.unh.edu To: Test Report Cc: dpdk-test-reports@iol.unh.edu In-Reply-To: <20251102161410.4004823-1-thomas@monjalon.net> References: <20251102161410.4004823-1-thomas@monjalon.net> Content-Type: text/plain X-BeenThere: test-report@dpdk.org X-Mailman-Version: 2.1.29 Precedence: list List-Id: automatic DPDK test reports List-Unsubscribe: , List-Archive: List-Post: List-Help: List-Subscribe: , Errors-To: test-report-bounces@dpdk.org Test-Label: iol-unit-amd64-testing Test-Status: SUCCESS http://dpdk.org/patch/158339 _Testing PASS_ Submitter: Thomas Monjalon Date: Sunday, November 02 2025 16:14:10 DPDK git baseline: Repo:dpdk Branch: master CommitID:8c4861d00aabcf54ef9d6f1df2a4cfb37c06f6c2 158339 --> testing pass Upstream job id: Generic-VM-Unit-Test-DPDK#32238 Test environment and result as below: +-------------------------------+----------------+ | Environment | dpdk_unit_test | +===============================+================+ | Fedora Linux 42 | PASS | +-------------------------------+----------------+ | Red Hat Enterprise Linux 8.10 | PASS | +-------------------------------+----------------+ | Ubuntu 24.04 | PASS | +-------------------------------+----------------+ | CentOS Stream 10 | PASS | +-------------------------------+----------------+ | Debian GNU/Linux 12 | PASS | +-------------------------------+----------------+ | Fedora Linux 41 | PASS | +-------------------------------+----------------+ | Ubuntu 22.04 | PASS | +-------------------------------+----------------+ | Red Hat Enterprise Linux 9.5 | PASS | +-------------------------------+----------------+ | Fedora Linux 40 | PASS | +-------------------------------+----------------+ | CentOS Stream 9 | PASS | +-------------------------------+----------------+ | Ubuntu 20.04 | PASS | +-------------------------------+----------------+ | Windows Server 2022 | PASS | +-------------------------------+----------------+ Fedora Linux 42 Kernel: 5.15 Compiler: clang gcc (GCC) 15.2.1 20250808 (Red Hat 15.2.1-1) Red Hat Enterprise Linux 8.10 Kernel: 5.15 Compiler: gcc gcc (GCC) 8.5.0 20210514 (Red Hat 8.5.0-22) Ubuntu 24.04 Kernel: 5.15 Compiler: gcc gcc (Ubuntu 13.3.0-6ubuntu2~24.04) 13.3.0 CentOS Stream 10 Kernel: 5.15 Compiler: gcc gcc (GCC) 14.2.1 20250110 (Red Hat 14.2.1-8) Debian GNU/Linux 12 Kernel: 5.15 Compiler: gcc gcc (Debian 12.2.0-14+deb12u1) 12.2.0 Fedora Linux 41 Kernel: 5.15 Compiler: clang gcc (GCC) 14.3.1 20250523 (Red Hat 14.3.1-1) Ubuntu 22.04 Kernel: 5.15 Compiler: gcc gcc (Ubuntu 11.4.0-1ubuntu1~22.04) 11.4.0 Red Hat Enterprise Linux 9.5 Kernel: 5.15 Compiler: gcc gcc (GCC) 11.5.0 20240719 (Red Hat 11.5.0-2) Fedora Linux 40 Kernel: 5.15 Compiler: gcc gcc (GCC) 14.2.1 20240912 (Red Hat 14.2.1-3) CentOS Stream 9 Kernel: 5.15 Compiler: gcc gcc (GCC) 11.5.0 20240719 (Red Hat 11.5.0-11) Ubuntu 20.04 Kernel: 5.15 Compiler: gcc gcc (Ubuntu 9.4.0-1ubuntu1~20.04.2) 9.4.0 Windows Server 2022 Kernel: 10.0.20348.2031 Compiler: clang 15.0.7, gcc 14.1.0 (MinGW), and MSVC VS 19.39.33521 To view detailed results, visit: https://lab.dpdk.org/results/dashboard/patchsets/34442/ UNH-IOL DPDK Community Lab To manage your email subscriptions, visit: https://lab.dpdk.org/results/dashboard/preferences/subscriptions/