From mboxrd@z Thu Jan 1 00:00:00 1970 Return-Path: Received: from mails.dpdk.org (mails.dpdk.org [217.70.189.124]) by inbox.dpdk.org (Postfix) with ESMTP id 0267948A50 for ; Sun, 2 Nov 2025 19:52:23 +0100 (CET) Received: from mails.dpdk.org (localhost [127.0.0.1]) by mails.dpdk.org (Postfix) with ESMTP id DE89640261; Sun, 2 Nov 2025 19:52:23 +0100 (CET) Received: from mail-pl1-f228.google.com (mail-pl1-f228.google.com [209.85.214.228]) by mails.dpdk.org (Postfix) with ESMTP id E6FA240261 for ; Sun, 2 Nov 2025 19:52:22 +0100 (CET) Received: by mail-pl1-f228.google.com with SMTP id d9443c01a7336-29570bcf220so11845505ad.3 for ; Sun, 02 Nov 2025 10:52:22 -0800 (PST) DKIM-Signature: v=1; a=rsa-sha256; c=relaxed/relaxed; d=iol.unh.edu; s=unh-iol; t=1762109542; x=1762714342; darn=dpdk.org; h=references:in-reply-to:cc:to:from:subject:message-id:date:from:to :cc:subject:date:message-id:reply-to; bh=4QZX5OMpzSkGB/6+OZQU4NXiRFZIp4TynU6/PI2fx7E=; b=ZUebWvLwidYZ0gToU7hzDyrti40+9U2Jt7yEY6avB9vatIyJrDIC1+LnfTYbatJwv+ fHw0PhFPVU/3Fm24ZkkIk1+YQ2V7n8bG1XV2ul0uN9UYLliOQhsTDnz5qR8A7gDBLFYr 1pBdez6YmdWxng9OVxgbbTiZZIFVp3B/11oCA= X-Google-DKIM-Signature: v=1; a=rsa-sha256; c=relaxed/relaxed; d=1e100.net; s=20230601; t=1762109542; x=1762714342; h=references:in-reply-to:cc:to:from:subject:message-id:date :x-gm-message-state:from:to:cc:subject:date:message-id:reply-to; bh=4QZX5OMpzSkGB/6+OZQU4NXiRFZIp4TynU6/PI2fx7E=; b=U8UOoPeuulk6+lqEngex3DvAbQ72Jr5689PZMAVp5bgXxreQGDYJD2ND+VUHWIutKU w6tkC0NGDAdQzsoo469k2tgSWuOUZv94CPCNXEjyf0FeY7VB5fnp0f6zqboV4rn1akdj h2zfjdhB5xCZXb4T/Y93EBDRAwOz3Ie33bNkCWV0clW9lJbQZcHy0C75+3ox3SkQA4SC fJJzQTPpJrzyF9DZbX7qPqK/TvLbEMQIgdQkqMIgXbaEFfpA016XcBMhIpg0j/meKwkz yeMf1QcEJH1SbWwO8PRzS4erY1XcK1yTN8DhMRXtmyh6G/jaYpqAxp3ZBGoDsFe4D3qU sb+g== X-Gm-Message-State: AOJu0YwqdOIlrnpuedOCYG5iycRPlBuJCp7lc7ynC1eM1yIZblhlLKux vMYaXS3+IvjkOYpN8TOdKXADMPGfUWy00H1OW14c+X8G3xAK0geWz6C6DQAZ24FIc/XUVUTQZNb 9WSCN2D+JBESSYN7ajSYGxKfNSbdLNnTnL7oUBpMz/bKbAJ+MGl7tF9+cImzY X-Gm-Gg: ASbGncuos2dt8wk3gfZFgiLXP9gg1p/mGdDn53Jq9a2dcFETFqoaIMhPynwi2ITkY1D SUEKbUao80v2QEXe5aPcJ2+E2045khE+j1pwlhskXwLLp20RY4jF74QIvEFB5pcMIopGF540Ssg NWBGEjzYOeV32DOK/9t0rlyyMz+00x2dWJxHcSYykInW6nba2GFKOV8+tgri6l7Gx7ANvM4Eezf WXI2WqFBXWSNLKoDdeEOE0jRCEOo/w5C2dNHl0ClX8m7bZUdg8pQMMCitbofC270RO0fAElOoxM wXD/TLHbVWZzKyPJzVBsuPbXIMlxA5opbFzB5szRyghim5NK2TJ2v5f6OlY/T/2Iric4UyII6w+ dtT/S4oJh X-Google-Smtp-Source: AGHT+IHisW3wbA0lgoGm/XHSi5wQp0SBGA1yicl3lYSWQsLaNNnprlZ2digAiweN9PpujpMSmiuHU3mI70z9 X-Received: by 2002:a17:903:2f8f:b0:272:dee1:c133 with SMTP id d9443c01a7336-2951a38ba50mr121706825ad.22.1762109541924; Sun, 02 Nov 2025 10:52:21 -0800 (PST) Received: from postal.iol.unh.edu (postal.iol.unh.edu. [2606:4100:3880:1234::84]) by smtp-relay.gmail.com with ESMTPS id d9443c01a7336-29555b385ccsm5261085ad.13.2025.11.02.10.52.21 (version=TLS1_2 cipher=ECDHE-ECDSA-AES128-GCM-SHA256 bits=128/128); Sun, 02 Nov 2025 10:52:21 -0800 (PST) X-Relaying-Domain: iol.unh.edu Date: Sun, 02 Nov 2025 10:52:21 -0800 (PST) Message-ID: <6907a865.170a0220.d82a6.b20fSMTPIN_ADDED_MISSING@mx.google.com> Received: from [172.21.0.2] (unknown [172.18.0.240]) by postal.iol.unh.edu (Postfix) with ESMTP id 0680560003E7; Sun, 2 Nov 2025 13:52:21 -0500 (EST) Subject: |SUCCESS| pw158339 [PATCH] maintainers: remove some inactives From: dpdklab@iol.unh.edu To: Test Report Cc: dpdk-test-reports@iol.unh.edu In-Reply-To: <20251102161410.4004823-1-thomas@monjalon.net> References: <20251102161410.4004823-1-thomas@monjalon.net> Content-Type: text/plain X-BeenThere: test-report@dpdk.org X-Mailman-Version: 2.1.29 Precedence: list List-Id: automatic DPDK test reports List-Unsubscribe: , List-Archive: List-Post: List-Help: List-Subscribe: , Errors-To: test-report-bounces@dpdk.org Test-Label: iol-unit-arm64-testing Test-Status: SUCCESS http://dpdk.org/patch/158339 _Testing PASS_ Submitter: Thomas Monjalon Date: Sunday, November 02 2025 16:14:10 DPDK git baseline: Repo:dpdk Branch: master CommitID:8c4861d00aabcf54ef9d6f1df2a4cfb37c06f6c2 158339 --> testing pass Upstream job id: Generic-Unit-Test-DPDK#387811 Test environment and result as below: +------------------------------+----------------+------------------------------+---------------------------+--------------+ | Environment | dpdk_unit_test | cryptodev_sw_snow3g_autotest | cryptodev_sw_zuc_autotest | lpm_autotest | +==============================+================+==============================+===========================+==============+ | Red Hat Enterprise Linux 9.5 | PASS | SKIPPED | SKIPPED | SKIPPED | +------------------------------+----------------+------------------------------+---------------------------+--------------+ | Fedora Linux 40 | PASS | SKIPPED | SKIPPED | SKIPPED | +------------------------------+----------------+------------------------------+---------------------------+--------------+ | CentOS Stream 9 | PASS | SKIPPED | SKIPPED | SKIPPED | +------------------------------+----------------+------------------------------+---------------------------+--------------+ | Debian GNU/Linux 12 | PASS | SKIPPED | SKIPPED | SKIPPED | +------------------------------+----------------+------------------------------+---------------------------+--------------+ | Ubuntu 20.04 | PASS | SKIPPED | SKIPPED | PASS | +------------------------------+----------------+------------------------------+---------------------------+--------------+ | Fedora Linux 41 | PASS | SKIPPED | SKIPPED | SKIPPED | +------------------------------+----------------+------------------------------+---------------------------+--------------+ | Fedora Linux 42 | PASS | SKIPPED | SKIPPED | SKIPPED | +------------------------------+----------------+------------------------------+---------------------------+--------------+ | Ubuntu 24.04 | PASS | SKIPPED | SKIPPED | SKIPPED | +------------------------------+----------------+------------------------------+---------------------------+--------------+ | Ubuntu 22.04 | PASS | SKIPPED | SKIPPED | SKIPPED | +------------------------------+----------------+------------------------------+---------------------------+--------------+ | CentOS Stream 10 | PASS | SKIPPED | SKIPPED | SKIPPED | +------------------------------+----------------+------------------------------+---------------------------+--------------+ | Debian 12 (arm) | SKIPPED | PASS | PASS | SKIPPED | +------------------------------+----------------+------------------------------+---------------------------+--------------+ Red Hat Enterprise Linux 9.5 Kernel: 5.4 Compiler: gcc gcc (GCC) 11.5.0 20240719 (Red Hat 11.5.0-2) Fedora Linux 40 Kernel: 5.4 Compiler: clang gcc (GCC) 14.2.1 20240912 (Red Hat 14.2.1-3) CentOS Stream 9 Kernel: 5.4 Compiler: gcc gcc (GCC) 11.5.0 20240719 (Red Hat 11.5.0-11) Debian GNU/Linux 12 Kernel: 5.4 Compiler: gcc gcc (Debian 12.2.0-14+deb12u1) 12.2.0 Ubuntu 20.04 Kernel: 5.4 Compiler: gcc gcc (Ubuntu 9.4.0-1ubuntu1~20.04.2) 9.4.0 Fedora Linux 41 Kernel: 5.4 Compiler: gcc gcc (GCC) 14.3.1 20250523 (Red Hat 14.3.1-1) Fedora Linux 42 Kernel: 5.4 Compiler: clang gcc (GCC) 15.2.1 20250808 (Red Hat 15.2.1-1) Ubuntu 24.04 Kernel: 5.4 Compiler: gcc gcc (Ubuntu 13.3.0-6ubuntu2~24.04) 13.3.0 Ubuntu 22.04 Kernel: 5.4 Compiler: gcc gcc (Ubuntu 11.4.0-1ubuntu1~22.04) 11.4.0 CentOS Stream 10 Kernel: 5.4 Compiler: gcc gcc (GCC) 14.2.1 20250110 (Red Hat 14.2.1-8) Debian 12 (arm) Kernel: Depends on container host Compiler: gcc (Debian 12.2.0-14) 12.2.0 To view detailed results, visit: https://lab.dpdk.org/results/dashboard/patchsets/34442/ UNH-IOL DPDK Community Lab To manage your email subscriptions, visit: https://lab.dpdk.org/results/dashboard/preferences/subscriptions/