From mboxrd@z Thu Jan 1 00:00:00 1970 Return-Path: Received: from mails.dpdk.org (mails.dpdk.org [217.70.189.124]) by inbox.dpdk.org (Postfix) with ESMTP id 6DD9748A6B for ; Sun, 2 Nov 2025 20:44:35 +0100 (CET) Received: from mails.dpdk.org (localhost [127.0.0.1]) by mails.dpdk.org (Postfix) with ESMTP id 478C240261; Sun, 2 Nov 2025 20:44:35 +0100 (CET) Received: from mail-qv1-f97.google.com (mail-qv1-f97.google.com [209.85.219.97]) by mails.dpdk.org (Postfix) with ESMTP id B8A1540261 for ; Sun, 2 Nov 2025 20:44:33 +0100 (CET) Received: by mail-qv1-f97.google.com with SMTP id 6a1803df08f44-88025eb208bso30226266d6.2 for ; Sun, 02 Nov 2025 11:44:33 -0800 (PST) DKIM-Signature: v=1; a=rsa-sha256; c=relaxed/relaxed; d=iol.unh.edu; s=unh-iol; t=1762112673; x=1762717473; darn=dpdk.org; h=references:in-reply-to:cc:to:from:subject:message-id:date:from:to :cc:subject:date:message-id:reply-to; bh=XHpbn5huH//g1qCImXIoX+WW4tQZ4VibHvkRuEyZ8T8=; b=P3kxWl016p0rv8FMKktmWY3oYc8J20q1PZ5B25HNx7/qoYCLELtG5Qusg8BeBRdYQm +GFawnwHMTjxNyWAKr3kjMi83GsBepXKwPfhIZdpceOJ7x5eheqd31Irq1JuNcTtYKM1 WX44rE46RM2hgbBLOm4igyfdOML99uZFF8M+Y= X-Google-DKIM-Signature: v=1; a=rsa-sha256; c=relaxed/relaxed; d=1e100.net; s=20230601; t=1762112673; x=1762717473; h=references:in-reply-to:cc:to:from:subject:message-id:date :x-gm-message-state:from:to:cc:subject:date:message-id:reply-to; bh=XHpbn5huH//g1qCImXIoX+WW4tQZ4VibHvkRuEyZ8T8=; b=BEhNEMOSHBKXqWYXj7LOfZnywdXbKi9e1l4W6s04GPI3eVNEuW5Z+kdDEyRA5eOmK+ mkr6sJYM2Do7MIA1mX6PDTeYL3Xk2aFr+Th6uw+YV0jyuEfRAcnyKQKQy7e4n4Jjw04T CPTke+HeXudOGp4bwL3OUJnm9YGcMpJHOVsVUEYmR/dZl/XoMEwzDFjdEZJAzUOf5ycx ts4DfcZdTdMM5fkjju2qtAKxpEbTOZt62H+H69/6I2ml1w0TVMP40ddZKYrIaS4GMyRL TcdnhK6VIRddukg2Wk4zYw/3SOiOFxynqR4Q79hM0VpqC9wWemFU1icqsq9WEettLIbr HGtA== X-Gm-Message-State: AOJu0Yx0ePsAOj1S2SEtUjseT5a0y837Wf7odphEQEgzbuwW3lsJZhCW WyFORpcjiHLSEx7DCJbKL+B9pqCo5l9KOaLfNawlQ9+/dDC9g6JEaL1FeluBTaOI2TcJaVkC83t YJd39NN9j0YqZKw0U8Vcgb8DPizvBAXGYmWZNjqWA03UAxJsY7JeE7NmL6MA4 X-Gm-Gg: ASbGncsr+dFpuiw3/gj335Xs2CWU3SUfpqcuJdjO3CPq9kfVFH3+HhofOY5a20ppFZv vaViHz5SDdivgLHu3H57nx4j5IiuUsYkK2M73Q9aJKej0vLBcgHS8cWS2AMm5i3w3CaIG9e/lIk rMOK2dly39YNlmaIIZ0vIUPDmdVMtBc1WWJOjGgw89nnvm9mKNyS1fH5xncRuUaef7nHJpehwsp x8o3pN+VwsVuP4exRL/a1wLYBPkeVc5Rc7bUCt3NaT20QQVlCRW5Ms4ly01KeeB6R+9r4GrY3Qm 6Ns02sxwLAxvQBZGFgBGjJ7jYxWbaA+q7BXmeJZAaa/uDDtiimcT1y1Efhca7ZCoyrJW6w88w/C scVMEYYEF X-Google-Smtp-Source: AGHT+IEkqJ3mh/XcX1bkeh3GzV/Em6kV3faYwJ8nfESNS1DEFCZm540rkFoCwd8L4d4+qu/5TVPE517WdbmZ X-Received: by 2002:a05:6214:e4d:b0:880:4866:2371 with SMTP id 6a1803df08f44-88048662828mr82053196d6.67.1762112673009; Sun, 02 Nov 2025 11:44:33 -0800 (PST) Received: from postal.iol.unh.edu (postal.iol.unh.edu. [2606:4100:3880:1234::84]) by smtp-relay.gmail.com with ESMTPS id 6a1803df08f44-880363389e3sm7586686d6.28.2025.11.02.11.44.32 (version=TLS1_2 cipher=ECDHE-ECDSA-AES128-GCM-SHA256 bits=128/128); Sun, 02 Nov 2025 11:44:33 -0800 (PST) X-Relaying-Domain: iol.unh.edu Date: Sun, 02 Nov 2025 11:44:33 -0800 (PST) Message-ID: <6907b4a1.d40a0220.4272c.770cSMTPIN_ADDED_MISSING@mx.google.com> Received: from [172.21.0.2] (unknown [172.18.0.240]) by postal.iol.unh.edu (Postfix) with ESMTP id B674060003E7; Sun, 2 Nov 2025 14:44:32 -0500 (EST) Subject: |SUCCESS| pw158334-158338 [PATCH] [5/5] net/mlx5: remove useless con From: dpdklab@iol.unh.edu To: Test Report Cc: dpdk-test-reports@iol.unh.edu In-Reply-To: <20251102155617.4001783-6-thomas@monjalon.net> References: <20251102155617.4001783-6-thomas@monjalon.net> Content-Type: text/plain X-BeenThere: test-report@dpdk.org X-Mailman-Version: 2.1.29 Precedence: list List-Id: automatic DPDK test reports List-Unsubscribe: , List-Archive: List-Post: List-Help: List-Subscribe: , Errors-To: test-report-bounces@dpdk.org Test-Label: iol-compile-arm64-testing Test-Status: SUCCESS http://dpdk.org/patch/158338 _Testing PASS_ Submitter: Thomas Monjalon Date: Sunday, November 02 2025 15:53:04 DPDK git baseline: Repo:dpdk Branch: master CommitID:8c4861d00aabcf54ef9d6f1df2a4cfb37c06f6c2 158334-158338 --> testing pass Upstream job id: Generic-DPDK-Compile-Meson#440039 Test environment and result as below: +------------------------------+--------------------+ | Environment | dpdk_meson_compile | +==============================+====================+ | Ubuntu 24.04 | PASS | +------------------------------+--------------------+ | Ubuntu 20.04 | PASS | +------------------------------+--------------------+ | Red Hat Enterprise Linux 9.5 | PASS | +------------------------------+--------------------+ | Debian GNU/Linux 12 | PASS | +------------------------------+--------------------+ | CentOS Stream 10 | PASS | +------------------------------+--------------------+ | Fedora Linux 42 | PASS | +------------------------------+--------------------+ | Ubuntu 22.04 | PASS | +------------------------------+--------------------+ | CentOS Stream 9 | PASS | +------------------------------+--------------------+ Ubuntu 24.04 Kernel: 5.4 Compiler: gcc gcc (Ubuntu 13.3.0-6ubuntu2~24.04) 13.3.0 Ubuntu 20.04 Kernel: 5.15 Compiler: aarch64-linux-gnu-gcc gcc (Ubuntu 9.4.0-1ubuntu1~20.04.2) 9.4.0 Red Hat Enterprise Linux 9.5 Kernel: 5.4 Compiler: gcc gcc (GCC) 11.5.0 20240719 (Red Hat 11.5.0-2) Debian GNU/Linux 12 Kernel: 5.4 Compiler: gcc gcc (Debian 12.2.0-14+deb12u1) 12.2.0 CentOS Stream 10 Kernel: 5.4 Compiler: gcc gcc (GCC) 14.2.1 20250110 (Red Hat 14.2.1-8) Fedora Linux 42 Kernel: 5.4 Compiler: gcc gcc (GCC) 15.2.1 20250808 (Red Hat 15.2.1-1) Ubuntu 22.04 Kernel: 5.4 Compiler: gcc gcc (Ubuntu 11.4.0-1ubuntu1~22.04) 11.4.0 CentOS Stream 9 Kernel: 5.4 Compiler: gcc gcc (GCC) 11.5.0 20240719 (Red Hat 11.5.0-11) To view detailed results, visit: https://lab.dpdk.org/results/dashboard/patchsets/34441/ UNH-IOL DPDK Community Lab To manage your email subscriptions, visit: https://lab.dpdk.org/results/dashboard/preferences/subscriptions/