From mboxrd@z Thu Jan 1 00:00:00 1970 Return-Path: Received: from mails.dpdk.org (mails.dpdk.org [217.70.189.124]) by inbox.dpdk.org (Postfix) with ESMTP id 2629748A6D for ; Sun, 2 Nov 2025 21:07:23 +0100 (CET) Received: from mails.dpdk.org (localhost [127.0.0.1]) by mails.dpdk.org (Postfix) with ESMTP id F0A8A40261; Sun, 2 Nov 2025 21:07:22 +0100 (CET) Received: from mail-pj1-f98.google.com (mail-pj1-f98.google.com [209.85.216.98]) by mails.dpdk.org (Postfix) with ESMTP id B43A840261 for ; Sun, 2 Nov 2025 21:07:20 +0100 (CET) Received: by mail-pj1-f98.google.com with SMTP id 98e67ed59e1d1-34029c5beabso3407116a91.1 for ; Sun, 02 Nov 2025 12:07:20 -0800 (PST) DKIM-Signature: v=1; a=rsa-sha256; c=relaxed/relaxed; d=iol.unh.edu; s=unh-iol; t=1762114040; x=1762718840; darn=dpdk.org; h=references:in-reply-to:cc:to:from:subject:message-id:date:from:to :cc:subject:date:message-id:reply-to; bh=1ddO0RPdeFv76+vUDCitf5SNTUVnM4TTIeEwJU1bJ+4=; b=GdKeCjjAn40ZIOFs9PFIkvhqeXKmfphdKhoGud/vo8g1o+b0EESSDE6QEgKaSh6D8S E0KmojNJ0O0Uq2sjmsGJYGJACz+iX4pmuidKuBOoxAl4PMOJZUSdtrEgyxhpKEqJWr14 SPUgA0CHw9QQVs3rDo+tsiwKFLD71rBTwS+pU= X-Google-DKIM-Signature: v=1; a=rsa-sha256; c=relaxed/relaxed; d=1e100.net; s=20230601; t=1762114040; x=1762718840; h=references:in-reply-to:cc:to:from:subject:message-id:date :x-gm-message-state:from:to:cc:subject:date:message-id:reply-to; bh=1ddO0RPdeFv76+vUDCitf5SNTUVnM4TTIeEwJU1bJ+4=; b=ezv3ooElH7nD1luaJowcJM5ZTgGI4ZcTs2yre+M73pckdolrYXRp2SZt/a27Ken8sZ fS3+CXZfRwMHcXl5Wn1Lt4sWSgmfCE91Fzoc8VrrFPlSCYQPkg9P3EoJpozTh5ovBwQQ eggnQ9BqdL3ihRFRJuvWfCf59/SConVRkLpYmVklX8DN+gh3DxKJ+TTJf1G5odyRn7pw bgAwq5yfp2rrZNOL5wkqzd9cCdCut8RL9ziq5ozXA7Zxr9DAwW1ho5jTvqxTSiLpI1v6 o4AZ6FJDengPYW/ZvewFRRsz5ndznFpK6Ig4BrXQVk7MGm5k9/OXE/1b+esIItFdFDzL zUwQ== X-Gm-Message-State: AOJu0Yy5vZggygOKPcwg+EqmKCmYi3fLGfO4UVJ4rFKOaKbm4XlzbgPy U47TYXbTH3ioWxTU4qDTJIace6w3/CVstINhQaS7sLCrQEhoKguxZRF6dbn2mWhD1KMD6Ktgnn9 7vWK0XwhoIXz8T7btqeatQ1ZMQzRA4580guPOyUWfHIaI X-Gm-Gg: ASbGncsqd4SwKa5Jj9VnX6A8r0+i7ZDQ7wFMZqyxMEl9k1GijZtzmGiSZLWDJ9lasdL U+2QOMnzUiq4/4WDc+aXwdfBKui1sXWeP0Oh6qemckcajZYH9aUevJx5rjW1Ftp62Lt0z8ph8hw v7d6smuaR2P8SkfsghXQsPBwhnHgK3lO8A5A4+vsatPodYs1yhfu6kLNLNee+CvU+rnM3fTwlPS 0AqlBJnLMq5j7J7O+A/+g0DpU4VVxFom2obvF3WNbtd+IbUyc8vcnFyN8q0/nhGxh6E5SwLiuCV uOM7prkM4MENL6jclYpgvNw6i9/PdTL8qdJAwQlUAn9F0PtTleGcUnJ89dn7KsCLITTiXZqH36i RoQpGb6KYQglR4Fw3ZTylPxvkov+qrW4= X-Google-Smtp-Source: AGHT+IHsplG5a81YzOWLsVhOGcchOr1XS5ZjB9TzXbKKswzLBcCzAbltBjbpfh04/Uc8RJNnoVIzijmxuKpN X-Received: by 2002:a17:903:988:b0:295:512d:a283 with SMTP id d9443c01a7336-295512da484mr84292765ad.36.1762114039730; Sun, 02 Nov 2025 12:07:19 -0800 (PST) Received: from postal.iol.unh.edu (postal.iol.unh.edu. [132.177.123.84]) by smtp-relay.gmail.com with ESMTPS id d9443c01a7336-2959b9a3a07sm2527085ad.8.2025.11.02.12.07.19 (version=TLS1_2 cipher=ECDHE-ECDSA-AES128-GCM-SHA256 bits=128/128); Sun, 02 Nov 2025 12:07:19 -0800 (PST) X-Relaying-Domain: iol.unh.edu Date: Sun, 02 Nov 2025 12:07:19 -0800 (PST) Message-ID: <6907b9f7.170a0220.337a66.da9cSMTPIN_ADDED_MISSING@mx.google.com> Received: from [172.21.0.2] (unknown [172.18.0.240]) by postal.iol.unh.edu (Postfix) with ESMTP id E6BF86051830; Sun, 2 Nov 2025 15:07:18 -0500 (EST) Subject: |SUCCESS| pw158339 [PATCH] maintainers: remove some inactives From: dpdklab@iol.unh.edu To: Test Report Cc: dpdk-test-reports@iol.unh.edu In-Reply-To: <20251102161410.4004823-1-thomas@monjalon.net> References: <20251102161410.4004823-1-thomas@monjalon.net> Content-Type: text/plain X-BeenThere: test-report@dpdk.org X-Mailman-Version: 2.1.29 Precedence: list List-Id: automatic DPDK test reports List-Unsubscribe: , List-Archive: List-Post: List-Help: List-Subscribe: , Errors-To: test-report-bounces@dpdk.org Test-Label: iol-compile-arm64-testing Test-Status: SUCCESS http://dpdk.org/patch/158339 _Testing PASS_ Submitter: Thomas Monjalon Date: Sunday, November 02 2025 16:14:10 DPDK git baseline: Repo:dpdk Branch: master CommitID:8c4861d00aabcf54ef9d6f1df2a4cfb37c06f6c2 158339 --> testing pass Upstream job id: Generic-DPDK-Compile-Meson#440066 Test environment and result as below: +------------------------------+--------------------+ | Environment | dpdk_meson_compile | +==============================+====================+ | Red Hat Enterprise Linux 9.5 | PASS | +------------------------------+--------------------+ | Ubuntu 22.04 | PASS | +------------------------------+--------------------+ | Ubuntu 20.04 | PASS | +------------------------------+--------------------+ | Debian GNU/Linux 12 | PASS | +------------------------------+--------------------+ | CentOS Stream 10 | PASS | +------------------------------+--------------------+ | Fedora Linux 42 | PASS | +------------------------------+--------------------+ | CentOS Stream 9 | PASS | +------------------------------+--------------------+ | Ubuntu 24.04 | PASS | +------------------------------+--------------------+ Red Hat Enterprise Linux 9.5 Kernel: 5.4 Compiler: gcc gcc (GCC) 11.5.0 20240719 (Red Hat 11.5.0-2) Ubuntu 22.04 Kernel: 5.4 Compiler: gcc gcc (Ubuntu 11.4.0-1ubuntu1~22.04) 11.4.0 Ubuntu 20.04 Kernel: 5.15 Compiler: aarch64-linux-gnu-gcc gcc (Ubuntu 9.4.0-1ubuntu1~20.04.2) 9.4.0 Debian GNU/Linux 12 Kernel: 5.4 Compiler: gcc gcc (Debian 12.2.0-14+deb12u1) 12.2.0 CentOS Stream 10 Kernel: 5.4 Compiler: gcc gcc (GCC) 14.2.1 20250110 (Red Hat 14.2.1-8) Fedora Linux 42 Kernel: 5.4 Compiler: clang gcc (GCC) 15.2.1 20250808 (Red Hat 15.2.1-1) CentOS Stream 9 Kernel: 5.4 Compiler: gcc gcc (GCC) 11.5.0 20240719 (Red Hat 11.5.0-11) Ubuntu 24.04 Kernel: 5.4 Compiler: gcc gcc (Ubuntu 13.3.0-6ubuntu2~24.04) 13.3.0 To view detailed results, visit: https://lab.dpdk.org/results/dashboard/patchsets/34442/ UNH-IOL DPDK Community Lab To manage your email subscriptions, visit: https://lab.dpdk.org/results/dashboard/preferences/subscriptions/