From mboxrd@z Thu Jan 1 00:00:00 1970 Return-Path: Received: from mails.dpdk.org (mails.dpdk.org [217.70.189.124]) by inbox.dpdk.org (Postfix) with ESMTP id C576048A6E for ; Mon, 3 Nov 2025 00:28:31 +0100 (CET) Received: from mails.dpdk.org (localhost [127.0.0.1]) by mails.dpdk.org (Postfix) with ESMTP id A55344021E; Mon, 3 Nov 2025 00:28:31 +0100 (CET) Received: from mail-qt1-f227.google.com (mail-qt1-f227.google.com [209.85.160.227]) by mails.dpdk.org (Postfix) with ESMTP id 55F0D4021E for ; Mon, 3 Nov 2025 00:28:30 +0100 (CET) Received: by mail-qt1-f227.google.com with SMTP id d75a77b69052e-4ecfc3f4a13so36687841cf.1 for ; Sun, 02 Nov 2025 15:28:30 -0800 (PST) DKIM-Signature: v=1; a=rsa-sha256; c=relaxed/relaxed; d=iol.unh.edu; s=unh-iol; t=1762126109; x=1762730909; darn=dpdk.org; h=references:in-reply-to:cc:to:from:subject:message-id:date:from:to :cc:subject:date:message-id:reply-to; bh=YdmOmfxrD6RJkQEkOgdyyXvjXOhDn/rQ4xPNcSWytD0=; b=GfsnWZxGhU2LVKVwDQlaAsdhw8mt0FLto8c+QO6PIvYTLPOUikrxO4pJnUNSJ4jb3r S47oyUcejvibMyN+cu8XeR5SclPZu89+jg4pmWnpudZk9bNxj6Ii5SZq8sTG6pPRlcVt wrpjMzven/wMceMOy2ZFm0YItpYb+INJu7iCw= X-Google-DKIM-Signature: v=1; a=rsa-sha256; c=relaxed/relaxed; d=1e100.net; s=20230601; t=1762126109; x=1762730909; h=references:in-reply-to:cc:to:from:subject:message-id:date :x-gm-message-state:from:to:cc:subject:date:message-id:reply-to; bh=YdmOmfxrD6RJkQEkOgdyyXvjXOhDn/rQ4xPNcSWytD0=; b=rXItXDQ5WHxvparxYbdwtqEGg4C4u2fOjLbBPw99ylbB7l9MbUr29DMXLWAWa8tnfC wQvbD2H0oar6kagvzbBRUZEwUVHnldeMSaEOtiXiiSesgTzfYCn9HH8xAjyQnPrcGSX+ mvNreZNNb61AcRIKTkOLfVMATUJ+NsrAeboPv+iqG2yc9MQCYbDG7wjZIUtUsIAC/fUq 9NzcPd5yvnhoj473M6Wk1gVUIlD94wCZPzozVQKKTeFmg6XTPym7zRgMg+nJzU1JqTSK t76bhmmZ9K0u2TBn7wlpTECCxvTzlJ9ifdkfSNa3P/LBvML99FH85U2H7yevlrHZM8mc KBgw== X-Gm-Message-State: AOJu0YwbydrzsbX0X8iLBqeUjVd7aD1Fh4rUO+gk8MIr6tI+Jus7zze0 gfK9Eak1K3sBSJf1LRZxOlvxsG59Ee4cbKvgoz958zl8YbGJYPcgyab7Zo/SmAHzPuMNM0M6+Rw kaL7wzLl7vrieTghnWklRuRqVZbS0RfJRo3+2Gy7zDFYt X-Gm-Gg: ASbGncuFMhXYRiuOk3sAtLNaYpg5eo2lqDKQqoaCt4FG7DRMftvx1V6TiAJ3MWFFwDO ktVy0kMitKrMWf2B4g5hiio5/LGImaPSCcyAo8qMIk4yVC4AWM911Iqm4spGs/5ecfowoAtsM5A 2DDhzjDeHaN5r7ynajJeJVTnTh3xJen12gymYIuazi0HsUw7x/WDemKvCJnwMnn1EUjkhrAnRwe LuUSnXJx3urYMzpa/SfH0cTgln1Um8phXNC21VKycrGvMIkAb2p6JItjzRk4cOCrdAFjlnyUN2N TeebmBAGUDSkEOLX+2oJpKHmSFhLdfTosycDmIH5MyooliIA9oP1XuZYWy7tAnNbqf/hbPYUpb3 6pPQo+v+c6mTEI8HXum4Z5gcGPxin0Ig= X-Google-Smtp-Source: AGHT+IH/w3g1EXf/N44O2W44siDwCexc/sJ9mVTriTNoBY//JH3v9VDY8NJvMKA2yLSMLpv3nnQh1AnwsOXw X-Received: by 2002:a05:622a:5808:b0:4eb:f3df:b657 with SMTP id d75a77b69052e-4ed30f9cad7mr191782481cf.38.1762126109421; Sun, 02 Nov 2025 15:28:29 -0800 (PST) Received: from postal.iol.unh.edu (postal.iol.unh.edu. [132.177.123.84]) by smtp-relay.gmail.com with ESMTPS id 6a1803df08f44-8804eabc0c3sm3724196d6.15.2025.11.02.15.28.29 (version=TLS1_2 cipher=ECDHE-ECDSA-AES128-GCM-SHA256 bits=128/128); Sun, 02 Nov 2025 15:28:29 -0800 (PST) X-Relaying-Domain: iol.unh.edu Date: Sun, 02 Nov 2025 15:28:29 -0800 (PST) Message-ID: <6907e91d.d40a0220.f69ac.4382SMTPIN_ADDED_MISSING@mx.google.com> Received: from [172.21.0.2] (unknown [172.18.0.240]) by postal.iol.unh.edu (Postfix) with ESMTP id 2E72F6051830; Sun, 2 Nov 2025 18:28:29 -0500 (EST) Subject: |SUCCESS| pw158340 [PATCH] fix after-code Doxygen comments From: dpdklab@iol.unh.edu To: Test Report Cc: dpdk-test-reports@iol.unh.edu In-Reply-To: <20251102221400.4018641-1-thomas@monjalon.net> References: <20251102221400.4018641-1-thomas@monjalon.net> Content-Type: text/plain X-BeenThere: test-report@dpdk.org X-Mailman-Version: 2.1.29 Precedence: list List-Id: automatic DPDK test reports List-Unsubscribe: , List-Archive: List-Post: List-Help: List-Subscribe: , Errors-To: test-report-bounces@dpdk.org Test-Label: iol-unit-amd64-testing Test-Status: SUCCESS http://dpdk.org/patch/158340 _Testing PASS_ Submitter: Thomas Monjalon Date: Sunday, November 02 2025 22:14:00 DPDK git baseline: Repo:dpdk Branch: master CommitID:8c4861d00aabcf54ef9d6f1df2a4cfb37c06f6c2 158340 --> testing pass Upstream job id: Generic-VM-Unit-Test-DPDK#32239 Test environment and result as below: +-------------------------------+----------------+ | Environment | dpdk_unit_test | +===============================+================+ | Fedora Linux 40 | PASS | +-------------------------------+----------------+ | Fedora Linux 41 | PASS | +-------------------------------+----------------+ | Red Hat Enterprise Linux 8.10 | PASS | +-------------------------------+----------------+ | Debian GNU/Linux 12 | PASS | +-------------------------------+----------------+ | Ubuntu 22.04 | PASS | +-------------------------------+----------------+ | Ubuntu 20.04 | PASS | +-------------------------------+----------------+ | Fedora Linux 42 | PASS | +-------------------------------+----------------+ | CentOS Stream 10 | PASS | +-------------------------------+----------------+ | CentOS Stream 9 | PASS | +-------------------------------+----------------+ | Red Hat Enterprise Linux 9.5 | PASS | +-------------------------------+----------------+ | Ubuntu 24.04 | PASS | +-------------------------------+----------------+ | Windows Server 2022 | PASS | +-------------------------------+----------------+ Fedora Linux 40 Kernel: 5.15 Compiler: gcc gcc (GCC) 14.2.1 20240912 (Red Hat 14.2.1-3) Fedora Linux 41 Kernel: 5.15 Compiler: gcc gcc (GCC) 14.3.1 20250523 (Red Hat 14.3.1-1) Red Hat Enterprise Linux 8.10 Kernel: 5.15 Compiler: gcc gcc (GCC) 8.5.0 20210514 (Red Hat 8.5.0-22) Debian GNU/Linux 12 Kernel: 5.15 Compiler: gcc gcc (Debian 12.2.0-14+deb12u1) 12.2.0 Ubuntu 22.04 Kernel: 5.15 Compiler: gcc gcc (Ubuntu 11.4.0-1ubuntu1~22.04) 11.4.0 Ubuntu 20.04 Kernel: 5.15 Compiler: gcc gcc (Ubuntu 9.4.0-1ubuntu1~20.04.2) 9.4.0 Fedora Linux 42 Kernel: 5.15 Compiler: gcc gcc (GCC) 15.2.1 20250808 (Red Hat 15.2.1-1) CentOS Stream 10 Kernel: 5.15 Compiler: gcc gcc (GCC) 14.2.1 20250110 (Red Hat 14.2.1-8) CentOS Stream 9 Kernel: 5.15 Compiler: gcc gcc (GCC) 11.5.0 20240719 (Red Hat 11.5.0-11) Red Hat Enterprise Linux 9.5 Kernel: 5.15 Compiler: gcc gcc (GCC) 11.5.0 20240719 (Red Hat 11.5.0-2) Ubuntu 24.04 Kernel: 5.15 Compiler: gcc gcc (Ubuntu 13.3.0-6ubuntu2~24.04) 13.3.0 Windows Server 2022 Kernel: 10.0.20348.2031 Compiler: clang 15.0.7, gcc 14.1.0 (MinGW), and MSVC VS 19.39.33521 To view detailed results, visit: https://lab.dpdk.org/results/dashboard/patchsets/34443/ UNH-IOL DPDK Community Lab To manage your email subscriptions, visit: https://lab.dpdk.org/results/dashboard/preferences/subscriptions/