From mboxrd@z Thu Jan 1 00:00:00 1970 Return-Path: Received: from mails.dpdk.org (mails.dpdk.org [217.70.189.124]) by inbox.dpdk.org (Postfix) with ESMTP id 6AA4A48A6E for ; Mon, 3 Nov 2025 00:34:15 +0100 (CET) Received: from mails.dpdk.org (localhost [127.0.0.1]) by mails.dpdk.org (Postfix) with ESMTP id 445774021E; Mon, 3 Nov 2025 00:34:15 +0100 (CET) Received: from mail-pg1-f227.google.com (mail-pg1-f227.google.com [209.85.215.227]) by mails.dpdk.org (Postfix) with ESMTP id 744A64021E for ; Mon, 3 Nov 2025 00:34:14 +0100 (CET) Received: by mail-pg1-f227.google.com with SMTP id 41be03b00d2f7-b55517e74e3so3725634a12.2 for ; Sun, 02 Nov 2025 15:34:14 -0800 (PST) DKIM-Signature: v=1; a=rsa-sha256; c=relaxed/relaxed; d=iol.unh.edu; s=unh-iol; t=1762126453; x=1762731253; darn=dpdk.org; h=references:in-reply-to:cc:to:from:subject:message-id:date:from:to :cc:subject:date:message-id:reply-to; bh=JFDDILGRPYFFKVoVxeC9rBtH0jI/PTfrOEfsO+r0D7I=; b=KVw9KZ+GSpGNK75XbnrrbX15v1FN1C4mLpJPd+I6wHJ+eEZVRxbOK8S2sCVEv4+SFg lhbFkMF69Mvf07t89FAQroh4ZiWjdReFGeqnZduOphovOuQkdwmSG/iSop4sG2uXPq1A x5b1yjEeMVhFIFkzprQfQlP59GMBJ9/XkbvhQ= X-Google-DKIM-Signature: v=1; a=rsa-sha256; c=relaxed/relaxed; d=1e100.net; s=20230601; t=1762126453; x=1762731253; h=references:in-reply-to:cc:to:from:subject:message-id:date :x-gm-message-state:from:to:cc:subject:date:message-id:reply-to; bh=JFDDILGRPYFFKVoVxeC9rBtH0jI/PTfrOEfsO+r0D7I=; b=qpYe1vCeGpJqQuwCb2C5U6pnGfRBzfb5XL9se/c4XebCsVYlNR2O1b/AO/APDtz4NL KX+3goR6N9X2It6Zkqu1kVCGKRuqa5cljHgCmcDfk5hzKBZCZo17jtmVr/u2vg4+ITvd kxTSb7JQwCLRpXd1+FPefNHeFpI4xN1rZjGJgxqYGBHujXpIiSug//pxq7Gj8KiQYwH5 JM0Ucyb8duljevKzuYRbCW7AYTQmk7HrH3YvCg/hlD4K7QIAI/T2zuyiWNEuKjaX1EIa RLPyPsZz8FQw9GPO+DIzjtfYAozQm6GOIDXfbglrI/jD7j9gbFxk+LHo0vViqyushGFN J3pw== X-Gm-Message-State: AOJu0YzVOBo6wMtel4Mmw8mCPGONLvwVrlQuKBBUxVieZDQsu8Zxom0m eTC8Mzo9AFpXhbhGhBdNR/TGQmbCOZIQWxVLZAE/xvmL/h+b85yaqTE4liUdTT0Sh/Rw4PrksX6 kDNYa/bPP1y6P4e6Lk7fmjBIhK3WCzOOY/3Wq46v3MeVE X-Gm-Gg: ASbGnctHseA1KsxJ7SxQYT1iz9atkJojRP0SgpwMaktVoD1fajtvTx6ZCzF1rwILMBs I/oD8v58jsm+9p1l9tndBebqnBfu1jBDiupUtr7Hs5Kg4TPwAOF+S73mABnLl20hchkD45hnAlV QaPoqInzYYga2s1KON/7I0vj6lYjpMhu4RZGJmSoNx6fobCzp87mVzfhM/CbMktu/8VjGcN9dXP zMuGBDbf4RkhFv9uMHHWEHnDCOWzfjnrr5sGommTgJrevr3y0TTjZ28pd87rkQScvACmzxny8H7 jE5vg5zvJMf5wP3PGS2rR84GLT8MfQW1KqjZkLSV4teKYb7Yn0g9tKKwksKIA6JF40DQOAenRWR lj5KEMsfd6VrPGjDKEAv+Mc9U1dLkA4o= X-Google-Smtp-Source: AGHT+IGkjvcXu4blKpd1kcz4ydeCcxePovKyMb07MS5l5NAXSmkWeXCzzShThWFBjHgiapIBPE/djbaLv3Oc X-Received: by 2002:a17:902:f641:b0:295:7453:b58d with SMTP id d9443c01a7336-2957453b66emr62850955ad.25.1762126453595; Sun, 02 Nov 2025 15:34:13 -0800 (PST) Received: from postal.iol.unh.edu (postal.iol.unh.edu. [132.177.123.84]) by smtp-relay.gmail.com with ESMTPS id d9443c01a7336-29568d73f25sm4805575ad.15.2025.11.02.15.34.13 (version=TLS1_2 cipher=ECDHE-ECDSA-AES128-GCM-SHA256 bits=128/128); Sun, 02 Nov 2025 15:34:13 -0800 (PST) X-Relaying-Domain: iol.unh.edu Date: Sun, 02 Nov 2025 15:34:13 -0800 (PST) Message-ID: <6907ea75.170a0220.16be18.9587SMTPIN_ADDED_MISSING@mx.google.com> Received: from [172.21.0.2] (unknown [172.18.0.240]) by postal.iol.unh.edu (Postfix) with ESMTP id CE18760003E7; Sun, 2 Nov 2025 18:34:12 -0500 (EST) Subject: |SUCCESS| pw158340 [PATCH] fix after-code Doxygen comments From: dpdklab@iol.unh.edu To: Test Report Cc: dpdk-test-reports@iol.unh.edu In-Reply-To: <20251102221400.4018641-1-thomas@monjalon.net> References: <20251102221400.4018641-1-thomas@monjalon.net> Content-Type: text/plain X-BeenThere: test-report@dpdk.org X-Mailman-Version: 2.1.29 Precedence: list List-Id: automatic DPDK test reports List-Unsubscribe: , List-Archive: List-Post: List-Help: List-Subscribe: , Errors-To: test-report-bounces@dpdk.org Test-Label: iol-unit-amd64-testing Test-Status: SUCCESS http://dpdk.org/patch/158340 _Testing PASS_ Submitter: Thomas Monjalon Date: Sunday, November 02 2025 22:14:00 DPDK git baseline: Repo:dpdk Branch: master CommitID:8c4861d00aabcf54ef9d6f1df2a4cfb37c06f6c2 158340 --> testing pass Upstream job id: Generic-VM-Unit-Test-DPDK#32240 Test environment and result as below: +-------------------------------+----------------+ | Environment | dpdk_unit_test | +===============================+================+ | Fedora Linux 40 | PASS | +-------------------------------+----------------+ | Fedora Linux 41 | PASS | +-------------------------------+----------------+ | Red Hat Enterprise Linux 8.10 | PASS | +-------------------------------+----------------+ | Debian GNU/Linux 12 | PASS | +-------------------------------+----------------+ | Ubuntu 22.04 | PASS | +-------------------------------+----------------+ | Ubuntu 20.04 | PASS | +-------------------------------+----------------+ | Fedora Linux 42 | PASS | +-------------------------------+----------------+ | CentOS Stream 10 | PASS | +-------------------------------+----------------+ | CentOS Stream 9 | PASS | +-------------------------------+----------------+ | Red Hat Enterprise Linux 9.5 | PASS | +-------------------------------+----------------+ | Ubuntu 24.04 | PASS | +-------------------------------+----------------+ | Windows Server 2022 | PASS | +-------------------------------+----------------+ Fedora Linux 40 Kernel: 5.15 Compiler: gcc gcc (GCC) 14.2.1 20240912 (Red Hat 14.2.1-3) Fedora Linux 41 Kernel: 5.15 Compiler: gcc gcc (GCC) 14.3.1 20250523 (Red Hat 14.3.1-1) Red Hat Enterprise Linux 8.10 Kernel: 5.15 Compiler: gcc gcc (GCC) 8.5.0 20210514 (Red Hat 8.5.0-22) Debian GNU/Linux 12 Kernel: 5.15 Compiler: gcc gcc (Debian 12.2.0-14+deb12u1) 12.2.0 Ubuntu 22.04 Kernel: 5.15 Compiler: gcc gcc (Ubuntu 11.4.0-1ubuntu1~22.04) 11.4.0 Ubuntu 20.04 Kernel: 5.15 Compiler: gcc gcc (Ubuntu 9.4.0-1ubuntu1~20.04.2) 9.4.0 Fedora Linux 42 Kernel: 5.15 Compiler: gcc gcc (GCC) 15.2.1 20250808 (Red Hat 15.2.1-1) CentOS Stream 10 Kernel: 5.15 Compiler: gcc gcc (GCC) 14.2.1 20250110 (Red Hat 14.2.1-8) CentOS Stream 9 Kernel: 5.15 Compiler: gcc gcc (GCC) 11.5.0 20240719 (Red Hat 11.5.0-11) Red Hat Enterprise Linux 9.5 Kernel: 5.15 Compiler: gcc gcc (GCC) 11.5.0 20240719 (Red Hat 11.5.0-2) Ubuntu 24.04 Kernel: 5.15 Compiler: gcc gcc (Ubuntu 13.3.0-6ubuntu2~24.04) 13.3.0 Windows Server 2022 Kernel: 10.0.20348.2031 Compiler: clang 15.0.7, gcc 14.1.0 (MinGW), and MSVC VS 19.39.33521 To view detailed results, visit: https://lab.dpdk.org/results/dashboard/patchsets/34443/ UNH-IOL DPDK Community Lab To manage your email subscriptions, visit: https://lab.dpdk.org/results/dashboard/preferences/subscriptions/