From mboxrd@z Thu Jan 1 00:00:00 1970 Return-Path: Received: from mails.dpdk.org (mails.dpdk.org [217.70.189.124]) by inbox.dpdk.org (Postfix) with ESMTP id 824F948A71 for ; Mon, 3 Nov 2025 02:55:45 +0100 (CET) Received: from mails.dpdk.org (localhost [127.0.0.1]) by mails.dpdk.org (Postfix) with ESMTP id 597704021E; Mon, 3 Nov 2025 02:55:45 +0100 (CET) Received: from mail-io1-f98.google.com (mail-io1-f98.google.com [209.85.166.98]) by mails.dpdk.org (Postfix) with ESMTP id CE1DB4021E for ; Mon, 3 Nov 2025 02:55:43 +0100 (CET) Received: by mail-io1-f98.google.com with SMTP id ca18e2360f4ac-93e89a59d68so157214339f.0 for ; Sun, 02 Nov 2025 17:55:43 -0800 (PST) DKIM-Signature: v=1; a=rsa-sha256; c=relaxed/relaxed; d=iol.unh.edu; s=unh-iol; t=1762134943; x=1762739743; darn=dpdk.org; h=references:in-reply-to:cc:to:from:subject:message-id:date:from:to :cc:subject:date:message-id:reply-to; bh=Dl1afdbwJKhONKuVwZNw18IWhT8kHwE7p2sSkPzgIxo=; b=Z/7bcd8pV5BkQuh8iH+Y78ayQqNsRosSCCEiZewm5sUERMjus3ekziQ/OrOmauW63p aTbnVvZiXZVbv8dgkvZDGk0LNnmMrmLmV/RkrOM/0s02gu7kL7UBuzxj0hyWMj/oOOgM MxtVQhr9OepmrsWxskf/S7bfTEShyxrIPTYAw= X-Google-DKIM-Signature: v=1; a=rsa-sha256; c=relaxed/relaxed; d=1e100.net; s=20230601; t=1762134943; x=1762739743; h=references:in-reply-to:cc:to:from:subject:message-id:date :x-gm-message-state:from:to:cc:subject:date:message-id:reply-to; bh=Dl1afdbwJKhONKuVwZNw18IWhT8kHwE7p2sSkPzgIxo=; b=azeNHQ+1BrDLJJoC/tQe4qKWQV77ysrlyLa4Xk1BYxq9O/8iu+QG0iM6uH40cF3mOw Tv77qtR6HL2ba8uXs+y0+jicp0NACC2ICV33myk3zVHKUw+e5E260653epvk4gLbBNq0 dLwLsrw/YpDqBLRo7OMZkblH1Wo+gd1pRNTgNwIHpLznWlzTewPrYnZ+inFt6tOGotQA y8mNgA6shOuHWL+QpMHT5rc3q9o20u6CfWxdJLhifCuOW3XbLnB5kDhEd/eUkQ805HUa EIouwx6bfbQEuS+FVW2Do7fwLZwYfSZvDHqz03QWdhtI/zXJx4JBzIDMwGDBgtaKexQR PBWw== X-Gm-Message-State: AOJu0YwFWMp/zCVPE2GcFCS7Um2ZdR3Kno3Ghht1p8RR9ocdUOrXoW8R vIMHiy5nzWuSLy/BCQwDHsGnZVKi2e4Y4JRduJ8Iso4jSxHIr5W1/zv6jWVXtLT5BZQf9EDu+Z0 t5dKeOkppJ9BRvYwIxepT9u0yQ4WsZvVsWbAoIvHq991mr4CEaOKVHADjOeMp X-Gm-Gg: ASbGncvuJYCCYHl9C4Lk/BsFuY2s7sQhVSk+Gf+KHbEqAQ+K5BrPHtnpcD74pu00Zh4 yIMnsPoty/XQ3G71BdwZgwCR5Ge9Z3I1oA3YpnWtnHsiZz/9vV7uQLf1luF8Qy9y2SZDanWcBWL 22F+5mrAuBOP5SwnwkyyLxL9sPojnrYHa4TlnOIJ0ULDxtEiwX127GxQZ4aVT8spb5y66d8yLOp vQpVERYLaaK/2bTEbVEgtMKqeOLRZnxfcGv6+JTApEVxUe4YIDbNe3Ei1GQaAvzKAu4yTzRNw0u oPUR+ybjynQXAk1D1Fb64Au4Gd0kSEe3QIMQ9RKb332LwqMjlNF4k+1HCIb5P2PC60fRzTXFFMY /LGZNw65S X-Google-Smtp-Source: AGHT+IHFXBINY8DxLOrcdXROPuKjdcuBiPcegjsB/2B8equBJMJQ8kzyawfUUM5Qi70mP6rgrZwggFYlQHLr X-Received: by 2002:a05:6602:1644:b0:945:8eeb:14ab with SMTP id ca18e2360f4ac-948229e14b6mr1725394539f.9.1762134943027; Sun, 02 Nov 2025 17:55:43 -0800 (PST) Received: from postal.iol.unh.edu (postal.iol.unh.edu. [2606:4100:3880:1234::84]) by smtp-relay.gmail.com with ESMTPS id 8926c6da1cb9f-5b71c40469dsm43092173.30.2025.11.02.17.55.42 (version=TLS1_2 cipher=ECDHE-ECDSA-AES128-GCM-SHA256 bits=128/128); Sun, 02 Nov 2025 17:55:43 -0800 (PST) X-Relaying-Domain: iol.unh.edu Date: Sun, 02 Nov 2025 17:55:43 -0800 (PST) Message-ID: <69080b9f.050a0220.2356c5.2483SMTPIN_ADDED_MISSING@mx.google.com> Received: from [172.21.0.2] (unknown [172.18.0.240]) by postal.iol.unh.edu (Postfix) with ESMTP id 8413860003E7; Sun, 2 Nov 2025 20:55:42 -0500 (EST) Subject: |SUCCESS| pw158340 [PATCH] fix after-code Doxygen comments From: dpdklab@iol.unh.edu To: Test Report Cc: dpdk-test-reports@iol.unh.edu In-Reply-To: <20251102221400.4018641-1-thomas@monjalon.net> References: <20251102221400.4018641-1-thomas@monjalon.net> Content-Type: text/plain X-BeenThere: test-report@dpdk.org X-Mailman-Version: 2.1.29 Precedence: list List-Id: automatic DPDK test reports List-Unsubscribe: , List-Archive: List-Post: List-Help: List-Subscribe: , Errors-To: test-report-bounces@dpdk.org Test-Label: iol-compile-arm64-testing Test-Status: SUCCESS http://dpdk.org/patch/158340 _Testing PASS_ Submitter: Thomas Monjalon Date: Sunday, November 02 2025 22:14:00 DPDK git baseline: Repo:dpdk Branch: master CommitID:8c4861d00aabcf54ef9d6f1df2a4cfb37c06f6c2 158340 --> testing pass Upstream job id: Generic-DPDK-Compile-Meson#440093 Test environment and result as below: +------------------------------+--------------------+ | Environment | dpdk_meson_compile | +==============================+====================+ | Red Hat Enterprise Linux 9.5 | PASS | +------------------------------+--------------------+ | Ubuntu 24.04 | PASS | +------------------------------+--------------------+ | CentOS Stream 9 | PASS | +------------------------------+--------------------+ | Debian GNU/Linux 12 | PASS | +------------------------------+--------------------+ | Ubuntu 20.04 | PASS | +------------------------------+--------------------+ | Ubuntu 22.04 | PASS | +------------------------------+--------------------+ | Fedora Linux 42 | PASS | +------------------------------+--------------------+ | CentOS Stream 10 | PASS | +------------------------------+--------------------+ Red Hat Enterprise Linux 9.5 Kernel: 5.4 Compiler: gcc gcc (GCC) 11.5.0 20240719 (Red Hat 11.5.0-2) Ubuntu 24.04 Kernel: 5.4 Compiler: gcc gcc (Ubuntu 13.3.0-6ubuntu2~24.04) 13.3.0 CentOS Stream 9 Kernel: 5.4 Compiler: gcc gcc (GCC) 11.5.0 20240719 (Red Hat 11.5.0-11) Debian GNU/Linux 12 Kernel: 5.4 Compiler: gcc gcc (Debian 12.2.0-14+deb12u1) 12.2.0 Ubuntu 20.04 Kernel: 5.4 Compiler: gcc gcc (Ubuntu 9.4.0-1ubuntu1~20.04.2) 9.4.0 Ubuntu 22.04 Kernel: 5.4 Compiler: gcc gcc (Ubuntu 11.4.0-1ubuntu1~22.04) 11.4.0 Fedora Linux 42 Kernel: 5.4 Compiler: clang gcc (GCC) 15.2.1 20250808 (Red Hat 15.2.1-1) CentOS Stream 10 Kernel: 5.4 Compiler: gcc gcc (GCC) 14.2.1 20250110 (Red Hat 14.2.1-8) To view detailed results, visit: https://lab.dpdk.org/results/dashboard/patchsets/34443/ UNH-IOL DPDK Community Lab To manage your email subscriptions, visit: https://lab.dpdk.org/results/dashboard/preferences/subscriptions/