From mboxrd@z Thu Jan 1 00:00:00 1970 Return-Path: Received: from mails.dpdk.org (mails.dpdk.org [217.70.189.124]) by inbox.dpdk.org (Postfix) with ESMTP id 6704348A75 for ; Mon, 3 Nov 2025 05:25:06 +0100 (CET) Received: from mails.dpdk.org (localhost [127.0.0.1]) by mails.dpdk.org (Postfix) with ESMTP id 5E4784021E; Mon, 3 Nov 2025 05:25:06 +0100 (CET) Received: from mail-qv1-f100.google.com (mail-qv1-f100.google.com [209.85.219.100]) by mails.dpdk.org (Postfix) with ESMTP id BF2D34021E for ; Mon, 3 Nov 2025 05:25:04 +0100 (CET) Received: by mail-qv1-f100.google.com with SMTP id 6a1803df08f44-88057f5d041so5369986d6.1 for ; Sun, 02 Nov 2025 20:25:04 -0800 (PST) DKIM-Signature: v=1; a=rsa-sha256; c=relaxed/relaxed; d=iol.unh.edu; s=unh-iol; t=1762143904; x=1762748704; darn=dpdk.org; h=references:in-reply-to:cc:to:from:subject:message-id:date:from:to :cc:subject:date:message-id:reply-to; bh=eb24/uo+AYLPx7K5uv2o1sS1GMk3422IHI3RXmK0ous=; b=HdQLY9/gBR3J8Zfr14G6BLYc3pg3eoDB+Xy/my5hmXTb++67rhOntNf7HrEQ1MYGro UD5x9NdUmc7HX5IfW7TU3Uz0pqPWLg0d9XaiuBUDfjosPcuQ7LEaTEJIPS9V34eRuzP/ JY6PJyssfhI2i9BE7Yln7msIEmAJAORt5BMzQ= X-Google-DKIM-Signature: v=1; a=rsa-sha256; c=relaxed/relaxed; d=1e100.net; s=20230601; t=1762143904; x=1762748704; h=references:in-reply-to:cc:to:from:subject:message-id:date :x-gm-message-state:from:to:cc:subject:date:message-id:reply-to; bh=eb24/uo+AYLPx7K5uv2o1sS1GMk3422IHI3RXmK0ous=; b=aA+7OsLdIVbCXszoNAdO1XvQYfrexGzz2R+e82PBBVYeCpCYCSwb/y/Vj/izm/JI9O /MRaiOvyg6l2BScAANyhkOHjleV8HQihJDn3ZuH0qsAjym80cdycoWBUFjs6W22JhZh/ icqyNiUsRDEtqOg4whGjDuXvJ5+4HaaJdwfmEUhgEEZgr0QhXsBkdZZEM+M5ewiPNCaq 7adeKGeD9Ug7drDaldId9p3Nlhy3q6rJ6bszh6RDondL1EOskMHMiHkvRB8/azsosJTD ntazD8xlDy60hr5n6ydRiJEv1lMmCPt+jwX4vHz3Hf9hJTu0snHpzcXHuu2IIwik1fMo Te6g== X-Gm-Message-State: AOJu0YwJjaS/0jw10VXhqe/X3+L2INf9L2Tx9m3l5B9fReyJQy4GO4u5 Z/89mugpYDW58T0N85h61vR8fsCd47LcKCLa09Df1i8i4qr0fU7JqN6BDgI78FgRV3rMfFTWUfs QTwCPrgAnKKgSQ6GIZXgE/1V8mo3DOF8gH5dr47sRl9yQnqcftdKoXVGaE1Su X-Gm-Gg: ASbGncuJgQGXlO5tyJdxjX/0rSFHlQ1QawHROP6frp088olnkgcOIWY6MaYiewKhWfy nCMnHwpwg05tw+qras8TTKGS307L8BAePxCmqmB1ImCWGnUnOIelrWdqdrN7UYXaWfuMOxayLis o87WCESDkRtei5XfRyf0MzMkULNXa2n8AA47gaG5DdIy0Pcz7T8bUazbbaQ8/MZ0debvIaednng sw2RIIAbcZW4SEkklP51UKdW3TE2NYXXtPeP0ohHeWYGSsif60K8iWPeWzlmj9GWm9tvpOiSa11 Tp+vlgzMPltjAFiBnfom3/yeEvsVwZIc+37xN7afPt+6VKBXFSLwDQHMVg5Pwr/OooYzK14WvID wsZPYY+w0 X-Google-Smtp-Source: AGHT+IEgtkmDFnH2uV8jLR/IeclB2FX2Qtbka/2iAf/6EFUpvNnECOC0tSNTybMxomTHwqtaPFfjbmmzg7oS X-Received: by 2002:a05:620a:199a:b0:887:756:7d5c with SMTP id af79cd13be357-8ab990ab309mr1346494785a.9.1762143904087; Sun, 02 Nov 2025 20:25:04 -0800 (PST) Received: from postal.iol.unh.edu (postal.iol.unh.edu. [2606:4100:3880:1234::84]) by smtp-relay.gmail.com with ESMTPS id af79cd13be357-8ac024c650esm85725485a.6.2025.11.02.20.25.04 (version=TLS1_2 cipher=ECDHE-ECDSA-AES128-GCM-SHA256 bits=128/128); Sun, 02 Nov 2025 20:25:04 -0800 (PST) X-Relaying-Domain: iol.unh.edu Date: Sun, 02 Nov 2025 20:25:04 -0800 (PST) Message-ID: <69082ea0.050a0220.3ae037.cce5SMTPIN_ADDED_MISSING@mx.google.com> Received: from [172.21.0.2] (unknown [172.18.0.240]) by postal.iol.unh.edu (Postfix) with ESMTP id CBE646051830; Sun, 2 Nov 2025 23:25:03 -0500 (EST) Subject: |WARNING| pw158341-158344 [PATCH] [v3,4/4] doc: add PTP IDPF documen From: dpdklab@iol.unh.edu To: Test Report Cc: dpdk-test-reports@iol.unh.edu, Bruce Richardson In-Reply-To: <20251103160646.140084-5-soumyadeep.hore@intel.com> References: <20251103160646.140084-5-soumyadeep.hore@intel.com> Content-Type: text/plain X-BeenThere: test-report@dpdk.org X-Mailman-Version: 2.1.29 Precedence: list List-Id: automatic DPDK test reports List-Unsubscribe: , List-Archive: List-Post: List-Help: List-Subscribe: , Errors-To: test-report-bounces@dpdk.org Test-Label: iol-compile-amd64-testing Test-Status: WARNING http://dpdk.org/patch/158344 _Testing issues_ Submitter: Soumyadeep Hore Date: Monday, November 03 2025 16:06:45 DPDK git baseline: Repo:dpdk-next-net-intel Branch: master CommitID:40de0ba36a04ef80e8a2ac90c240183fc2c6d1b4 158341-158344 --> testing issues Upstream job id: Generic-DPDK-Compile-Meson#440114 Test environment and result as below: +-------------------------------+--------------------+-------------------+-------------------+------------------+-------------------------+ | Environment | dpdk_meson_compile | dpdk_compile_spdk | dpdk_msvc_compile | dpdk_compile_ovs | dpdk_llvm_clang_compile | +===============================+====================+===================+===================+==================+=========================+ | CentOS Stream 9 | PASS | WARN | SKIPPED | SKIPPED | SKIPPED | +-------------------------------+--------------------+-------------------+-------------------+------------------+-------------------------+ | CentOS Stream 10 | PASS | SKIPPED | SKIPPED | SKIPPED | SKIPPED | +-------------------------------+--------------------+-------------------+-------------------+------------------+-------------------------+ | Red Hat Enterprise Linux 8.10 | PASS | SKIPPED | SKIPPED | SKIPPED | SKIPPED | +-------------------------------+--------------------+-------------------+-------------------+------------------+-------------------------+ | Ubuntu 20.04 | PASS | SKIPPED | SKIPPED | SKIPPED | SKIPPED | +-------------------------------+--------------------+-------------------+-------------------+------------------+-------------------------+ | openSUSE Leap 15.6 | PASS | SKIPPED | SKIPPED | SKIPPED | SKIPPED | +-------------------------------+--------------------+-------------------+-------------------+------------------+-------------------------+ | Fedora Linux 42 | PASS | WARN | SKIPPED | PASS | SKIPPED | +-------------------------------+--------------------+-------------------+-------------------+------------------+-------------------------+ | Debian GNU/Linux 12 | PASS | WARN | SKIPPED | SKIPPED | SKIPPED | +-------------------------------+--------------------+-------------------+-------------------+------------------+-------------------------+ | Red Hat Enterprise Linux 9.5 | PASS | SKIPPED | SKIPPED | SKIPPED | SKIPPED | +-------------------------------+--------------------+-------------------+-------------------+------------------+-------------------------+ | Ubuntu 24.04 | PASS | WARN | SKIPPED | PASS | SKIPPED | +-------------------------------+--------------------+-------------------+-------------------+------------------+-------------------------+ | Ubuntu 22.04 | PASS | WARN | SKIPPED | SKIPPED | SKIPPED | +-------------------------------+--------------------+-------------------+-------------------+------------------+-------------------------+ | FreeBSD 14.2 | PASS | SKIPPED | SKIPPED | SKIPPED | SKIPPED | +-------------------------------+--------------------+-------------------+-------------------+------------------+-------------------------+ | Alpine Linux 3.22.0 | PASS | SKIPPED | SKIPPED | SKIPPED | SKIPPED | +-------------------------------+--------------------+-------------------+-------------------+------------------+-------------------------+ | Windows Server 2022 | SKIPPED | SKIPPED | PASS | SKIPPED | PASS | +-------------------------------+--------------------+-------------------+-------------------+------------------+-------------------------+ ==== 20 line log output for Ubuntu 22.04 (dpdk_compile_spdk): ==== --- Failed to get log output --- ==== End log output ==== CentOS Stream 9 Kernel: 5.15 Compiler: gcc gcc (GCC) 11.5.0 20240719 (Red Hat 11.5.0-11) CentOS Stream 10 Kernel: 5.15 Compiler: gcc gcc (GCC) 14.2.1 20250110 (Red Hat 14.2.1-8) Red Hat Enterprise Linux 8.10 Kernel: 5.15 Compiler: gcc gcc (GCC) 8.5.0 20210514 (Red Hat 8.5.0-22) Ubuntu 20.04 Kernel: 4.19 Compiler: gcc gcc (Ubuntu 9.4.0-1ubuntu1~20.04.2) 9.4.0 openSUSE Leap 15.6 Kernel: 5.15 Compiler: gcc gcc (SUSE Linux) 7.5.0 Fedora Linux 42 Kernel: 5.15 Compiler: clang gcc (GCC) 15.2.1 20250808 (Red Hat 15.2.1-1) Debian GNU/Linux 12 Kernel: 5.15 Compiler: gcc gcc (Debian 12.2.0-14+deb12u1) 12.2.0 Red Hat Enterprise Linux 9.5 Kernel: 5.15 Compiler: gcc gcc (GCC) 11.5.0 20240719 (Red Hat 11.5.0-2) Ubuntu 24.04 Kernel: 5.15 Compiler: gcc gcc (Ubuntu 13.3.0-6ubuntu2~24.04) 13.3.0 Ubuntu 22.04 Kernel: 5.15 Compiler: gcc gcc (Ubuntu 11.4.0-1ubuntu1~22.04) 11.4.0 FreeBSD 14.2 Kernel: 14.2-RELEASE Compiler: clang 18.1.6 Alpine Linux 3.22.0 Kernel: 5.15 Compiler: gcc gcc (Alpine 14.2.0) 14.2.0 Windows Server 2022 Kernel: 10.0.20348.2031 Compiler: clang 15.0.7, gcc 14.1.0 (MinGW), and MSVC VS 19.39.33521 To view detailed results, visit: https://lab.dpdk.org/results/dashboard/patchsets/34444/ UNH-IOL DPDK Community Lab To manage your email subscriptions, visit: https://lab.dpdk.org/results/dashboard/preferences/subscriptions/