From mboxrd@z Thu Jan 1 00:00:00 1970 Return-Path: Received: from mails.dpdk.org (mails.dpdk.org [217.70.189.124]) by inbox.dpdk.org (Postfix) with ESMTP id 9C34248A75 for ; Mon, 3 Nov 2025 05:36:25 +0100 (CET) Received: from mails.dpdk.org (localhost [127.0.0.1]) by mails.dpdk.org (Postfix) with ESMTP id 95A554021E; Mon, 3 Nov 2025 05:36:25 +0100 (CET) Received: from mail-qt1-f228.google.com (mail-qt1-f228.google.com [209.85.160.228]) by mails.dpdk.org (Postfix) with ESMTP id 3A8F44021E for ; Mon, 3 Nov 2025 05:36:24 +0100 (CET) Received: by mail-qt1-f228.google.com with SMTP id d75a77b69052e-4ecee8ce926so39036251cf.1 for ; Sun, 02 Nov 2025 20:36:24 -0800 (PST) DKIM-Signature: v=1; a=rsa-sha256; c=relaxed/relaxed; d=iol.unh.edu; s=unh-iol; t=1762144583; x=1762749383; darn=dpdk.org; h=references:in-reply-to:cc:to:from:subject:message-id:date:from:to :cc:subject:date:message-id:reply-to; bh=v+VRjU6BZE4jjOC3fLYLitFhg5SPfAQWUTilWzd9J6I=; b=OLIG2BkTjfj6FHEl9pxos5FI5pldggV35h24Jw3Z7MBth9FC7086Qq8psMTnzN48Bb +TRBvERcYmOCem9c28pSlQjTkTY8aNuUqn1cz3UJ4wrJTIw6YlGQWawW22v+zeRAgPKa n+VwS4AstnGIkZ/NPgSIX6qrR5eZd6s3mTFgg= X-Google-DKIM-Signature: v=1; a=rsa-sha256; c=relaxed/relaxed; d=1e100.net; s=20230601; t=1762144583; x=1762749383; h=references:in-reply-to:cc:to:from:subject:message-id:date :x-gm-message-state:from:to:cc:subject:date:message-id:reply-to; bh=v+VRjU6BZE4jjOC3fLYLitFhg5SPfAQWUTilWzd9J6I=; b=Ta16smlxRMm8bJj8CEYr++uNP0VLINVs+G3WLswfYs9t3z3VgORQm4CR1rV6WlIxyN mimcoSWIiNKyAbdS6+7BAnpQewQs9DPsmD6d82GlR32+3sizd/DzAkmGlz6TzJmv5frh DP3GJUrfHsYAchkwD0t0n1ZIJHYm6SANhsvDOA0GEKn/VKcWSZoyZs/RZ2Tk4NtYxXXd 2a4bgXTB8hjK880W6rBVmP3E5rxZdudySxI3EMiqCs9KmNKtTgDSeOqiOZzjUcEF/drl zyT+FWSzGAAxXpb7jJBAILXJ+A1Yrqhto/RwhcJnN4urhAOtYL+wbZjKgGA8i7h4O7JD NaSA== X-Gm-Message-State: AOJu0Yy+Gx97F9DFzd6cxmgUN7aXQRSb6t6geNm5TDqjHpIW1ThhcbTo 0iqs9AkxSeAHlUSn+koCuKiaqn/xirZYiTfoM1EQF0LMICxD4f1nr+NUg5evrS85srbbxRvEvdZ rtoz0X1kDRvqbJ97UxC8NRFyv9HyZ23fFkXW8CKu7hebXFFeFv1Bc8TJnmk5V X-Gm-Gg: ASbGnctD5+5Tm0T541lU5wv95FG6r8OyRAH1JdLnmowZ2GC7d1KZahqUX1qo6Vpn37q mbXu4aih76sLKWEhlDhLq6Gb08V4kOF8/19PE0Uwgvbi7H09y9oDs/tDEWdvJnLO//1mUXbxtY9 ha3BSvBoSMld7b+Zxt8HiMbu1MLMtD+LWuqO5mH4rQ+clZCOoLUbQZgH6jYZoERldGVt6kN3ZoC b5wF802C3ZObruSjtktpTL9IisjkHX5ndjvgF1lobJR6EjdYF8wiWN+on1vm17OTESms/UIq48/ 75RWJfkUaBCgD4E+wNIu+uDkJZrbs3puJwJRF2XGx1wTkCOQeOppo2U6MdqMUpETAKTBuAJu8Ez yPe6dZ924 X-Google-Smtp-Source: AGHT+IFbZQy/KxyAn7/COQMMyQg61+eNEQ10XjUDS7l5arcHe9E2c+33G/qn7f2On2Vyj7NaZXR1ul1/nr+/ X-Received: by 2002:a05:622a:1e87:b0:4ec:f311:9733 with SMTP id d75a77b69052e-4ed310ec129mr166362891cf.64.1762144583568; Sun, 02 Nov 2025 20:36:23 -0800 (PST) Received: from postal.iol.unh.edu (postal.iol.unh.edu. [2606:4100:3880:1234::84]) by smtp-relay.gmail.com with ESMTPS id d75a77b69052e-4ed34fd1381sm5233771cf.2.2025.11.02.20.36.23 (version=TLS1_2 cipher=ECDHE-ECDSA-AES128-GCM-SHA256 bits=128/128); Sun, 02 Nov 2025 20:36:23 -0800 (PST) X-Relaying-Domain: iol.unh.edu Date: Sun, 02 Nov 2025 20:36:23 -0800 (PST) Message-ID: <69083147.050a0220.2fde50.b4b2SMTPIN_ADDED_MISSING@mx.google.com> Received: from [172.21.0.3] (unknown [172.18.0.240]) by postal.iol.unh.edu (Postfix) with ESMTP id 434C06051830; Sun, 2 Nov 2025 23:36:23 -0500 (EST) Subject: |WARNING| pw158341-158344 [PATCH] [v3,4/4] doc: add PTP IDPF documen From: dpdklab@iol.unh.edu To: Test Report Cc: dpdk-test-reports@iol.unh.edu, Bruce Richardson In-Reply-To: <20251103160646.140084-5-soumyadeep.hore@intel.com> References: <20251103160646.140084-5-soumyadeep.hore@intel.com> Content-Type: text/plain X-BeenThere: test-report@dpdk.org X-Mailman-Version: 2.1.29 Precedence: list List-Id: automatic DPDK test reports List-Unsubscribe: , List-Archive: List-Post: List-Help: List-Subscribe: , Errors-To: test-report-bounces@dpdk.org Test-Label: iol-compile-amd64-testing Test-Status: WARNING http://dpdk.org/patch/158344 _Testing issues_ Submitter: Soumyadeep Hore Date: Monday, November 03 2025 16:06:45 DPDK git baseline: Repo:dpdk-next-net-intel Branch: master CommitID:40de0ba36a04ef80e8a2ac90c240183fc2c6d1b4 158341-158344 --> testing issues Upstream job id: Windows-Compile-DPDK-Native#32068 Test environment and result as below: +-------------------------------+--------------------+-------------------+-------------------+------------------+-------------------------+----------------------+ | Environment | dpdk_meson_compile | dpdk_compile_spdk | dpdk_msvc_compile | dpdk_compile_ovs | dpdk_llvm_clang_compile | dpdk_mingw64_compile | +===============================+====================+===================+===================+==================+=========================+======================+ | CentOS Stream 9 | PASS | WARN | SKIPPED | SKIPPED | SKIPPED | SKIPPED | +-------------------------------+--------------------+-------------------+-------------------+------------------+-------------------------+----------------------+ | CentOS Stream 10 | PASS | SKIPPED | SKIPPED | SKIPPED | SKIPPED | SKIPPED | +-------------------------------+--------------------+-------------------+-------------------+------------------+-------------------------+----------------------+ | Red Hat Enterprise Linux 8.10 | PASS | SKIPPED | SKIPPED | SKIPPED | SKIPPED | SKIPPED | +-------------------------------+--------------------+-------------------+-------------------+------------------+-------------------------+----------------------+ | Ubuntu 20.04 | PASS | SKIPPED | SKIPPED | SKIPPED | SKIPPED | SKIPPED | +-------------------------------+--------------------+-------------------+-------------------+------------------+-------------------------+----------------------+ | openSUSE Leap 15.6 | PASS | SKIPPED | SKIPPED | SKIPPED | SKIPPED | SKIPPED | +-------------------------------+--------------------+-------------------+-------------------+------------------+-------------------------+----------------------+ | Fedora Linux 42 | PASS | WARN | SKIPPED | PASS | SKIPPED | SKIPPED | +-------------------------------+--------------------+-------------------+-------------------+------------------+-------------------------+----------------------+ | Debian GNU/Linux 12 | PASS | WARN | SKIPPED | SKIPPED | SKIPPED | SKIPPED | +-------------------------------+--------------------+-------------------+-------------------+------------------+-------------------------+----------------------+ | Red Hat Enterprise Linux 9.5 | PASS | SKIPPED | SKIPPED | SKIPPED | SKIPPED | SKIPPED | +-------------------------------+--------------------+-------------------+-------------------+------------------+-------------------------+----------------------+ | Ubuntu 24.04 | PASS | WARN | SKIPPED | PASS | SKIPPED | SKIPPED | +-------------------------------+--------------------+-------------------+-------------------+------------------+-------------------------+----------------------+ | Ubuntu 22.04 | PASS | WARN | SKIPPED | SKIPPED | SKIPPED | SKIPPED | +-------------------------------+--------------------+-------------------+-------------------+------------------+-------------------------+----------------------+ | FreeBSD 14.2 | PASS | SKIPPED | SKIPPED | SKIPPED | SKIPPED | SKIPPED | +-------------------------------+--------------------+-------------------+-------------------+------------------+-------------------------+----------------------+ | Alpine Linux 3.22.0 | PASS | SKIPPED | SKIPPED | SKIPPED | SKIPPED | SKIPPED | +-------------------------------+--------------------+-------------------+-------------------+------------------+-------------------------+----------------------+ | Windows Server 2022 | SKIPPED | SKIPPED | PASS | SKIPPED | PASS | PASS | +-------------------------------+--------------------+-------------------+-------------------+------------------+-------------------------+----------------------+ ==== 20 line log output for Ubuntu 22.04 (dpdk_compile_spdk): ==== --- Failed to get log output --- ==== End log output ==== CentOS Stream 9 Kernel: 5.15 Compiler: gcc gcc (GCC) 11.5.0 20240719 (Red Hat 11.5.0-11) CentOS Stream 10 Kernel: 5.15 Compiler: gcc gcc (GCC) 14.2.1 20250110 (Red Hat 14.2.1-8) Red Hat Enterprise Linux 8.10 Kernel: 5.15 Compiler: gcc gcc (GCC) 8.5.0 20210514 (Red Hat 8.5.0-22) Ubuntu 20.04 Kernel: 4.19 Compiler: gcc gcc (Ubuntu 9.4.0-1ubuntu1~20.04.2) 9.4.0 openSUSE Leap 15.6 Kernel: 5.15 Compiler: gcc gcc (SUSE Linux) 7.5.0 Fedora Linux 42 Kernel: 5.15 Compiler: clang gcc (GCC) 15.2.1 20250808 (Red Hat 15.2.1-1) Debian GNU/Linux 12 Kernel: 5.15 Compiler: gcc gcc (Debian 12.2.0-14+deb12u1) 12.2.0 Red Hat Enterprise Linux 9.5 Kernel: 5.15 Compiler: gcc gcc (GCC) 11.5.0 20240719 (Red Hat 11.5.0-2) Ubuntu 24.04 Kernel: 5.15 Compiler: gcc gcc (Ubuntu 13.3.0-6ubuntu2~24.04) 13.3.0 Ubuntu 22.04 Kernel: 5.15 Compiler: gcc gcc (Ubuntu 11.4.0-1ubuntu1~22.04) 11.4.0 FreeBSD 14.2 Kernel: 14.2-RELEASE Compiler: clang 18.1.6 Alpine Linux 3.22.0 Kernel: 5.15 Compiler: gcc gcc (Alpine 14.2.0) 14.2.0 Windows Server 2022 Kernel: 10.0.20348.2031 Compiler: clang 15.0.7, gcc 14.1.0 (MinGW), and MSVC VS 19.39.33521 To view detailed results, visit: https://lab.dpdk.org/results/dashboard/patchsets/34444/ UNH-IOL DPDK Community Lab To manage your email subscriptions, visit: https://lab.dpdk.org/results/dashboard/preferences/subscriptions/