From mboxrd@z Thu Jan 1 00:00:00 1970 Return-Path: Received: from mails.dpdk.org (mails.dpdk.org [217.70.189.124]) by inbox.dpdk.org (Postfix) with ESMTP id 9683048A75 for ; Mon, 3 Nov 2025 05:45:06 +0100 (CET) Received: from mails.dpdk.org (localhost [127.0.0.1]) by mails.dpdk.org (Postfix) with ESMTP id 6B0AE4021E; Mon, 3 Nov 2025 05:45:06 +0100 (CET) Received: from mail-qt1-f228.google.com (mail-qt1-f228.google.com [209.85.160.228]) by mails.dpdk.org (Postfix) with ESMTP id 8D7CC4021E for ; Mon, 3 Nov 2025 05:45:04 +0100 (CET) Received: by mail-qt1-f228.google.com with SMTP id d75a77b69052e-4ed101e8486so56348101cf.2 for ; Sun, 02 Nov 2025 20:45:04 -0800 (PST) DKIM-Signature: v=1; a=rsa-sha256; c=relaxed/relaxed; d=iol.unh.edu; s=unh-iol; t=1762145104; x=1762749904; darn=dpdk.org; h=references:in-reply-to:cc:to:from:subject:message-id:date:from:to :cc:subject:date:message-id:reply-to; bh=DSpB5JCF430Nfbhqim5w1vNimA80DbIYpmuj27Pu0+w=; b=YSYL78Dr8cEargkYOS2cy5Di2o5Io37ICNWpyKOgrXWC8X4ZumzxbIFa5YwYfks3Sk +efRDicfA957A3rW7xE7BsLT+22zX1suY4WpF5ckNYtPtOX8Ax4A8zNCceQpQtont9/m 1/GX3ted8OVdr0yRwMNLh2b2waiT+4oSp2ipU= X-Google-DKIM-Signature: v=1; a=rsa-sha256; c=relaxed/relaxed; d=1e100.net; s=20230601; t=1762145104; x=1762749904; h=references:in-reply-to:cc:to:from:subject:message-id:date :x-gm-message-state:from:to:cc:subject:date:message-id:reply-to; bh=DSpB5JCF430Nfbhqim5w1vNimA80DbIYpmuj27Pu0+w=; b=Od+rlQue43+A2nsSjLmm3fPNINMG3CKURZ9O+j6sDykdmYk9oB/A9fuzek5OXFBrK/ +XSyrsGIEow4e+ssifmGrXM3TBNva4ukBvhtlEoKsh7Jn1pXWvpOkcKf9xf8rTAMjF9s Fe2FXb/RTneK8ipd8cxBQT6FtTF7xngdYUhtU4/9dbKQUQ1OV4SKtr7pwHKCqoqXTtbU lXZ+sZ9lQjMxdCvQvw99VQVyCxYkBoikd0Dow+eDr1aQjCpqNBPnzFjWY78L2uwILT0h b9p90pQrKRjwgc2pg38cjLkSAnWcjCGVC1VNfmb1iHSDcbbk768wuPO6UcaXkbPpRTaV yunQ== X-Gm-Message-State: AOJu0YwV4BJmVoVheoI4jvUcbKALxcr300uFzESFh2sFIM8GQWRFsOqL /y2820Au9bYd0oMIFyoHEh9w09P13ajOr8qIVuV4jGOtERrRgFLutbGGD14ZKbRwcm0oqyELOLE jiVsLWEDfxN5WwaaZkQKKNWXtBSBcRHKprQ8nGygWpUbr X-Gm-Gg: ASbGnctjiFILRNVw97Wn9W+ErkF7NcBrwpYvb9qiL28TRQkUJMfr/EfmdDy5FOkGu0j VRNh+k7VSGLz82Zp8UtfB0Rz2/MCkUUydYOdU1+Iqs16nRRPTn9NxqxnVQyTZiPSclh3rIH1NwC QAewSMnLTCIY03PFf2ulslIE8om4/XhOTJDJ9edzg1+HiAVIUa1Y4Iwr8Xn4JdKTe+G0xyKvU3f 7NGzsbyYUeZVM1BFPNe5Ax9XA/KRBd/nFYiZHA6svscrf9kfWE70NnnmvrfvYQm1UaWJRu2LObh UqPXHqGW8KFYBAjVMp67UP2avcXGsWbXQ2kl+D7s1VzEdSdS99RNqxWDkKdp++hXGAUsufEQ7HA B5NEK9uks11YmazmTWQG5hClc2a+PAK8= X-Google-Smtp-Source: AGHT+IFtvLBKc/uFBnjNoWH+vz1TCoIZNZe7bjUnrumEb9GRv06FLecIVVa1fPffVUAVz572/nGhW5Ltdx/f X-Received: by 2002:a05:622a:8b:b0:4eb:a1cb:7c with SMTP id d75a77b69052e-4ed31005f20mr160487891cf.64.1762145103894; Sun, 02 Nov 2025 20:45:03 -0800 (PST) Received: from postal.iol.unh.edu (postal.iol.unh.edu. [132.177.123.84]) by smtp-relay.gmail.com with ESMTPS id d75a77b69052e-4ed34fd1381sm5249711cf.2.2025.11.02.20.45.03 (version=TLS1_2 cipher=ECDHE-ECDSA-AES128-GCM-SHA256 bits=128/128); Sun, 02 Nov 2025 20:45:03 -0800 (PST) X-Relaying-Domain: iol.unh.edu Date: Sun, 02 Nov 2025 20:45:03 -0800 (PST) Message-ID: <6908334f.050a0220.2fde50.b5cbSMTPIN_ADDED_MISSING@mx.google.com> Received: from [172.21.0.2] (unknown [172.18.0.240]) by postal.iol.unh.edu (Postfix) with ESMTP id 6A3EF6051830; Sun, 2 Nov 2025 23:45:03 -0500 (EST) Subject: |SUCCESS| pw158341-158344 [PATCH] [v3,4/4] doc: add PTP IDPF documen From: dpdklab@iol.unh.edu To: Test Report Cc: dpdk-test-reports@iol.unh.edu, Bruce Richardson In-Reply-To: <20251103160646.140084-5-soumyadeep.hore@intel.com> References: <20251103160646.140084-5-soumyadeep.hore@intel.com> Content-Type: text/plain X-BeenThere: test-report@dpdk.org X-Mailman-Version: 2.1.29 Precedence: list List-Id: automatic DPDK test reports List-Unsubscribe: , List-Archive: List-Post: List-Help: List-Subscribe: , Errors-To: test-report-bounces@dpdk.org Test-Label: iol-unit-amd64-testing Test-Status: SUCCESS http://dpdk.org/patch/158344 _Testing PASS_ Submitter: Soumyadeep Hore Date: Monday, November 03 2025 16:06:45 DPDK git baseline: Repo:dpdk-next-net-intel Branch: master CommitID:40de0ba36a04ef80e8a2ac90c240183fc2c6d1b4 158341-158344 --> testing pass Upstream job id: Generic-VM-Unit-Test-DPDK#32242 Test environment and result as below: +-------------------------------+----------------+ | Environment | dpdk_unit_test | +===============================+================+ | Fedora Linux 42 | PASS | +-------------------------------+----------------+ | Fedora Linux 41 | PASS | +-------------------------------+----------------+ | Debian GNU/Linux 12 | PASS | +-------------------------------+----------------+ | Red Hat Enterprise Linux 9.5 | PASS | +-------------------------------+----------------+ | Ubuntu 24.04 | PASS | +-------------------------------+----------------+ | Fedora Linux 40 | PASS | +-------------------------------+----------------+ | Red Hat Enterprise Linux 8.10 | PASS | +-------------------------------+----------------+ | Ubuntu 20.04 | PASS | +-------------------------------+----------------+ | Ubuntu 22.04 | PASS | +-------------------------------+----------------+ | CentOS Stream 9 | PASS | +-------------------------------+----------------+ | CentOS Stream 10 | PASS | +-------------------------------+----------------+ | Windows Server 2022 | PASS | +-------------------------------+----------------+ Fedora Linux 42 Kernel: 5.15 Compiler: gcc gcc (GCC) 15.2.1 20250808 (Red Hat 15.2.1-1) Fedora Linux 41 Kernel: 5.15 Compiler: gcc gcc (GCC) 14.3.1 20250523 (Red Hat 14.3.1-1) Debian GNU/Linux 12 Kernel: 5.15 Compiler: gcc gcc (Debian 12.2.0-14+deb12u1) 12.2.0 Red Hat Enterprise Linux 9.5 Kernel: 5.15 Compiler: gcc gcc (GCC) 11.5.0 20240719 (Red Hat 11.5.0-2) Ubuntu 24.04 Kernel: 5.15 Compiler: gcc gcc (Ubuntu 13.3.0-6ubuntu2~24.04) 13.3.0 Fedora Linux 40 Kernel: 5.15 Compiler: clang gcc (GCC) 14.2.1 20240912 (Red Hat 14.2.1-3) Red Hat Enterprise Linux 8.10 Kernel: 5.15 Compiler: gcc gcc (GCC) 8.5.0 20210514 (Red Hat 8.5.0-22) Ubuntu 20.04 Kernel: 5.15 Compiler: gcc gcc (Ubuntu 9.4.0-1ubuntu1~20.04.2) 9.4.0 Ubuntu 22.04 Kernel: 5.15 Compiler: gcc gcc (Ubuntu 11.4.0-1ubuntu1~22.04) 11.4.0 CentOS Stream 9 Kernel: 5.15 Compiler: gcc gcc (GCC) 11.5.0 20240719 (Red Hat 11.5.0-11) CentOS Stream 10 Kernel: 5.15 Compiler: gcc gcc (GCC) 14.2.1 20250110 (Red Hat 14.2.1-8) Windows Server 2022 Kernel: 10.0.20348.2031 Compiler: clang 15.0.7, gcc 14.1.0 (MinGW), and MSVC VS 19.39.33521 To view detailed results, visit: https://lab.dpdk.org/results/dashboard/patchsets/34444/ UNH-IOL DPDK Community Lab To manage your email subscriptions, visit: https://lab.dpdk.org/results/dashboard/preferences/subscriptions/