From mboxrd@z Thu Jan 1 00:00:00 1970 Return-Path: Received: from mails.dpdk.org (mails.dpdk.org [217.70.189.124]) by inbox.dpdk.org (Postfix) with ESMTP id 3BE6A48A76 for ; Mon, 3 Nov 2025 06:03:29 +0100 (CET) Received: from mails.dpdk.org (localhost [127.0.0.1]) by mails.dpdk.org (Postfix) with ESMTP id 152F74021E; Mon, 3 Nov 2025 06:03:29 +0100 (CET) Received: from mail-qk1-f227.google.com (mail-qk1-f227.google.com [209.85.222.227]) by mails.dpdk.org (Postfix) with ESMTP id 612D24021E for ; Mon, 3 Nov 2025 06:03:27 +0100 (CET) Received: by mail-qk1-f227.google.com with SMTP id af79cd13be357-85a4ceb4c3dso413287385a.3 for ; Sun, 02 Nov 2025 21:03:27 -0800 (PST) DKIM-Signature: v=1; a=rsa-sha256; c=relaxed/relaxed; d=iol.unh.edu; s=unh-iol; t=1762146206; x=1762751006; darn=dpdk.org; h=references:in-reply-to:cc:to:from:subject:message-id:date:from:to :cc:subject:date:message-id:reply-to; bh=Izb+q+DEoJyJy3ToJZ0ImFg0zPT7KTcI1wc5MNcDBKI=; b=Z6nY974bq0NcvxaDCNd1IHGz8vateFWLpQcXZnsVY01XsxjKl2NuookZyVLIUU2yWU X/ggyiYlpQIYYQCSB3iKCEKs2N7OPY/EHfgQ/6pD9uHdaRezgLPWXsrKsGbbl+HZF7K1 VDsQSufx5d3hK5KWst79jQWFPuZpdhWIlxlEo= X-Google-DKIM-Signature: v=1; a=rsa-sha256; c=relaxed/relaxed; d=1e100.net; s=20230601; t=1762146206; x=1762751006; h=references:in-reply-to:cc:to:from:subject:message-id:date :x-gm-message-state:from:to:cc:subject:date:message-id:reply-to; bh=Izb+q+DEoJyJy3ToJZ0ImFg0zPT7KTcI1wc5MNcDBKI=; b=Zi1GfUySb8LOCGHCbWHPfSv9DiJuz2gEWDGs8Oh9F2LCMQPJnAEGgibwaLyRrNP3sn yPMkLPt5H/Mkmq2XCVXQMvz/LKVq3U4WGdZ+p+SDErMDd0uf+W7Ti1Q+PWZN25SBA+5f 1qo79+IxC6IxPlFlOKriWfq8bZdNrYUK5591q7Hev8V/c0txjkS8x870P0Y+1pw4uV+C 2pz+W3kedQDXVf/uSmF4tsIqTi3dK/lOk88rhxXJR3bbMo6MK/jaLcvgaILa+5kphCq0 YFvA3HyW3O+eMcRXY0TY4tvcUSGLSPD2ssgNVk8k3ILWjwPL8PI0YiTuxiNJidll9M/7 M7CQ== X-Gm-Message-State: AOJu0YyWbhB75YqMKMyr1VfAE4F1E0JCybsi4QZ1pWLJpWjkLhzndzDu 2xOHesT/67fukoC52iHDnVBsjPW//YozP0cpXuhteUTD5CUhRUtSEE7pEGu6gK9nkZlLNB1q3uT o2RpSirBZQCT8/GC5//syLVWsWwF0miSeXfydqW47rf1LNSy7XeSoQDxiaPYl X-Gm-Gg: ASbGnctXb6ZnhN0qN6M5Ayu7aGFqhiyd6AbNetGEWzl1Kb49oLdrrPkESu/2Fa55+YN DHX0KMdwju5pxS8w/OdiEEfVE53VXx0VBwJ5Ohtl4hsrFb0I4bqIYiZOdyryXWIOmNgFo1hOzAs loWpNzVo0dtj3f66qX76at6Ojh9fpUN4J2O4zdnBnLJfALYZuQdtICZqWDKffzc6Ae8eO2Y7JQ8 aUQmpyh0Z1f4MruFCNzj7pZ+ud6wA0F7wwSJ0MhrQo1vbkXPrBY23Zv7Et/3xy8GfVZh/3tSUKH rWUPxUd9Q3j66ZBzLF4EVvzJcTQpp3O3HoChVMQY1GcEWoQFSnnzqJM83rekXKqlyYPXZpOLFgW NcoSAUFU0 X-Google-Smtp-Source: AGHT+IEPCnzP0t4L1WviHotvRgcGA5OKpclWwgzYdAnn06HQ8e0uad7dsgaZzQZCxsuG+PH9XK/KYNtjIfIW X-Received: by 2002:a05:620a:4015:b0:8a4:3c00:b223 with SMTP id af79cd13be357-8ab9ba71a1bmr1387033085a.78.1762146206561; Sun, 02 Nov 2025 21:03:26 -0800 (PST) Received: from postal.iol.unh.edu (postal.iol.unh.edu. [2606:4100:3880:1234::84]) by smtp-relay.gmail.com with ESMTPS id af79cd13be357-8ac01efb5fcsm81447685a.4.2025.11.02.21.03.26 (version=TLS1_2 cipher=ECDHE-ECDSA-AES128-GCM-SHA256 bits=128/128); Sun, 02 Nov 2025 21:03:26 -0800 (PST) X-Relaying-Domain: iol.unh.edu Date: Sun, 02 Nov 2025 21:03:26 -0800 (PST) Message-ID: <6908379e.050a0220.2bfbdf.ab49SMTPIN_ADDED_MISSING@mx.google.com> Received: from [172.21.0.2] (unknown [172.18.0.240]) by postal.iol.unh.edu (Postfix) with ESMTP id 0E1956051830; Mon, 3 Nov 2025 00:03:26 -0500 (EST) Subject: |SUCCESS| pw158341-158344 [PATCH] [v3,4/4] doc: add PTP IDPF documen From: dpdklab@iol.unh.edu To: Test Report Cc: dpdk-test-reports@iol.unh.edu, Bruce Richardson In-Reply-To: <20251103160646.140084-5-soumyadeep.hore@intel.com> References: <20251103160646.140084-5-soumyadeep.hore@intel.com> Content-Type: text/plain X-BeenThere: test-report@dpdk.org X-Mailman-Version: 2.1.29 Precedence: list List-Id: automatic DPDK test reports List-Unsubscribe: , List-Archive: List-Post: List-Help: List-Subscribe: , Errors-To: test-report-bounces@dpdk.org Test-Label: iol-unit-arm64-testing Test-Status: SUCCESS http://dpdk.org/patch/158344 _Testing PASS_ Submitter: Soumyadeep Hore Date: Monday, November 03 2025 16:06:45 DPDK git baseline: Repo:dpdk-next-net-intel Branch: master CommitID:40de0ba36a04ef80e8a2ac90c240183fc2c6d1b4 158341-158344 --> testing pass Upstream job id: Generic-Unit-Test-DPDK#387873 Test environment and result as below: +------------------------------+----------------+------------------------------+--------------+---------------------------+ | Environment | dpdk_unit_test | cryptodev_sw_snow3g_autotest | lpm_autotest | cryptodev_sw_zuc_autotest | +==============================+================+==============================+==============+===========================+ | Ubuntu 24.04 | PASS | SKIPPED | SKIPPED | SKIPPED | +------------------------------+----------------+------------------------------+--------------+---------------------------+ | Fedora Linux 41 | PASS | SKIPPED | SKIPPED | SKIPPED | +------------------------------+----------------+------------------------------+--------------+---------------------------+ | Fedora Linux 40 | PASS | SKIPPED | SKIPPED | SKIPPED | +------------------------------+----------------+------------------------------+--------------+---------------------------+ | Fedora Linux 42 | PASS | SKIPPED | SKIPPED | SKIPPED | +------------------------------+----------------+------------------------------+--------------+---------------------------+ | Ubuntu 22.04 | PASS | SKIPPED | SKIPPED | SKIPPED | +------------------------------+----------------+------------------------------+--------------+---------------------------+ | CentOS Stream 10 | PASS | SKIPPED | SKIPPED | SKIPPED | +------------------------------+----------------+------------------------------+--------------+---------------------------+ | CentOS Stream 9 | PASS | SKIPPED | SKIPPED | SKIPPED | +------------------------------+----------------+------------------------------+--------------+---------------------------+ | Debian GNU/Linux 12 | PASS | SKIPPED | SKIPPED | SKIPPED | +------------------------------+----------------+------------------------------+--------------+---------------------------+ | Ubuntu 20.04 | PASS | SKIPPED | PASS | SKIPPED | +------------------------------+----------------+------------------------------+--------------+---------------------------+ | Red Hat Enterprise Linux 9.5 | PASS | SKIPPED | SKIPPED | SKIPPED | +------------------------------+----------------+------------------------------+--------------+---------------------------+ | Debian 12 (arm) | SKIPPED | PASS | SKIPPED | PASS | +------------------------------+----------------+------------------------------+--------------+---------------------------+ Ubuntu 24.04 Kernel: 5.4 Compiler: gcc gcc (Ubuntu 13.3.0-6ubuntu2~24.04) 13.3.0 Fedora Linux 41 Kernel: 5.4 Compiler: clang gcc (GCC) 14.3.1 20250523 (Red Hat 14.3.1-1) Fedora Linux 40 Kernel: 5.4 Compiler: clang gcc (GCC) 14.2.1 20240912 (Red Hat 14.2.1-3) Fedora Linux 42 Kernel: 5.4 Compiler: clang gcc (GCC) 15.2.1 20250808 (Red Hat 15.2.1-1) Ubuntu 22.04 Kernel: 5.4 Compiler: gcc gcc (Ubuntu 11.4.0-1ubuntu1~22.04) 11.4.0 CentOS Stream 10 Kernel: 5.4 Compiler: gcc gcc (GCC) 14.2.1 20250110 (Red Hat 14.2.1-8) CentOS Stream 9 Kernel: 5.4 Compiler: gcc gcc (GCC) 11.5.0 20240719 (Red Hat 11.5.0-11) Debian GNU/Linux 12 Kernel: 5.4 Compiler: gcc gcc (Debian 12.2.0-14+deb12u1) 12.2.0 Ubuntu 20.04 Kernel: 5.4 Compiler: gcc gcc (Ubuntu 9.4.0-1ubuntu1~20.04.2) 9.4.0 Red Hat Enterprise Linux 9.5 Kernel: 5.4 Compiler: gcc gcc (GCC) 11.5.0 20240719 (Red Hat 11.5.0-2) Debian 12 (arm) Kernel: Depends on container host Compiler: gcc (Debian 12.2.0-14) 12.2.0 To view detailed results, visit: https://lab.dpdk.org/results/dashboard/patchsets/34444/ UNH-IOL DPDK Community Lab To manage your email subscriptions, visit: https://lab.dpdk.org/results/dashboard/preferences/subscriptions/