From: dpdklab@iol.unh.edu
To: Test Report <test-report@dpdk.org>
Cc: dpdk-test-reports@iol.unh.edu, Xueming Li <xuemingl@nvidia.com>,
	Christian Ehrhardt <christian.ehrhardt@canonical.com>,
	Kevin Traynor <ktraynor@redhat.com>,
	Luca Boccassi <bluca@debian.org>
Subject: |SUCCESS| [GIT MASTER] 42105ccaeef093ad8c7ce11d1bde3652861b783b
Date: Sun, 02 Nov 2025 22:28:39 -0800 (PST)	[thread overview]
Message-ID: <69084b97.170a0220.e2b17.908eSMTPIN_ADDED_MISSING@mx.google.com> (raw)
_Testing PASS_
Branch: tags/v22.11
42105ccaeef093ad8c7ce11d1bde3652861b783b --> testing pass
Upstream job id: Generic-DPDK-Compile-Meson#440146
Test environment and result as below:
+-------------------------------+--------------------+-------------------------+----------------------+
|          Environment          | dpdk_meson_compile | dpdk_llvm_clang_compile | dpdk_mingw64_compile |
+===============================+====================+=========================+======================+
| Fedora Linux 42               | PASS               | SKIPPED                 | SKIPPED              |
+-------------------------------+--------------------+-------------------------+----------------------+
| Red Hat Enterprise Linux 8.10 | PASS               | SKIPPED                 | SKIPPED              |
+-------------------------------+--------------------+-------------------------+----------------------+
| CentOS Stream 10              | PASS               | SKIPPED                 | SKIPPED              |
+-------------------------------+--------------------+-------------------------+----------------------+
| Debian GNU/Linux 12           | PASS               | SKIPPED                 | SKIPPED              |
+-------------------------------+--------------------+-------------------------+----------------------+
| CentOS Stream 9               | PASS               | SKIPPED                 | SKIPPED              |
+-------------------------------+--------------------+-------------------------+----------------------+
| Red Hat Enterprise Linux 9.5  | PASS               | SKIPPED                 | SKIPPED              |
+-------------------------------+--------------------+-------------------------+----------------------+
| Ubuntu 20.04                  | PASS               | SKIPPED                 | SKIPPED              |
+-------------------------------+--------------------+-------------------------+----------------------+
| openSUSE Leap 15.6            | PASS               | SKIPPED                 | SKIPPED              |
+-------------------------------+--------------------+-------------------------+----------------------+
| FreeBSD 14.2                  | PASS               | SKIPPED                 | SKIPPED              |
+-------------------------------+--------------------+-------------------------+----------------------+
| Ubuntu 24.04                  | PASS               | SKIPPED                 | SKIPPED              |
+-------------------------------+--------------------+-------------------------+----------------------+
| Ubuntu 22.04                  | PASS               | SKIPPED                 | SKIPPED              |
+-------------------------------+--------------------+-------------------------+----------------------+
| Windows Server 2022           | SKIPPED            | PASS                    | PASS                 |
+-------------------------------+--------------------+-------------------------+----------------------+
Fedora Linux 42
	Kernel: 5.15
	Compiler: clang gcc (GCC) 15.2.1 20250808 (Red Hat 15.2.1-1)
Red Hat Enterprise Linux 8.10
	Kernel: 5.15
	Compiler: gcc gcc (GCC) 8.5.0 20210514 (Red Hat 8.5.0-22)
CentOS Stream 10
	Kernel: 5.15
	Compiler: gcc gcc (GCC) 14.2.1 20250110 (Red Hat 14.2.1-8)
Debian GNU/Linux 12
	Kernel: 5.15
	Compiler: gcc gcc (Debian 12.2.0-14+deb12u1) 12.2.0
CentOS Stream 9
	Kernel: 5.15
	Compiler: gcc gcc (GCC) 11.5.0 20240719 (Red Hat 11.5.0-11)
Red Hat Enterprise Linux 9.5
	Kernel: 5.15
	Compiler: gcc gcc (GCC) 11.5.0 20240719 (Red Hat 11.5.0-2)
Ubuntu 20.04
	Kernel: 4.19
	Compiler: gcc gcc (Ubuntu 9.4.0-1ubuntu1~20.04.2) 9.4.0
openSUSE Leap 15.6
	Kernel: 5.15
	Compiler: gcc gcc (SUSE Linux) 7.5.0
FreeBSD 14.2
	Kernel: 14.2-RELEASE
	Compiler: clang 18.1.6
Ubuntu 24.04
	Kernel: 5.15
	Compiler: gcc gcc (Ubuntu 13.3.0-6ubuntu2~24.04) 13.3.0
Ubuntu 22.04
	Kernel: 5.15
	Compiler: gcc gcc (Ubuntu 11.4.0-1ubuntu1~22.04) 11.4.0
Windows Server 2022
	Kernel: 10.0.20348.2031
	Compiler: clang 15.0.7, gcc 14.1.0 (MinGW), and MSVC VS 19.39.33521
To view detailed results, visit:
https://lab.dpdk.org/results/dashboard/tarballs/35431/
UNH-IOL DPDK Community Lab
To manage your email subscriptions, visit: 
https://lab.dpdk.org/results/dashboard/preferences/subscriptions/
next             reply	other threads:[~2025-11-03  6:28 UTC|newest]
Thread overview: 25+ messages / expand[flat|nested]  mbox.gz  Atom feed  top
2025-11-03  6:28 dpdklab [this message]
  -- strict thread matches above, loose matches on Subject: below --
2025-11-03 16:29 dpdklab
2025-11-03 15:50 dpdklab
2025-11-03 15:50 dpdklab
2025-11-03  9:39 dpdklab
2025-11-03  6:32 dpdklab
2025-11-03  6:24 dpdklab
2025-11-03  6:12 dpdklab
2025-11-03  5:32 dpdklab
2025-11-03  5:28 dpdklab
2025-11-03  5:20 dpdklab
2025-11-02  8:03 dpdklab
2025-11-02  6:27 dpdklab
2025-11-02  6:07 dpdklab
2025-11-02  5:24 dpdklab
2025-11-02  5:19 dpdklab
2025-11-02  5:17 dpdklab
2025-11-02  4:52 dpdklab
2025-11-01 10:02 dpdklab
2025-11-01  6:05 dpdklab
2025-11-01  5:49 dpdklab
2025-11-01  5:42 dpdklab
2025-11-01  5:24 dpdklab
2025-11-01  4:53 dpdklab
2025-11-01  4:37 dpdklab
Reply instructions:
You may reply publicly to this message via plain-text email
using any one of the following methods:
* Save the following mbox file, import it into your mail client,
  and reply-to-all from there: mbox
  Avoid top-posting and favor interleaved quoting:
  https://en.wikipedia.org/wiki/Posting_style#Interleaved_style
* Reply using the --to, --cc, and --in-reply-to
  switches of git-send-email(1):
  git send-email \
    --in-reply-to=69084b97.170a0220.e2b17.908eSMTPIN_ADDED_MISSING@mx.google.com \
    --to=dpdklab@iol.unh.edu \
    --cc=bluca@debian.org \
    --cc=christian.ehrhardt@canonical.com \
    --cc=dpdk-test-reports@iol.unh.edu \
    --cc=ktraynor@redhat.com \
    --cc=test-report@dpdk.org \
    --cc=xuemingl@nvidia.com \
    /path/to/YOUR_REPLY
  https://kernel.org/pub/software/scm/git/docs/git-send-email.html
* If your mail client supports setting the In-Reply-To header
  via mailto: links, try the mailto: link
  Be sure your reply has a Subject: header at the top and a blank line
  before the message body.
This is a public inbox, see mirroring instructions
for how to clone and mirror all data and code used for this inbox;
as well as URLs for NNTP newsgroup(s).