From mboxrd@z Thu Jan 1 00:00:00 1970 Return-Path: Received: from mails.dpdk.org (mails.dpdk.org [217.70.189.124]) by inbox.dpdk.org (Postfix) with ESMTP id 4B88948A7A for ; Mon, 3 Nov 2025 07:47:25 +0100 (CET) Received: from mails.dpdk.org (localhost [127.0.0.1]) by mails.dpdk.org (Postfix) with ESMTP id 31DAC4021E; Mon, 3 Nov 2025 07:47:25 +0100 (CET) Received: from mail-qt1-f228.google.com (mail-qt1-f228.google.com [209.85.160.228]) by mails.dpdk.org (Postfix) with ESMTP id 42A5F4021E for ; Mon, 3 Nov 2025 07:47:23 +0100 (CET) Received: by mail-qt1-f228.google.com with SMTP id d75a77b69052e-4e8a25d96ecso71158201cf.0 for ; Sun, 02 Nov 2025 22:47:23 -0800 (PST) DKIM-Signature: v=1; a=rsa-sha256; c=relaxed/relaxed; d=iol.unh.edu; s=unh-iol; t=1762152442; x=1762757242; darn=dpdk.org; h=cc:to:from:subject:message-id:date:from:to:cc:subject:date :message-id:reply-to; bh=FUlekqbHyhXRrSPHlXpPM1n+IVGqHwKL1s9Z7sss6oc=; b=HBjyjeoo11WYXFgKDi+qY2DSv1VeTRBqhHbD2lFYFhOGagY4yBlIV4yoSPfPjNDcEx ByQXZlnvhMHPMiJd+J8kxeZsUar2P1++oHgKrejI3JtG1e3rZgRAo1J/F5vqsPrYkknM koKx5uINSnbfI89lr8iBCU0spdn9tuQXv22gQ= X-Google-DKIM-Signature: v=1; a=rsa-sha256; c=relaxed/relaxed; d=1e100.net; s=20230601; t=1762152442; x=1762757242; h=cc:to:from:subject:message-id:date:x-gm-message-state:from:to:cc :subject:date:message-id:reply-to; bh=FUlekqbHyhXRrSPHlXpPM1n+IVGqHwKL1s9Z7sss6oc=; b=r+BGPcKIHOB5GN5N6M9EuUpOoNugaUB/p1X0q1y0kpH+dYy0Zmxbh0q0PcGUYuWmnr 3JycKtaBnyzKjokouxrACBLQlOXIR3S1wNtYO0Kh1BgpU9++RYfHaIEj0m4ilAntjUVi fkHRt2+5NeSvb0H+EHWVqPGdwS0++LG7gYszS7RJ/YggBtqOBssDRBXbqOYq9SXNuU9o 3eYeI66JFqpctR0tv2zinXvSsuTisU21krswtNYeT3SZP8/31jTChCwo1s/gQzYL3hYB jFPHTH70Z3PzMCeQQW2eE0KPaBKPMt37cYk4pazNJjH94UZMqCdjGJImqwXG6yPrtwQO 0Fgw== X-Gm-Message-State: AOJu0YxIrqOaTH2m0rNGz16nJntLPc6UVZCPtIcbQNEAdpjL3C4kYGBd UYBegcXdwJwfHJyfdHZVzxyicIis7JDw1IeDQiNYHfoSoy7OEr6j2rmtvwcK9UCVzjDmx1RyAnT 44NDVI8jyyxS6aLeU+5g5FXjcYNuu+nkKoFnS X-Gm-Gg: ASbGnctTEIJvckQ0jDxqWCgym8WuixChfgYfUgJCXfJdWnK9vEtIsHhOJwMvB7vl4d0 kjkcHTeKqpvFMFlU9soqaigD2sMuTTI33SJGLaH6IAlZDMD56yHbrJFyVOWVUQmI2cJpt/RYMhH mpBdWzv6uLDJtE/R0ES6zZWFspPiuvKyqqF72F8A0IgEw5AslZZGktd0IhQlScLsTIn0jplLhig RHHGZFCIglt/Mp5Y3R09/vvCb3X+JA26ejPGftrFcMgV8AZdkZhJsweWkeUvnkRjp1l0k37G1Co HGRPQNYv6fdR4WyvoSeuZtX74KZeukGFsYKu+jM691PR0HYTtOD7UcrXFuDkRbYo42Qn0S9vzDF 2CL9NXYzSf+ss5f3eyAt9wkY/kM9ay54= X-Google-Smtp-Source: AGHT+IEjiEfpG7nPqwXvdtXUFFbpEYgKvujpYfZmoaF9DHqcV+a2JbvZeD4/0hwq9ywSWGrHl7jgRZpR1d3M X-Received: by 2002:a05:622a:148b:b0:4ec:90fc:59f4 with SMTP id d75a77b69052e-4ed30df3345mr134172581cf.29.1762152442491; Sun, 02 Nov 2025 22:47:22 -0800 (PST) Received: from postal.iol.unh.edu (postal.iol.unh.edu. [132.177.123.84]) by smtp-relay.gmail.com with ESMTPS id 6a1803df08f44-8804b2128d9sm5730786d6.31.2025.11.02.22.47.22 (version=TLS1_2 cipher=ECDHE-ECDSA-AES128-GCM-SHA256 bits=128/128); Sun, 02 Nov 2025 22:47:22 -0800 (PST) X-Relaying-Domain: iol.unh.edu Date: Sun, 02 Nov 2025 22:47:22 -0800 (PST) Message-ID: <69084ffa.d40a0220.d37b4.e258SMTPIN_ADDED_MISSING@mx.google.com> Received: from [172.21.0.2] (unknown [172.18.0.240]) by postal.iol.unh.edu (Postfix) with ESMTP id 383226051830; Mon, 3 Nov 2025 01:47:22 -0500 (EST) Subject: |SUCCESS| [GIT MASTER] b287e404643aeab5bb5db084c142789df187844e From: dpdklab@iol.unh.edu To: Test Report Cc: dpdk-test-reports@iol.unh.edu, Xueming Li , Christian Ehrhardt , Kevin Traynor , Luca Boccassi Content-Type: text/plain X-BeenThere: test-report@dpdk.org X-Mailman-Version: 2.1.29 Precedence: list List-Id: automatic DPDK test reports List-Unsubscribe: , List-Archive: List-Post: List-Help: List-Subscribe: , Errors-To: test-report-bounces@dpdk.org _Testing PASS_ Branch: tags/v24.11 b287e404643aeab5bb5db084c142789df187844e --> testing pass Upstream job id: Generic-Unit-Test-DPDK#387921 Test environment and result as below: +-------------------------------+----------------+ | Environment | dpdk_unit_test | +===============================+================+ | CentOS Stream 9 | PASS | +-------------------------------+----------------+ | Fedora Linux 40 | PASS | +-------------------------------+----------------+ | Fedora Linux 42 | PASS | +-------------------------------+----------------+ | Ubuntu 24.04 | PASS | +-------------------------------+----------------+ | Red Hat Enterprise Linux 8.10 | PASS | +-------------------------------+----------------+ | Fedora Linux 41 | PASS | +-------------------------------+----------------+ | Red Hat Enterprise Linux 9.5 | PASS | +-------------------------------+----------------+ | Debian GNU/Linux 12 | PASS | +-------------------------------+----------------+ | CentOS Stream 10 | PASS | +-------------------------------+----------------+ | Ubuntu 20.04 | PASS | +-------------------------------+----------------+ | Ubuntu 22.04 | PASS | +-------------------------------+----------------+ | Windows Server 2022 | PASS | +-------------------------------+----------------+ CentOS Stream 9 Kernel: 5.15 Compiler: gcc gcc (GCC) 11.5.0 20240719 (Red Hat 11.5.0-11) Fedora Linux 40 Kernel: 5.15 Compiler: clang gcc (GCC) 14.2.1 20240912 (Red Hat 14.2.1-3) Fedora Linux 42 Kernel: 5.15 Compiler: gcc gcc (GCC) 15.2.1 20250808 (Red Hat 15.2.1-1) Ubuntu 24.04 Kernel: 5.15 Compiler: gcc gcc (Ubuntu 13.3.0-6ubuntu2~24.04) 13.3.0 Red Hat Enterprise Linux 8.10 Kernel: 5.15 Compiler: gcc gcc (GCC) 8.5.0 20210514 (Red Hat 8.5.0-22) Fedora Linux 41 Kernel: 5.15 Compiler: clang gcc (GCC) 14.3.1 20250523 (Red Hat 14.3.1-1) Red Hat Enterprise Linux 9.5 Kernel: 5.15 Compiler: gcc gcc (GCC) 11.5.0 20240719 (Red Hat 11.5.0-2) Debian GNU/Linux 12 Kernel: 5.15 Compiler: gcc gcc (Debian 12.2.0-14+deb12u1) 12.2.0 CentOS Stream 10 Kernel: 5.15 Compiler: gcc gcc (GCC) 14.2.1 20250110 (Red Hat 14.2.1-8) Ubuntu 20.04 Kernel: 5.15 Compiler: gcc gcc (Ubuntu 9.4.0-1ubuntu1~20.04.2) 9.4.0 Ubuntu 22.04 Kernel: 5.15 Compiler: gcc gcc (Ubuntu 11.4.0-1ubuntu1~22.04) 11.4.0 Windows Server 2022 Kernel: 10.0.20348.2031 Compiler: clang 15.0.7, gcc 14.1.0 (MinGW), and MSVC VS 19.39.33521 To view detailed results, visit: https://lab.dpdk.org/results/dashboard/tarballs/35433/ UNH-IOL DPDK Community Lab To manage your email subscriptions, visit: https://lab.dpdk.org/results/dashboard/preferences/subscriptions/