From mboxrd@z Thu Jan 1 00:00:00 1970 Return-Path: Received: from mails.dpdk.org (mails.dpdk.org [217.70.189.124]) by inbox.dpdk.org (Postfix) with ESMTP id 2084D48A7C for ; Mon, 3 Nov 2025 08:18:05 +0100 (CET) Received: from mails.dpdk.org (localhost [127.0.0.1]) by mails.dpdk.org (Postfix) with ESMTP id 1991D40285; Mon, 3 Nov 2025 08:18:05 +0100 (CET) Received: from mail-pj1-f97.google.com (mail-pj1-f97.google.com [209.85.216.97]) by mails.dpdk.org (Postfix) with ESMTP id 89EF240285 for ; Mon, 3 Nov 2025 08:18:03 +0100 (CET) Received: by mail-pj1-f97.google.com with SMTP id 98e67ed59e1d1-3410c86070dso528357a91.1 for ; Sun, 02 Nov 2025 23:18:03 -0800 (PST) DKIM-Signature: v=1; a=rsa-sha256; c=relaxed/relaxed; d=iol.unh.edu; s=unh-iol; t=1762154283; x=1762759083; darn=dpdk.org; h=references:in-reply-to:cc:to:from:subject:message-id:date:from:to :cc:subject:date:message-id:reply-to; bh=idbpmPMETjUf5Mi1DGEINHoG+7rUaWE9jz7j74MmFEE=; b=AnIfFc8N6hMgKAc3SD/B4qqS4vs0YWwnc6FWwtNIZeqLM/XitKyq085a91yUudIot7 G56t+wJ4R0urgVZP34x+IMUTctloTrcezadAnhb41SgNlGzFWuqrJwY+Wkt9CCUUxWrv QGO67gSLD2YZfUnuqkUfXxDD813V7SkXDMxa4= X-Google-DKIM-Signature: v=1; a=rsa-sha256; c=relaxed/relaxed; d=1e100.net; s=20230601; t=1762154283; x=1762759083; h=references:in-reply-to:cc:to:from:subject:message-id:date :x-gm-message-state:from:to:cc:subject:date:message-id:reply-to; bh=idbpmPMETjUf5Mi1DGEINHoG+7rUaWE9jz7j74MmFEE=; b=RWccVhHR4hHiKmSk7kPxDYtI8n0tBgqzVbh8RGxJXxjHb+UjwCg4gf+6n1XbcMZym4 FkfkGN99LtsHmCYHkSgu0J3WvqZr10/BV4D1C+BcbWtZb5J2SHRCprcNoEX46pks+m16 zNq0PMVFpNGOOQ1jgOYVlgax6xCraPFdxdMzV7+wyZYyIZp6J4AVZ4KuLRvCyhEUNPLQ V/wpleDurTByqNjtqX1eN2k/cnwLF2vkfXRJrfgaDoKuEDMtqXj42BizN7BRihBatJuo JoLOwpPFFHqWCpAAKtdtjhoAKxFozxOne88wr2srp6o6YCVp5hKBe992VK9GrztCrhbp gCcw== X-Gm-Message-State: AOJu0Yym9a7MPxwfW1yTKcEZgoN60iFsDLviXBEuSEMhyITvrAF8G1uO KFabTSIeZ0qIUZK5GJuYiWlGmWzY9bJxBqRMDG+9h4Za0Mfv+3e4a7wzHovkuym2LnuZqEnYrgq DX7SBbiggcJVgJTJncXndJCCDFXXcXXBXs4BdCKJuoez+ X-Gm-Gg: ASbGncuUrIJfq3cdVwgMa7EmsLqbzZUSBxtD/jM1IcmlSNZ5fVljm2tJoQuZodZU3lR 9OwqJFNin6TIvSVdDPbz8Uha3DUUkDwYJaxqX/g4NTsy8bDdoxlJYDnO2kNh4efR7Cy+lNcT6AI dgXAHAyrR6wvht3U8uDTe0G1PLphqGn9MiQLL45GL3q1WkDY6HpHUlrSl7X8rLQ5zQ2bxiiaWdj Hk/Rgy62SGNMtbbq8BnXitfyrwklBLRq5ukRTognuJo5XODAfbVS4VqbwQJhT2+894e+lu9rz5Z g0b3f3YE20XX70yfAmpwGlMgTQntZFVJMtnQpaLuYSVnUxrj4ipSry0YpL5PUdHiRRaueN1ONKw wZZ6r8/Edz5UlZo9m+0wzUMDEp6ea/dY= X-Google-Smtp-Source: AGHT+IEG9iFHQoI2iZRCZuP1Fj4NaksxsII20Pz9VVZrxog7DO0xHHstR/sp8NG2ef6SRwnDxHIbsZEkWwcp X-Received: by 2002:a17:90b:28c6:b0:340:48f2:5e2c with SMTP id 98e67ed59e1d1-34082fc12f4mr13200887a91.10.1762154282786; Sun, 02 Nov 2025 23:18:02 -0800 (PST) Received: from postal.iol.unh.edu (postal.iol.unh.edu. [132.177.123.84]) by smtp-relay.gmail.com with ESMTPS id 41be03b00d2f7-b9b2568d71asm244734a12.9.2025.11.02.23.18.02 (version=TLS1_2 cipher=ECDHE-ECDSA-AES128-GCM-SHA256 bits=128/128); Sun, 02 Nov 2025 23:18:02 -0800 (PST) X-Relaying-Domain: iol.unh.edu Date: Sun, 02 Nov 2025 23:18:02 -0800 (PST) Message-ID: <6908572a.050a0220.123cc8.cc42SMTPIN_ADDED_MISSING@mx.google.com> Received: from [172.21.0.2] (unknown [172.18.0.240]) by postal.iol.unh.edu (Postfix) with ESMTP id 026046051830; Mon, 3 Nov 2025 02:18:02 -0500 (EST) Subject: |SUCCESS| pw158341-158344 [PATCH] [v3,4/4] doc: add PTP IDPF documen From: dpdklab@iol.unh.edu To: Test Report Cc: dpdk-test-reports@iol.unh.edu, Bruce Richardson In-Reply-To: <20251103160646.140084-5-soumyadeep.hore@intel.com> References: <20251103160646.140084-5-soumyadeep.hore@intel.com> Content-Type: text/plain X-BeenThere: test-report@dpdk.org X-Mailman-Version: 2.1.29 Precedence: list List-Id: automatic DPDK test reports List-Unsubscribe: , List-Archive: List-Post: List-Help: List-Subscribe: , Errors-To: test-report-bounces@dpdk.org Test-Label: iol-compile-arm64-testing Test-Status: SUCCESS http://dpdk.org/patch/158344 _Testing PASS_ Submitter: Soumyadeep Hore Date: Monday, November 03 2025 16:06:45 DPDK git baseline: Repo:dpdk-next-net-intel Branch: master CommitID:40de0ba36a04ef80e8a2ac90c240183fc2c6d1b4 158341-158344 --> testing pass Upstream job id: Generic-DPDK-Compile-Meson#440120 Test environment and result as below: +------------------------------+--------------------+ | Environment | dpdk_meson_compile | +==============================+====================+ | Red Hat Enterprise Linux 9.5 | PASS | +------------------------------+--------------------+ | Ubuntu 20.04 | PASS | +------------------------------+--------------------+ | Debian GNU/Linux 12 | PASS | +------------------------------+--------------------+ | Fedora Linux 42 | PASS | +------------------------------+--------------------+ | Ubuntu 24.04 | PASS | +------------------------------+--------------------+ | Ubuntu 22.04 | PASS | +------------------------------+--------------------+ | CentOS Stream 10 | PASS | +------------------------------+--------------------+ | CentOS Stream 9 | PASS | +------------------------------+--------------------+ Red Hat Enterprise Linux 9.5 Kernel: 5.4 Compiler: gcc gcc (GCC) 11.5.0 20240719 (Red Hat 11.5.0-2) Ubuntu 20.04 Kernel: 5.4 Compiler: gcc gcc (Ubuntu 9.4.0-1ubuntu1~20.04.2) 9.4.0 Debian GNU/Linux 12 Kernel: 5.4 Compiler: gcc gcc (Debian 12.2.0-14+deb12u1) 12.2.0 Fedora Linux 42 Kernel: 5.4 Compiler: gcc gcc (GCC) 15.2.1 20250808 (Red Hat 15.2.1-1) Ubuntu 24.04 Kernel: 5.4 Compiler: gcc gcc (Ubuntu 13.3.0-6ubuntu2~24.04) 13.3.0 Ubuntu 22.04 Kernel: 5.4 Compiler: gcc gcc (Ubuntu 11.4.0-1ubuntu1~22.04) 11.4.0 CentOS Stream 10 Kernel: 5.4 Compiler: gcc gcc (GCC) 14.2.1 20250110 (Red Hat 14.2.1-8) CentOS Stream 9 Kernel: 5.4 Compiler: gcc gcc (GCC) 11.5.0 20240719 (Red Hat 11.5.0-11) To view detailed results, visit: https://lab.dpdk.org/results/dashboard/patchsets/34444/ UNH-IOL DPDK Community Lab To manage your email subscriptions, visit: https://lab.dpdk.org/results/dashboard/preferences/subscriptions/