From mboxrd@z Thu Jan 1 00:00:00 1970 Return-Path: Received: from mails.dpdk.org (mails.dpdk.org [217.70.189.124]) by inbox.dpdk.org (Postfix) with ESMTP id 7263048A8F for ; Mon, 3 Nov 2025 17:58:05 +0100 (CET) Received: from mails.dpdk.org (localhost [127.0.0.1]) by mails.dpdk.org (Postfix) with ESMTP id 6CB0E40695; Mon, 3 Nov 2025 17:58:05 +0100 (CET) Received: from mail-io1-f98.google.com (mail-io1-f98.google.com [209.85.166.98]) by mails.dpdk.org (Postfix) with ESMTP id 7554A40695 for ; Mon, 3 Nov 2025 17:58:03 +0100 (CET) Received: by mail-io1-f98.google.com with SMTP id ca18e2360f4ac-92aee734585so198178239f.3 for ; Mon, 03 Nov 2025 08:58:03 -0800 (PST) DKIM-Signature: v=1; a=rsa-sha256; c=relaxed/relaxed; d=iol.unh.edu; s=unh-iol; t=1762189083; x=1762793883; darn=dpdk.org; h=references:in-reply-to:cc:to:from:subject:message-id:date:from:to :cc:subject:date:message-id:reply-to; bh=nPlOJWhmWoYbOkICxy1RpSfZUJu6tYmgXpBQJ/VdtoU=; b=CTqfBPNpmzQIpVuJECet91kJeusX3n6pDtW6qtSLg6bZmtlM3cUjekfvlsCfftNYLu I1DkI0yWfTMAUzn/TJrUX0pnk+t1XQMZtQWoDstZkdPnzhlqz8ZgmhUzBUusz+BPkg2e iHYW966BS6H9KRPGFJDgykY2fQiuiWH2JzF6I= X-Google-DKIM-Signature: v=1; a=rsa-sha256; c=relaxed/relaxed; d=1e100.net; s=20230601; t=1762189083; x=1762793883; h=references:in-reply-to:cc:to:from:subject:message-id:date :x-gm-message-state:from:to:cc:subject:date:message-id:reply-to; bh=nPlOJWhmWoYbOkICxy1RpSfZUJu6tYmgXpBQJ/VdtoU=; b=REf2QT3V69B00BDM24Ym6PxkOEyNbk1gubIBT7JzawTJco3wuyUY4DDA/5QbyMWJ7c 2AhSUwo0c7eatMy+LcHL7IUkECjcli0fJ5az+9F5PUG/rsDcQZr70sC3oX2IWnk/nKU2 uZQxz+VhKJre7YCWTBRnPsUTwfB07j5D9IVPwowMU9aUg4LxPF/LvGfKl4xqeovBGkTP aap4IM553USQxPV7NcMcR5EqM4rlmGmD1aZkD3eRLfuol5JWgNH+VwpFTrUOaoM7B8JK YnMGxb/EM90nn5Co7cuvH/OUaImTh6FpLUkqTzI3R9o5rrqEiTZi1ibzvub8w7meJVxo HmvA== X-Gm-Message-State: AOJu0YyFLDb3LKrSfzhldHmopw/N8nZL4HC4CyRQmt8Wc/rXDKlOmAKL gKubx/2CsJxsQMAKxyxSGYqN1yEcMTVT5P6QY07c5kMlX1GoZhHoPlopYXHHT6tmCc1uHJxb58L jFPZ+s8VyQ0ae8dGYppWohKgL/mpmMhbYyBl3HQwuI7VfYxXW7s4RjGEaLSuY X-Gm-Gg: ASbGncuMRpy1397ftH7a/zpT9FVrwyQUu+SQ3AJZchXRIojxZ9cR6cHNXkjKKBqEp7g CJLLtXcUCi0m55TNK8g2khovzEl1jeVFQP8Dn0MzFEt3CmZc8Kan/kv7Qz7tNyRMYT2yNpypV3K UwLhYMFkDnDmfi/WK3CS13mhg1i6ckXYs+KjWc+BNPrgKv1rBSgnpcWqIBvY/0I/S5paPLrbtG8 zotnAt2csvUh2luF8Z2Cty336Xjyx1rYkMJ6jlp8MrlTED4Uz86gYSHN8+y4tlW0ZFBI5UfjXPG n4JHzKW4tFd6Fc7RCZm7NoqFaHS0RZ2p9yeRb1ZthyfD3UUeQz4BrmOYajFoxMEL1ADszi6+7Wa Kx1EGPjHb X-Google-Smtp-Source: AGHT+IEVKCVZmw8nu4g0xnYwnVVPYNoBoidPvOxc4G0jJxDhHnJmjejXvmuxS1zBjYel9CMNEM1XEuZ6bdbN X-Received: by 2002:a05:6602:1544:b0:93f:eecb:83e2 with SMTP id ca18e2360f4ac-94822a3cdb3mr1546892239f.17.1762189082769; Mon, 03 Nov 2025 08:58:02 -0800 (PST) Received: from postal.iol.unh.edu (postal.iol.unh.edu. [2606:4100:3880:1234::84]) by smtp-relay.gmail.com with ESMTPS id ca18e2360f4ac-94854fb9e43sm5063439f.3.2025.11.03.08.58.02 (version=TLS1_2 cipher=ECDHE-ECDSA-AES128-GCM-SHA256 bits=128/128); Mon, 03 Nov 2025 08:58:02 -0800 (PST) X-Relaying-Domain: iol.unh.edu Date: Mon, 03 Nov 2025 08:58:02 -0800 (PST) Message-ID: <6908df1a.050a0220.b43ad.29e4SMTPIN_ADDED_MISSING@mx.google.com> Received: from [172.21.0.2] (unknown [172.18.0.240]) by postal.iol.unh.edu (Postfix) with ESMTP id 50297604D420; Mon, 3 Nov 2025 11:58:02 -0500 (EST) Subject: |WARNING| pw158334-158338 [PATCH] [5/5] net/mlx5: remove useless con From: dpdklab@iol.unh.edu To: Test Report Cc: dpdk-test-reports@iol.unh.edu In-Reply-To: <20251102155617.4001783-6-thomas@monjalon.net> References: <20251102155617.4001783-6-thomas@monjalon.net> Content-Type: text/plain X-BeenThere: test-report@dpdk.org X-Mailman-Version: 2.1.29 Precedence: list List-Id: automatic DPDK test reports List-Unsubscribe: , List-Archive: List-Post: List-Help: List-Subscribe: , Errors-To: test-report-bounces@dpdk.org Test-Label: iol-compile-amd64-testing Test-Status: WARNING http://dpdk.org/patch/158338 _Testing issues_ Submitter: Thomas Monjalon Date: Sunday, November 02 2025 15:53:04 DPDK git baseline: Repo:dpdk Branch: master CommitID:8c4861d00aabcf54ef9d6f1df2a4cfb37c06f6c2 158334-158338 --> testing issues Upstream job id: Generic-DPDK-Compile-Meson#440202 Test environment and result as below: +-------------------------------+--------------------+-------------------+------------------+-------------------------+-------------------+----------------------+ | Environment | dpdk_meson_compile | dpdk_compile_spdk | dpdk_compile_ovs | dpdk_llvm_clang_compile | dpdk_msvc_compile | dpdk_mingw64_compile | +===============================+====================+===================+==================+=========================+===================+======================+ | Debian GNU/Linux 12 | PASS | WARN | SKIPPED | SKIPPED | SKIPPED | SKIPPED | +-------------------------------+--------------------+-------------------+------------------+-------------------------+-------------------+----------------------+ | Alpine Linux 3.22.0 | PASS | SKIPPED | SKIPPED | SKIPPED | SKIPPED | SKIPPED | +-------------------------------+--------------------+-------------------+------------------+-------------------------+-------------------+----------------------+ | CentOS Stream 9 | PASS | WARN | SKIPPED | SKIPPED | SKIPPED | SKIPPED | +-------------------------------+--------------------+-------------------+------------------+-------------------------+-------------------+----------------------+ | Fedora Linux 42 | PASS | WARN | PASS | SKIPPED | SKIPPED | SKIPPED | +-------------------------------+--------------------+-------------------+------------------+-------------------------+-------------------+----------------------+ | CentOS Stream 10 | PASS | SKIPPED | SKIPPED | SKIPPED | SKIPPED | SKIPPED | +-------------------------------+--------------------+-------------------+------------------+-------------------------+-------------------+----------------------+ | openSUSE Leap 15.6 | PASS | SKIPPED | SKIPPED | SKIPPED | SKIPPED | SKIPPED | +-------------------------------+--------------------+-------------------+------------------+-------------------------+-------------------+----------------------+ | Red Hat Enterprise Linux 9.5 | PASS | SKIPPED | SKIPPED | SKIPPED | SKIPPED | SKIPPED | +-------------------------------+--------------------+-------------------+------------------+-------------------------+-------------------+----------------------+ | Red Hat Enterprise Linux 8.10 | PASS | SKIPPED | SKIPPED | SKIPPED | SKIPPED | SKIPPED | +-------------------------------+--------------------+-------------------+------------------+-------------------------+-------------------+----------------------+ | Ubuntu 24.04 | PASS | WARN | PASS | SKIPPED | SKIPPED | SKIPPED | +-------------------------------+--------------------+-------------------+------------------+-------------------------+-------------------+----------------------+ | Ubuntu 20.04 | PASS | SKIPPED | SKIPPED | SKIPPED | SKIPPED | SKIPPED | +-------------------------------+--------------------+-------------------+------------------+-------------------------+-------------------+----------------------+ | Ubuntu 22.04 | PASS | WARN | SKIPPED | SKIPPED | SKIPPED | SKIPPED | +-------------------------------+--------------------+-------------------+------------------+-------------------------+-------------------+----------------------+ | FreeBSD 14.2 | PASS | SKIPPED | SKIPPED | SKIPPED | SKIPPED | SKIPPED | +-------------------------------+--------------------+-------------------+------------------+-------------------------+-------------------+----------------------+ | Windows Server 2022 | SKIPPED | SKIPPED | SKIPPED | PASS | PASS | PASS | +-------------------------------+--------------------+-------------------+------------------+-------------------------+-------------------+----------------------+ ==== 20 line log output for Ubuntu 22.04 (dpdk_compile_spdk): ==== --- Failed to get log output --- ==== End log output ==== Debian GNU/Linux 12 Kernel: 5.15 Compiler: gcc gcc (Debian 12.2.0-14+deb12u1) 12.2.0 Alpine Linux 3.22.0 Kernel: 5.15 Compiler: gcc gcc (Alpine 14.2.0) 14.2.0 CentOS Stream 9 Kernel: 5.15 Compiler: gcc gcc (GCC) 11.5.0 20240719 (Red Hat 11.5.0-11) Fedora Linux 42 Kernel: 5.15 Compiler: clang gcc (GCC) 15.2.1 20250808 (Red Hat 15.2.1-1) CentOS Stream 10 Kernel: 5.15 Compiler: gcc gcc (GCC) 14.2.1 20250110 (Red Hat 14.2.1-8) openSUSE Leap 15.6 Kernel: 5.15 Compiler: gcc gcc (SUSE Linux) 7.5.0 Red Hat Enterprise Linux 9.5 Kernel: 5.15 Compiler: gcc gcc (GCC) 11.5.0 20240719 (Red Hat 11.5.0-2) Red Hat Enterprise Linux 8.10 Kernel: 5.15 Compiler: gcc gcc (GCC) 8.5.0 20210514 (Red Hat 8.5.0-22) Ubuntu 24.04 Kernel: 5.15 Compiler: gcc gcc (Ubuntu 13.3.0-6ubuntu2~24.04) 13.3.0 Ubuntu 20.04 Kernel: 4.19 Compiler: gcc gcc (Ubuntu 9.4.0-1ubuntu1~20.04.2) 9.4.0 Ubuntu 22.04 Kernel: 5.15 Compiler: gcc gcc (Ubuntu 11.4.0-1ubuntu1~22.04) 11.4.0 FreeBSD 14.2 Kernel: 14.2-RELEASE Compiler: clang 18.1.6 Windows Server 2022 Kernel: 10.0.20348.2031 Compiler: clang 15.0.7, gcc 14.1.0 (MinGW), and MSVC VS 19.39.33521 To view detailed results, visit: https://lab.dpdk.org/results/dashboard/patchsets/34441/ UNH-IOL DPDK Community Lab To manage your email subscriptions, visit: https://lab.dpdk.org/results/dashboard/preferences/subscriptions/