From: dpdklab@iol.unh.edu
To: Test Report <test-report@dpdk.org>
Cc: dpdk-test-reports@iol.unh.edu
Subject: |SUCCESS| [GIT MASTER] 8c4861d00aabcf54ef9d6f1df2a4cfb37c06f6c2
Date: Mon, 03 Nov 2025 09:52:50 -0800 (PST)	[thread overview]
Message-ID: <6908ebf2.050a0220.83cb.3256SMTPIN_ADDED_MISSING@mx.google.com> (raw)
_Testing PASS_
Branch: dpdk
8c4861d00aabcf54ef9d6f1df2a4cfb37c06f6c2 --> testing pass
Upstream job id: Generic-DPDK-Compile-Meson#440260
Test environment and result as below:
+------------------------------+--------------------+
|         Environment          | dpdk_meson_compile |
+==============================+====================+
| Debian GNU/Linux 12          | PASS               |
+------------------------------+--------------------+
| Ubuntu 20.04                 | PASS               |
+------------------------------+--------------------+
| Fedora Linux 42              | PASS               |
+------------------------------+--------------------+
| Ubuntu 22.04                 | PASS               |
+------------------------------+--------------------+
| Ubuntu 24.04                 | PASS               |
+------------------------------+--------------------+
| CentOS Stream 9              | PASS               |
+------------------------------+--------------------+
| CentOS Stream 10             | PASS               |
+------------------------------+--------------------+
| Red Hat Enterprise Linux 9.5 | PASS               |
+------------------------------+--------------------+
Debian GNU/Linux 12
	Kernel: 5.4
	Compiler: gcc gcc (Debian 12.2.0-14+deb12u1) 12.2.0
Ubuntu 20.04
	Kernel: 5.4
	Compiler: gcc gcc (Ubuntu 9.4.0-1ubuntu1~20.04.2) 9.4.0
Fedora Linux 42
	Kernel: 5.4
	Compiler: clang gcc (GCC) 15.2.1 20250808 (Red Hat 15.2.1-1)
Ubuntu 22.04
	Kernel: 5.4
	Compiler: gcc gcc (Ubuntu 11.4.0-1ubuntu1~22.04) 11.4.0
Ubuntu 24.04
	Kernel: 5.4
	Compiler: gcc gcc (Ubuntu 13.3.0-6ubuntu2~24.04) 13.3.0
CentOS Stream 9
	Kernel: 5.4
	Compiler: gcc gcc (GCC) 11.5.0 20240719 (Red Hat 11.5.0-11)
CentOS Stream 10
	Kernel: 5.4
	Compiler: gcc gcc (GCC) 14.2.1 20250110 (Red Hat 14.2.1-8)
Red Hat Enterprise Linux 9.5
	Kernel: 5.4
	Compiler: gcc gcc (GCC) 11.5.0 20240719 (Red Hat 11.5.0-2)
To view detailed results, visit:
https://lab.dpdk.org/results/dashboard/tarballs/35422/
UNH-IOL DPDK Community Lab
To manage your email subscriptions, visit: 
https://lab.dpdk.org/results/dashboard/preferences/subscriptions/
next             reply	other threads:[~2025-11-03 17:52 UTC|newest]
Thread overview: 37+ messages / expand[flat|nested]  mbox.gz  Atom feed  top
2025-11-03 17:52 dpdklab [this message]
  -- strict thread matches above, loose matches on Subject: below --
2025-11-04  6:05 dpdklab
2025-11-04  4:30 dpdklab
2025-11-04  2:45 dpdklab
2025-11-04  2:06 dpdklab
2025-11-04  2:01 dpdklab
2025-11-04  2:01 dpdklab
2025-11-04  1:55 dpdklab
2025-11-04  1:54 dpdklab
2025-11-04  1:48 dpdklab
2025-11-04  1:41 dpdklab
2025-11-04  1:36 dpdklab
2025-11-04  1:35 dpdklab
2025-11-04  1:30 dpdklab
2025-11-04  1:19 dpdklab
2025-11-03 15:50 dpdklab
2025-11-03 15:50 dpdklab
2025-11-02  3:31 dpdklab
2025-11-02  1:02 dpdklab
2025-11-02  0:58 dpdklab
2025-11-02  0:57 dpdklab
2025-11-02  0:39 dpdklab
2025-11-02  0:36 dpdklab
2025-11-02  0:33 dpdklab
2025-11-02  0:30 dpdklab
2025-11-02  0:23 dpdklab
2025-11-01  3:28 dpdklab
2025-11-01  1:45 dpdklab
2025-11-01  1:00 dpdklab
2025-11-01  0:55 dpdklab
2025-11-01  0:55 dpdklab
2025-11-01  0:55 dpdklab
2025-11-01  0:36 dpdklab
2025-11-01  0:36 dpdklab
2025-11-01  0:33 dpdklab
2025-11-01  0:30 dpdklab
2025-11-01  0:22 dpdklab
Reply instructions:
You may reply publicly to this message via plain-text email
using any one of the following methods:
* Save the following mbox file, import it into your mail client,
  and reply-to-all from there: mbox
  Avoid top-posting and favor interleaved quoting:
  https://en.wikipedia.org/wiki/Posting_style#Interleaved_style
* Reply using the --to, --cc, and --in-reply-to
  switches of git-send-email(1):
  git send-email \
    --in-reply-to=6908ebf2.050a0220.83cb.3256SMTPIN_ADDED_MISSING@mx.google.com \
    --to=dpdklab@iol.unh.edu \
    --cc=dpdk-test-reports@iol.unh.edu \
    --cc=test-report@dpdk.org \
    /path/to/YOUR_REPLY
  https://kernel.org/pub/software/scm/git/docs/git-send-email.html
* If your mail client supports setting the In-Reply-To header
  via mailto: links, try the mailto: link
  Be sure your reply has a Subject: header at the top and a blank line
  before the message body.
This is a public inbox, see mirroring instructions
for how to clone and mirror all data and code used for this inbox;
as well as URLs for NNTP newsgroup(s).