From mboxrd@z Thu Jan 1 00:00:00 1970 Return-Path: Received: from mails.dpdk.org (mails.dpdk.org [217.70.189.124]) by inbox.dpdk.org (Postfix) with ESMTP id 48CFE48A98 for ; Tue, 4 Nov 2025 03:01:57 +0100 (CET) Received: from mails.dpdk.org (localhost [127.0.0.1]) by mails.dpdk.org (Postfix) with ESMTP id 1DC7840299; Tue, 4 Nov 2025 03:01:57 +0100 (CET) Received: from mail-vk1-f225.google.com (mail-vk1-f225.google.com [209.85.221.225]) by mails.dpdk.org (Postfix) with ESMTP id 0878F40299 for ; Tue, 4 Nov 2025 03:01:56 +0100 (CET) Received: by mail-vk1-f225.google.com with SMTP id 71dfb90a1353d-5596b9e46a2so935996e0c.0 for ; Mon, 03 Nov 2025 18:01:55 -0800 (PST) DKIM-Signature: v=1; a=rsa-sha256; c=relaxed/relaxed; d=iol.unh.edu; s=unh-iol; t=1762221715; x=1762826515; darn=dpdk.org; h=cc:to:from:subject:message-id:date:from:to:cc:subject:date :message-id:reply-to; bh=whOMriDFzPqXCZXG764mISCNKoIMPaKWVOm/H5jPJNE=; b=hnyK8Hbn/q+Bbc6RRwJhSO8ntp8FMa6w1NTzDYY5W2RaTZ4QJTwujKng2ZMimzkQ3N Fgjo9NbOAnTWv/TdYv6pyuwYp8mYjmeVvGrGETAmaaEdN3TaHbZRvPH2gl8nElFCOG7s kmepTu4HDbfQxUSpzOVYv+zW7TyoFmYA604Ls= X-Google-DKIM-Signature: v=1; a=rsa-sha256; c=relaxed/relaxed; d=1e100.net; s=20230601; t=1762221715; x=1762826515; h=cc:to:from:subject:message-id:date:x-gm-message-state:from:to:cc :subject:date:message-id:reply-to; bh=whOMriDFzPqXCZXG764mISCNKoIMPaKWVOm/H5jPJNE=; b=s22HouSRV25SF/6tB9geAmTLuuwoOAWqKX/ng8kO8gX6OFOxU8E/1PqFrnwNC3tLHY G4OZmE+ynBMe53cNq055GWXjhmCYRxu6gZotOn6pB4Q5frjzW3fxazlfeXuSSlLmq2fy dQvZYcfYx9aufrmbVY/vgVvt6LG958DUUtmjRmCixceecx/7/WXyb03XBsqFLS8JNPpC VzyuuMMTeWNaQv1EPilnOlgwMSIShSb2CAoHAcrpjYNzorwFHAHUw1z81FYCrRL5ArKH zggynwCzxjOHnlNFx7t5xAz479sf5y8IRkFOYuBkbiL2CKTxtTgLlhfb22IbPVRhaIy0 0RXw== X-Gm-Message-State: AOJu0YwTCMtTVpQXr9JVvce9F7DHAvotwIXFe/fyX3Y9GEOS2sopU0Ds kwFIF/xC/gGMM9JCH79HWUTn1hi+8sqRalNJpJgCXnbFFs9iI3CbYObdnMoZgwfof/EYW4Zg99N Rawv/pWjXIxExyaZq4w/4L2KkJh1YWyVTXdC7Jo6K9jwC X-Gm-Gg: ASbGncvC5aVTeNkD9knXLDA596ugiv+myKHWgHt85Za977n39JLKCcS2hc9llxgvp8f PKACQNPhMkwDw/HLwSIXoQlBAZyb94y0W9pLu/y3E0q6bIHkmFgCS+U95tQsEh+4rcNf57MD/cP qHny6SKi/VQRAeN3+vnWleqitU1xXigbjXuPTWUtMkTuK/or8LiML3cW4blSQ2jcPY9OQN/S6DC DB53+jH6plwDDBqeiBE+vYhsAM3NlZIY/99eqb8qyjXeixaBOnlu1vlyxUCBQrnji+LG4Qyw+kq NRc1LkkcryuFdgmFIBcpPk5mhskqO95qG7+shMwDiDOJzFbT2fgs3TaqkUuCMrpHg7scKUzGLFL roter2bCv7auVj7RWnny0S5s8bEwqpMA= X-Google-Smtp-Source: AGHT+IHrTJpFPLMlaK+joxJo47x7MKjm76Kf6XQtXj3K65nlj1+nCEfc9DyL30wnwFJVPOmyIVj1rawBfKL5 X-Received: by 2002:a05:6122:1e07:b0:54b:bea5:87ee with SMTP id 71dfb90a1353d-5593e42d206mr5149851e0c.7.1762221715214; Mon, 03 Nov 2025 18:01:55 -0800 (PST) Received: from postal.iol.unh.edu (postal.iol.unh.edu. [132.177.123.84]) by smtp-relay.gmail.com with ESMTPS id 71dfb90a1353d-55973c4c480sm156793e0c.3.2025.11.03.18.01.55 (version=TLS1_2 cipher=ECDHE-ECDSA-AES128-GCM-SHA256 bits=128/128); Mon, 03 Nov 2025 18:01:55 -0800 (PST) X-Relaying-Domain: iol.unh.edu Date: Mon, 03 Nov 2025 18:01:55 -0800 (PST) Message-ID: <69095e93.050a0220.3b5331.8d59SMTPIN_ADDED_MISSING@mx.google.com> Received: from [172.21.0.2] (unknown [172.18.0.240]) by postal.iol.unh.edu (Postfix) with ESMTP id E46986051830; Mon, 3 Nov 2025 21:01:54 -0500 (EST) Subject: |SUCCESS| [GIT MASTER] 8c4861d00aabcf54ef9d6f1df2a4cfb37c06f6c2 From: dpdklab@iol.unh.edu To: Test Report Cc: dpdk-test-reports@iol.unh.edu Content-Type: text/plain X-BeenThere: test-report@dpdk.org X-Mailman-Version: 2.1.29 Precedence: list List-Id: automatic DPDK test reports List-Unsubscribe: , List-Archive: List-Post: List-Help: List-Subscribe: , Errors-To: test-report-bounces@dpdk.org _Testing PASS_ Branch: dpdk 8c4861d00aabcf54ef9d6f1df2a4cfb37c06f6c2 --> testing pass Upstream job id: Generic-VM-Unit-Test-DPDK#32253 Test environment and result as below: +-------------------------------+----------------+ | Environment | dpdk_unit_test | +===============================+================+ | Fedora Linux 41 | PASS | +-------------------------------+----------------+ | CentOS Stream 9 | PASS | +-------------------------------+----------------+ | Fedora Linux 40 | PASS | +-------------------------------+----------------+ | Red Hat Enterprise Linux 8.10 | PASS | +-------------------------------+----------------+ | Fedora Linux 42 | PASS | +-------------------------------+----------------+ | Arch Linux 20250613.0.365270 | PASS | +-------------------------------+----------------+ | Ubuntu 20.04 | PASS | +-------------------------------+----------------+ | Ubuntu 22.04 | PASS | +-------------------------------+----------------+ | Red Hat Enterprise Linux 9.5 | PASS | +-------------------------------+----------------+ | Ubuntu 24.04 | PASS | +-------------------------------+----------------+ | CentOS Stream 10 | PASS | +-------------------------------+----------------+ | Debian GNU/Linux 12 | PASS | +-------------------------------+----------------+ | Windows Server 2022 | PASS | +-------------------------------+----------------+ Fedora Linux 41 Kernel: 5.15 Compiler: clang gcc (GCC) 14.3.1 20250523 (Red Hat 14.3.1-1) CentOS Stream 9 Kernel: 5.15 Compiler: gcc gcc (GCC) 11.5.0 20240719 (Red Hat 11.5.0-11) Fedora Linux 40 Kernel: 5.15 Compiler: gcc gcc (GCC) 14.2.1 20240912 (Red Hat 14.2.1-3) Red Hat Enterprise Linux 8.10 Kernel: 5.15 Compiler: gcc gcc (GCC) 8.5.0 20210514 (Red Hat 8.5.0-22) Fedora Linux 42 Kernel: 5.15 Compiler: clang gcc (GCC) 15.2.1 20250808 (Red Hat 15.2.1-1) Arch Linux 20250613.0.365270 Kernel: 5.15 Compiler: gcc gcc (GCC) 15.1.1 20250425 Ubuntu 20.04 Kernel: 5.15 Compiler: gcc gcc (Ubuntu 9.4.0-1ubuntu1~20.04.2) 9.4.0 Ubuntu 22.04 Kernel: 5.15 Compiler: gcc gcc (Ubuntu 11.4.0-1ubuntu1~22.04) 11.4.0 Red Hat Enterprise Linux 9.5 Kernel: 5.15 Compiler: gcc gcc (GCC) 11.5.0 20240719 (Red Hat 11.5.0-2) Ubuntu 24.04 Kernel: 5.15 Compiler: gcc gcc (Ubuntu 13.3.0-6ubuntu2~24.04) 13.3.0 CentOS Stream 10 Kernel: 5.15 Compiler: gcc gcc (GCC) 14.2.1 20250110 (Red Hat 14.2.1-8) Debian GNU/Linux 12 Kernel: 5.15 Compiler: gcc gcc (Debian 12.2.0-14+deb12u1) 12.2.0 Windows Server 2022 Kernel: 10.0.20348.2031 Compiler: clang 15.0.7, gcc 14.1.0 (MinGW), and MSVC VS 19.39.33521 To view detailed results, visit: https://lab.dpdk.org/results/dashboard/tarballs/35436/ UNH-IOL DPDK Community Lab To manage your email subscriptions, visit: https://lab.dpdk.org/results/dashboard/preferences/subscriptions/