From mboxrd@z Thu Jan 1 00:00:00 1970 Return-Path: Received: from mails.dpdk.org (mails.dpdk.org [217.70.189.124]) by inbox.dpdk.org (Postfix) with ESMTP id 9784348A98 for ; Tue, 4 Nov 2025 03:06:36 +0100 (CET) Received: from mails.dpdk.org (localhost [127.0.0.1]) by mails.dpdk.org (Postfix) with ESMTP id 5B36C40299; Tue, 4 Nov 2025 03:06:36 +0100 (CET) Received: from mail-qt1-f225.google.com (mail-qt1-f225.google.com [209.85.160.225]) by mails.dpdk.org (Postfix) with ESMTP id 32A6540299 for ; Tue, 4 Nov 2025 03:06:35 +0100 (CET) Received: by mail-qt1-f225.google.com with SMTP id d75a77b69052e-4eba67d4b1bso52100821cf.1 for ; Mon, 03 Nov 2025 18:06:35 -0800 (PST) DKIM-Signature: v=1; a=rsa-sha256; c=relaxed/relaxed; d=iol.unh.edu; s=unh-iol; t=1762221994; x=1762826794; darn=dpdk.org; h=cc:to:from:subject:message-id:date:from:to:cc:subject:date :message-id:reply-to; bh=3ffnkV9cNprD9qwamCEyUk4A10E0PR3k9U6+pntTHnw=; b=CF3lp8VcfGCGlD4mwGun9fjOkipwrlXL04Yeo48o4mdbmRdEoaEJBJTtqqKw2qqPsx FR6XmGqiZ1UZ7J3L+D7UXATlNodoXMvCxzbpiYZGcZS9Rl8mf64TaVmDZUe/pxjzonbt /C6h6VW9q3r4VITIFRW1GigLsGKEyigtnMk6A= X-Google-DKIM-Signature: v=1; a=rsa-sha256; c=relaxed/relaxed; d=1e100.net; s=20230601; t=1762221994; x=1762826794; h=cc:to:from:subject:message-id:date:x-gm-message-state:from:to:cc :subject:date:message-id:reply-to; bh=3ffnkV9cNprD9qwamCEyUk4A10E0PR3k9U6+pntTHnw=; b=Xu/Om1wXNQhY57cQzv6kCR4d8X8fy5XHko4XjS5IpVCJGAMMYYKXWs7SS8DS5EDNyg q0lmDkokHvgJ51bFWjDenaqL8oZhL0hqQQZSQGKsnOHf7KOjKR4mABfYM2O6ybJG4fuy 5pkanvKcVe2F719OCB2mNdOmaedLT5v32Ld/BVWNmg2YYVkp+TBxPWRclO3l4zTlbEAg ZXBBiNMt3LgEsE0O/rEWBKHNrOb2/Q3h5AqT8HkLyInLVPY2diEVrik7c/kpcD2kSySI P5g3DN4fzwqv2RPXga3JjEKi7hx51NjiFYm2cMZicGI0abjjSBvqKtt2puuFEDPmBjaW o3kA== X-Gm-Message-State: AOJu0Ywt4cpMwTdFStsYwx2F8AhBbbfkNtcIxmo/Zm9LFXFUZN0q9KRl cStm81a33FgoRgMc12GyskScJdUpg1TFWlFFqkP8IW658/h+Y+v3Euena7xdmGnAyLeOitX52t7 +QBOMLvQ0UEUn2FkbbeNKFAzKmkuoiCWGT4a2pyhWLNDm X-Gm-Gg: ASbGnctLEVf7ZvVDs1EFCKoe4/6VUdTu17Z0uXZgwiunC8pjmVB8pW6JClIHzX75aGy 8CNGqDe5nNhnvPA7ev6fNot6NU4s4I3eDjOb7z+VfAWSal5l59Hr1dMyYuwj4hn3I6VU2LAyIi4 2kacaKiGyE8qfP068R9tyL7cl0rRFpeSNqVa0w9xrFplMXKvtnkOYgEmQrlGqxKYWLc8CdWTJby FqRBuF47hiHT9WJsManU4Q95kLB+YNF1bvPQHyl5qI+CnpDWwbcNfBpRX7TcUsooZFzjZyrJ7KM gve0CKDEKKm+6aYqRKVMyEuR7/lfc5Bo+Kc3LKgeV8heLhLmz1SW2TQYF/uAzAN/t9+Ne/30/M0 AJzT1FumPtFl7FWIH0gwlEvCl/mMJDOA= X-Google-Smtp-Source: AGHT+IHKVbJXYRgLw5CsHv0nELvUBFUmZAy6GtJXhgoBPfBMx/FwOqLRld7iPCne6zeSdJqAxI9Gn5HHo+Um X-Received: by 2002:a05:622a:54a:b0:4b7:9506:efd1 with SMTP id d75a77b69052e-4ed30d5e050mr169803811cf.15.1762221994470; Mon, 03 Nov 2025 18:06:34 -0800 (PST) Received: from postal.iol.unh.edu (postal.iol.unh.edu. [132.177.123.84]) by smtp-relay.gmail.com with ESMTPS id 6a1803df08f44-88060e6b603sm1496366d6.31.2025.11.03.18.06.34 (version=TLS1_2 cipher=ECDHE-ECDSA-AES128-GCM-SHA256 bits=128/128); Mon, 03 Nov 2025 18:06:34 -0800 (PST) X-Relaying-Domain: iol.unh.edu Date: Mon, 03 Nov 2025 18:06:34 -0800 (PST) Message-ID: <69095faa.050a0220.297d3.8408SMTPIN_ADDED_MISSING@mx.google.com> Received: from [172.21.0.2] (unknown [172.18.0.240]) by postal.iol.unh.edu (Postfix) with ESMTP id 06D0C6051830; Mon, 3 Nov 2025 21:06:34 -0500 (EST) Subject: |SUCCESS| [GIT MASTER] 8c4861d00aabcf54ef9d6f1df2a4cfb37c06f6c2 From: dpdklab@iol.unh.edu To: Test Report Cc: dpdk-test-reports@iol.unh.edu Content-Type: text/plain X-BeenThere: test-report@dpdk.org X-Mailman-Version: 2.1.29 Precedence: list List-Id: automatic DPDK test reports List-Unsubscribe: , List-Archive: List-Post: List-Help: List-Subscribe: , Errors-To: test-report-bounces@dpdk.org _Testing PASS_ Branch: dpdk 8c4861d00aabcf54ef9d6f1df2a4cfb37c06f6c2 --> testing pass Upstream job id: Generic-VM-Unit-Test-DPDK#32254 Test environment and result as below: +-------------------------------+----------------+ | Environment | dpdk_unit_test | +===============================+================+ | Fedora Linux 41 | PASS | +-------------------------------+----------------+ | CentOS Stream 9 | PASS | +-------------------------------+----------------+ | Fedora Linux 40 | PASS | +-------------------------------+----------------+ | Red Hat Enterprise Linux 8.10 | PASS | +-------------------------------+----------------+ | Fedora Linux 42 | PASS | +-------------------------------+----------------+ | Arch Linux 20250613.0.365270 | PASS | +-------------------------------+----------------+ | Ubuntu 20.04 | PASS | +-------------------------------+----------------+ | Ubuntu 22.04 | PASS | +-------------------------------+----------------+ | Red Hat Enterprise Linux 9.5 | PASS | +-------------------------------+----------------+ | Ubuntu 24.04 | PASS | +-------------------------------+----------------+ | CentOS Stream 10 | PASS | +-------------------------------+----------------+ | Debian GNU/Linux 12 | PASS | +-------------------------------+----------------+ | Windows Server 2022 | PASS | +-------------------------------+----------------+ Fedora Linux 41 Kernel: 5.15 Compiler: clang gcc (GCC) 14.3.1 20250523 (Red Hat 14.3.1-1) CentOS Stream 9 Kernel: 5.15 Compiler: gcc gcc (GCC) 11.5.0 20240719 (Red Hat 11.5.0-11) Fedora Linux 40 Kernel: 5.15 Compiler: gcc gcc (GCC) 14.2.1 20240912 (Red Hat 14.2.1-3) Red Hat Enterprise Linux 8.10 Kernel: 5.15 Compiler: gcc gcc (GCC) 8.5.0 20210514 (Red Hat 8.5.0-22) Fedora Linux 42 Kernel: 5.15 Compiler: clang gcc (GCC) 15.2.1 20250808 (Red Hat 15.2.1-1) Arch Linux 20250613.0.365270 Kernel: 5.15 Compiler: gcc gcc (GCC) 15.1.1 20250425 Ubuntu 20.04 Kernel: 5.15 Compiler: gcc gcc (Ubuntu 9.4.0-1ubuntu1~20.04.2) 9.4.0 Ubuntu 22.04 Kernel: 5.15 Compiler: gcc gcc (Ubuntu 11.4.0-1ubuntu1~22.04) 11.4.0 Red Hat Enterprise Linux 9.5 Kernel: 5.15 Compiler: gcc gcc (GCC) 11.5.0 20240719 (Red Hat 11.5.0-2) Ubuntu 24.04 Kernel: 5.15 Compiler: gcc gcc (Ubuntu 13.3.0-6ubuntu2~24.04) 13.3.0 CentOS Stream 10 Kernel: 5.15 Compiler: gcc gcc (GCC) 14.2.1 20250110 (Red Hat 14.2.1-8) Debian GNU/Linux 12 Kernel: 5.15 Compiler: gcc gcc (Debian 12.2.0-14+deb12u1) 12.2.0 Windows Server 2022 Kernel: 10.0.20348.2031 Compiler: clang 15.0.7, gcc 14.1.0 (MinGW), and MSVC VS 19.39.33521 To view detailed results, visit: https://lab.dpdk.org/results/dashboard/tarballs/35436/ UNH-IOL DPDK Community Lab To manage your email subscriptions, visit: https://lab.dpdk.org/results/dashboard/preferences/subscriptions/