From mboxrd@z Thu Jan 1 00:00:00 1970 Return-Path: Received: from mails.dpdk.org (mails.dpdk.org [217.70.189.124]) by inbox.dpdk.org (Postfix) with ESMTP id A174848A92 for ; Tue, 4 Nov 2025 03:45:07 +0100 (CET) Received: from mails.dpdk.org (localhost [127.0.0.1]) by mails.dpdk.org (Postfix) with ESMTP id 7B33040299; Tue, 4 Nov 2025 03:45:07 +0100 (CET) Received: from mail-pg1-f227.google.com (mail-pg1-f227.google.com [209.85.215.227]) by mails.dpdk.org (Postfix) with ESMTP id 126CB40299 for ; Tue, 4 Nov 2025 03:45:06 +0100 (CET) Received: by mail-pg1-f227.google.com with SMTP id 41be03b00d2f7-b62e7221351so4848673a12.1 for ; Mon, 03 Nov 2025 18:45:05 -0800 (PST) DKIM-Signature: v=1; a=rsa-sha256; c=relaxed/relaxed; d=iol.unh.edu; s=unh-iol; t=1762224305; x=1762829105; darn=dpdk.org; h=cc:to:from:subject:message-id:date:from:to:cc:subject:date :message-id:reply-to; bh=xpo32jSSwHFFzctxLQqQKfMiyacu83rtlojzlQQYKHY=; b=IGXeru5NbEMWQrK/SovMwCC47xjGGIDuKE6f+HQBg2nxvjDRwJXZGDfhjPxJcxmpg0 /o8uHswrq9nagQRNCJXyjV4W9p5/5tRj4N7qrZfGVhohYp3PjIrZIUnGcC1LsnZeTOIg iW6hKKRHzWLiEJj/8dyPJ081UOnAM21c2vZfI= X-Google-DKIM-Signature: v=1; a=rsa-sha256; c=relaxed/relaxed; d=1e100.net; s=20230601; t=1762224305; x=1762829105; h=cc:to:from:subject:message-id:date:x-gm-message-state:from:to:cc :subject:date:message-id:reply-to; bh=xpo32jSSwHFFzctxLQqQKfMiyacu83rtlojzlQQYKHY=; b=b/iobKza1HbD8ITGHoQSM5vPyOl4Ruzc/tMbDVTn4MOs645kMC//93zFu56WC4aY4v 7WfRKSue8RmpiLhwf05GXkwSR3vMqbPxTO60E8W5M453xpODQz27e4zehcq6jwKWwOLA DMv3G8hOTx5k42XJn7qxMpSwLKWHIN22eWbdJaobe18yOkubg4fMm41Y+kQN2903WZVr 4eA9JBkRlSBZwN+RRCF5tTnqIJ9zoTKHbRH5tdU+LpVBiYidZJXW18YGmicQUg7aHcqh QGCCyE6hMVG8Ut6XHZHR+rjXm6J1Ug9XeZT7jmV0S9BGV/jqsX7BqXV9KPSkcXFbg0QR mFDA== X-Gm-Message-State: AOJu0YwWSl+nuuN2ySRBnBpk8if40Rk1BUnptcpmH6P6LYqxSmgNif3z idV9iSS4xTVOF4Ty/jDSvS81Xz13CXCZyyK2WNSQFL4OvKf2JGz3EPBUaEQhsAHTYQxOzoxv37L P1z22j6jviQJifndtWaRtL1G31kynRzbqSz1Guysu2E0yxSGtgm2JDDPEUPQ3 X-Gm-Gg: ASbGnctXahGHMZetz9xnr4wFDpvb9bif4pUnsxzVRKCd7hOoQTfbZK/zbACBOvPBd3p b0h3S+/83lJbDzn1jUdjrLuXQb0QXMwn8ch/m8o35vWB5mmxqWVTw6Y8IOHQAXnn4tc/QHhcsf1 JN5IdlEfw1AjtQ/TmtiCpNIZaFlWUqDqEM+VYKCFXvUXQastLDqzceDNnLKdkyBeWbo0JC4YMrH Ns6MN9DawX4lq8+sC4UEUJptOv7zCSym3leefZj+B0SqF4U/KAWmddEV6ayIynQALfp2QJ+YjxL um1bZvVwrj7L4yzV7mZ3bntX5pptdvBP96FAR6XTeMYsYp1LdH0coMuvgzabynBYvxpQHrYCdvL rwKkrTLeQ X-Google-Smtp-Source: AGHT+IHjcWu4gtm3XM1vPzdPCt88iBh8vffFoEGXDPSU/IhX45iUOUFSzoxYkAHi+/OsVzWbfkmvSWx+gb2V X-Received: by 2002:a17:90b:38c6:b0:340:c64d:38d2 with SMTP id 98e67ed59e1d1-340c64d3b42mr13554036a91.16.1762224305055; Mon, 03 Nov 2025 18:45:05 -0800 (PST) Received: from postal.iol.unh.edu (postal.iol.unh.edu. [2606:4100:3880:1234::84]) by smtp-relay.gmail.com with ESMTPS id 98e67ed59e1d1-341599372e1sm203299a91.1.2025.11.03.18.45.04 (version=TLS1_2 cipher=ECDHE-ECDSA-AES128-GCM-SHA256 bits=128/128); Mon, 03 Nov 2025 18:45:05 -0800 (PST) X-Relaying-Domain: iol.unh.edu Date: Mon, 03 Nov 2025 18:45:05 -0800 (PST) Message-ID: <690968b1.170a0220.2749cb.b67cSMTPIN_ADDED_MISSING@mx.google.com> Received: from [172.21.0.2] (unknown [172.18.0.240]) by postal.iol.unh.edu (Postfix) with ESMTP id 3E9B860003F4; Mon, 3 Nov 2025 21:45:04 -0500 (EST) Subject: |SUCCESS| [GIT MASTER] 8c4861d00aabcf54ef9d6f1df2a4cfb37c06f6c2 From: dpdklab@iol.unh.edu To: Test Report Cc: dpdk-test-reports@iol.unh.edu Content-Type: text/plain X-BeenThere: test-report@dpdk.org X-Mailman-Version: 2.1.29 Precedence: list List-Id: automatic DPDK test reports List-Unsubscribe: , List-Archive: List-Post: List-Help: List-Subscribe: , Errors-To: test-report-bounces@dpdk.org _Testing PASS_ Branch: dpdk 8c4861d00aabcf54ef9d6f1df2a4cfb37c06f6c2 --> testing pass Upstream job id: Generic-Unit-Test-DPDK#388039 Test environment and result as below: +------------------------------+----------------+------------------------------+--------------+---------------------------+ | Environment | dpdk_unit_test | cryptodev_sw_snow3g_autotest | lpm_autotest | cryptodev_sw_zuc_autotest | +==============================+================+==============================+==============+===========================+ | Ubuntu 24.04 | PASS | SKIPPED | SKIPPED | SKIPPED | +------------------------------+----------------+------------------------------+--------------+---------------------------+ | Debian GNU/Linux 12 | PASS | SKIPPED | SKIPPED | SKIPPED | +------------------------------+----------------+------------------------------+--------------+---------------------------+ | CentOS Stream 10 | PASS | SKIPPED | SKIPPED | SKIPPED | +------------------------------+----------------+------------------------------+--------------+---------------------------+ | CentOS Stream 9 | PASS | SKIPPED | SKIPPED | SKIPPED | +------------------------------+----------------+------------------------------+--------------+---------------------------+ | Fedora Linux 42 | PASS | SKIPPED | SKIPPED | SKIPPED | +------------------------------+----------------+------------------------------+--------------+---------------------------+ | Fedora Linux 40 | PASS | SKIPPED | SKIPPED | SKIPPED | +------------------------------+----------------+------------------------------+--------------+---------------------------+ | Fedora Linux 41 | PASS | SKIPPED | SKIPPED | SKIPPED | +------------------------------+----------------+------------------------------+--------------+---------------------------+ | Red Hat Enterprise Linux 9.5 | PASS | SKIPPED | SKIPPED | SKIPPED | +------------------------------+----------------+------------------------------+--------------+---------------------------+ | Ubuntu 20.04 | PASS | SKIPPED | PASS | SKIPPED | +------------------------------+----------------+------------------------------+--------------+---------------------------+ | Ubuntu 22.04 | PASS | SKIPPED | SKIPPED | SKIPPED | +------------------------------+----------------+------------------------------+--------------+---------------------------+ | Debian 12 (arm) | SKIPPED | PASS | SKIPPED | PASS | +------------------------------+----------------+------------------------------+--------------+---------------------------+ Ubuntu 24.04 Kernel: 5.4 Compiler: gcc gcc (Ubuntu 13.3.0-6ubuntu2~24.04) 13.3.0 Debian GNU/Linux 12 Kernel: 5.4 Compiler: gcc gcc (Debian 12.2.0-14+deb12u1) 12.2.0 CentOS Stream 10 Kernel: 5.4 Compiler: gcc gcc (GCC) 14.2.1 20250110 (Red Hat 14.2.1-8) CentOS Stream 9 Kernel: 5.4 Compiler: gcc gcc (GCC) 11.5.0 20240719 (Red Hat 11.5.0-11) Fedora Linux 42 Kernel: 5.4 Compiler: clang gcc (GCC) 15.2.1 20250808 (Red Hat 15.2.1-1) Fedora Linux 40 Kernel: 5.4 Compiler: clang gcc (GCC) 14.2.1 20240912 (Red Hat 14.2.1-3) Fedora Linux 41 Kernel: 5.4 Compiler: gcc gcc (GCC) 14.3.1 20250523 (Red Hat 14.3.1-1) Red Hat Enterprise Linux 9.5 Kernel: 5.4 Compiler: gcc gcc (GCC) 11.5.0 20240719 (Red Hat 11.5.0-2) Ubuntu 20.04 Kernel: 5.4 Compiler: gcc gcc (Ubuntu 9.4.0-1ubuntu1~20.04.2) 9.4.0 Ubuntu 22.04 Kernel: 5.4 Compiler: gcc gcc (Ubuntu 11.4.0-1ubuntu1~22.04) 11.4.0 Debian 12 (arm) Kernel: Depends on container host Compiler: gcc (Debian 12.2.0-14) 12.2.0 To view detailed results, visit: https://lab.dpdk.org/results/dashboard/tarballs/35436/ UNH-IOL DPDK Community Lab To manage your email subscriptions, visit: https://lab.dpdk.org/results/dashboard/preferences/subscriptions/