From mboxrd@z Thu Jan 1 00:00:00 1970 Return-Path: Received: from mails.dpdk.org (mails.dpdk.org [217.70.189.124]) by inbox.dpdk.org (Postfix) with ESMTP id CAC7B48A99 for ; Tue, 4 Nov 2025 05:30:19 +0100 (CET) Received: from mails.dpdk.org (localhost [127.0.0.1]) by mails.dpdk.org (Postfix) with ESMTP id C3D68402B1; Tue, 4 Nov 2025 05:30:19 +0100 (CET) Received: from mail-pg1-f225.google.com (mail-pg1-f225.google.com [209.85.215.225]) by mails.dpdk.org (Postfix) with ESMTP id 590C4402B1 for ; Tue, 4 Nov 2025 05:30:19 +0100 (CET) Received: by mail-pg1-f225.google.com with SMTP id 41be03b00d2f7-b98a619f020so2230263a12.2 for ; Mon, 03 Nov 2025 20:30:19 -0800 (PST) DKIM-Signature: v=1; a=rsa-sha256; c=relaxed/relaxed; d=iol.unh.edu; s=unh-iol; t=1762230618; x=1762835418; darn=dpdk.org; h=cc:to:from:subject:message-id:date:from:to:cc:subject:date :message-id:reply-to; bh=QZPBUSOL4KPpl34l7ACjHiZgyQVCFml1xnrlHfPWABs=; b=Xu7XXIWq/xsTZRwL+fytK/lnhbNRNEFEsqia2N9Dw+AOLK0Vga3OnvPnRbDiQRVVmT NhFP8MXRXyjEkO29fDxmgnCSj0roVtLinIIMHv7wiBV7W3hCCV1mpceGnQOhC9EZiNe4 DWADaiMS0aTYpn5cyEzyxpOot1JXyVeivnO1I= X-Google-DKIM-Signature: v=1; a=rsa-sha256; c=relaxed/relaxed; d=1e100.net; s=20230601; t=1762230618; x=1762835418; h=cc:to:from:subject:message-id:date:x-gm-message-state:from:to:cc :subject:date:message-id:reply-to; bh=QZPBUSOL4KPpl34l7ACjHiZgyQVCFml1xnrlHfPWABs=; b=ul6x78dGtnTltCoJH2G0x7nvOj56ZYlzvrrawHdGHv3vUS9+LKjnrZJ4Dru7QgwWhY dsqymMT2eoOFuYMc8i3QDOZkiZvINL91r7BOsMnyX53pcbfzsSxNu1uru015ggVfi6ce 4t87M2eIEVppW5p/EbWjt3oGFuRZh0Q4eMfs77U6n/SVpMzeI9/f6JcRndhxuydXV0Pr DgNlCmzi7BVYgtvnGX66shiN2vP7bbkhI++D5neG/0MW+Mmjc3F4OHp5S3+esYIQFOZH 7XDUF0odxlk+jTgnlwLkh3k6GwDDno1UBvSN8nYQkEvj/IZQFhjuOeXVk03aU6LnSY5z 4LEg== X-Gm-Message-State: AOJu0YzjUKS7QNNaemsWVNpalJtYymMMjvVoSjtxnprOwrReBAdM706s UDUCIlIAQrs/x1akOWkS4GD2CdclR6sN8Y4BNxu4YUUaNvg3hwyOcB+EDwvOFdhrRWa72rsGyNL MPP0sFckpdClw0ECK/2mj/3iexnosbFh1XZzDD/imkxw6 X-Gm-Gg: ASbGncvw3AJgpNdmxRNghxuhFcXECWCD2e1r+Z0a8vTKBWj2F5QKmp/YlXtoZ/pTuur N99E0JTJHoI8aSnXl/GqHINqzkkqxmZtcjzOIn8wh77VbzFyeiNEsNDobGVML0V/aig+VlHQZL8 79365lyZVu3DZ0nrHMND6HSw9M6zTrDVHyqQdoVcAFmfv++k8sew1Y8XHcWhmG39i9y+390fAhp PnDQeyD5weo0P0+U9sgPZkXhYsNyEpavMlbxXfENLxOtNfvYNU8D5M9kUwwcWU60nDRS1lcOnNb wncQuFpbreEjQpDneDXCDBh4+znvb2vQJ0cDeANPGpX+6UOnNlsQHAO5Od7jPVuWTmyk3Y2LqcV nBztiq/IvD6ljd3gTF3kU5haE/EHXwv8= X-Google-Smtp-Source: AGHT+IHGBxsodE08dfav3di4eJZ1mA3QwBsq/Rgj5NFnVRKXpH/yjcS90alNI/nDmjqAuMpBB9nMOamB9Z7o X-Received: by 2002:a17:903:1c5:b0:295:395c:ebf9 with SMTP id d9443c01a7336-295395cee80mr177304825ad.55.1762230618449; Mon, 03 Nov 2025 20:30:18 -0800 (PST) Received: from postal.iol.unh.edu (postal.iol.unh.edu. [132.177.123.84]) by smtp-relay.gmail.com with ESMTPS id d9443c01a7336-29601a16761sm983015ad.41.2025.11.03.20.30.18 (version=TLS1_2 cipher=ECDHE-ECDSA-AES128-GCM-SHA256 bits=128/128); Mon, 03 Nov 2025 20:30:18 -0800 (PST) X-Relaying-Domain: iol.unh.edu Date: Mon, 03 Nov 2025 20:30:18 -0800 (PST) Message-ID: <6909815a.170a0220.2c7a61.5958SMTPIN_ADDED_MISSING@mx.google.com> Received: from [172.21.0.3] (unknown [172.18.0.240]) by postal.iol.unh.edu (Postfix) with ESMTP id E43376051830; Mon, 3 Nov 2025 23:30:16 -0500 (EST) Subject: |SUCCESS| [GIT MASTER] 8c4861d00aabcf54ef9d6f1df2a4cfb37c06f6c2 From: dpdklab@iol.unh.edu To: Test Report Cc: dpdk-test-reports@iol.unh.edu Content-Type: text/plain X-BeenThere: test-report@dpdk.org X-Mailman-Version: 2.1.29 Precedence: list List-Id: automatic DPDK test reports List-Unsubscribe: , List-Archive: List-Post: List-Help: List-Subscribe: , Errors-To: test-report-bounces@dpdk.org _Testing PASS_ Branch: dpdk 8c4861d00aabcf54ef9d6f1df2a4cfb37c06f6c2 --> testing pass Upstream job id: Generic-DPDK-Compile-Meson#440280 Test environment and result as below: +------------------------------+--------------------+ | Environment | dpdk_meson_compile | +==============================+====================+ | Debian GNU/Linux 12 | PASS | +------------------------------+--------------------+ | Ubuntu 20.04 | PASS | +------------------------------+--------------------+ | Fedora Linux 42 | PASS | +------------------------------+--------------------+ | Ubuntu 22.04 | PASS | +------------------------------+--------------------+ | CentOS Stream 9 | PASS | +------------------------------+--------------------+ | Ubuntu 24.04 | PASS | +------------------------------+--------------------+ | CentOS Stream 10 | PASS | +------------------------------+--------------------+ | Red Hat Enterprise Linux 9.5 | PASS | +------------------------------+--------------------+ Debian GNU/Linux 12 Kernel: 5.4 Compiler: gcc gcc (Debian 12.2.0-14+deb12u1) 12.2.0 Ubuntu 20.04 Kernel: 5.15 Compiler: gcc gcc (Ubuntu 9.4.0-1ubuntu1~20.04.2) 9.4.0 Fedora Linux 42 Kernel: 5.4 Compiler: gcc gcc (GCC) 15.2.1 20250808 (Red Hat 15.2.1-1) Ubuntu 22.04 Kernel: 5.4 Compiler: gcc gcc (Ubuntu 11.4.0-1ubuntu1~22.04) 11.4.0 CentOS Stream 9 Kernel: 5.4 Compiler: gcc gcc (GCC) 11.5.0 20240719 (Red Hat 11.5.0-11) Ubuntu 24.04 Kernel: 5.4 Compiler: gcc gcc (Ubuntu 13.3.0-6ubuntu2~24.04) 13.3.0 CentOS Stream 10 Kernel: 5.4 Compiler: gcc gcc (GCC) 14.2.1 20250110 (Red Hat 14.2.1-8) Red Hat Enterprise Linux 9.5 Kernel: 5.4 Compiler: gcc gcc (GCC) 11.5.0 20240719 (Red Hat 11.5.0-2) To view detailed results, visit: https://lab.dpdk.org/results/dashboard/tarballs/35436/ UNH-IOL DPDK Community Lab To manage your email subscriptions, visit: https://lab.dpdk.org/results/dashboard/preferences/subscriptions/