From mboxrd@z Thu Jan 1 00:00:00 1970 Return-Path: Received: from mails.dpdk.org (mails.dpdk.org [217.70.189.124]) by inbox.dpdk.org (Postfix) with ESMTP id E4CEB48A9A for ; Tue, 4 Nov 2025 06:25:18 +0100 (CET) Received: from mails.dpdk.org (localhost [127.0.0.1]) by mails.dpdk.org (Postfix) with ESMTP id D170C402B6; Tue, 4 Nov 2025 06:25:18 +0100 (CET) Received: from mail-il1-f226.google.com (mail-il1-f226.google.com [209.85.166.226]) by mails.dpdk.org (Postfix) with ESMTP id 80B25402B6 for ; Tue, 4 Nov 2025 06:25:17 +0100 (CET) Received: by mail-il1-f226.google.com with SMTP id e9e14a558f8ab-4330d78f935so36348585ab.2 for ; Mon, 03 Nov 2025 21:25:17 -0800 (PST) DKIM-Signature: v=1; a=rsa-sha256; c=relaxed/relaxed; d=iol.unh.edu; s=unh-iol; t=1762233917; x=1762838717; darn=dpdk.org; h=references:in-reply-to:cc:to:from:subject:message-id:date:from:to :cc:subject:date:message-id:reply-to; bh=PD9tA9owznbuIBgzb9OKzAtXHMh2QBLXogcvoy6BBHQ=; b=aODDILXKKtFC88ayo0mybFFsJpWsGyOCCIikLeLnPfs0ukPG+KJXPypfmcJsTjfiYv hRxUqljCCuJlAHJuKgTvn/KbaFr67kUFOcpkXuEgUTEwqAPWpOqD9nB+f6kV2aueToJE ELoPBYryLUeZG4pfwtQhEE0up9LgeVt1QqgAU= X-Google-DKIM-Signature: v=1; a=rsa-sha256; c=relaxed/relaxed; d=1e100.net; s=20230601; t=1762233917; x=1762838717; h=references:in-reply-to:cc:to:from:subject:message-id:date :x-gm-message-state:from:to:cc:subject:date:message-id:reply-to; bh=PD9tA9owznbuIBgzb9OKzAtXHMh2QBLXogcvoy6BBHQ=; b=fkv/M+g+tRzDl4BdY6Zuil92DAETMOSP0yEB4Hn60bN1LdFGDDK1UxXieldfOz442Z 1Ubpa11+2ohibjEla76w2ZwQkexw3Y8Nq30rd9U8VJY3Gjyp20nCOYoi3LLZvWs2UNx9 iFwVdsIx1PKW+n4Vs6iAuA95lGL3sd2EF4PPjGOsjhl9jjuOcgm73FFPBeeSfAvMv8JP 42LYLcgD4qkTLMwATsuXjBjk3/n62xeENK//m6cdRrpe8dA5lDwxNi2phy54x5cZlzae W5GB7qBim+JZ7B3/awGYz0bzLzBcYVv/OEhcetH+v6A8rSoqvvugkVaq6xVxu9yrT3Z7 Jqpw== X-Gm-Message-State: AOJu0Yxk8oyC2aQTI6fPeWciPxIEB4T1JdX/J4Fi/HtANnj09+oGV3Wo Io09bn4sHspjxM4NrvEg7Apq8gesuzO3JlWSbcWrgkeEcueXW5bksyQhxouUBMYzFskgWDWZUdx ppn6jUnNm36ifNo2waFKaFm6HO5AxSvtX/rLfyxwu7wbc X-Gm-Gg: ASbGncsCcMUXxkbO+AL8a2C9KP0kLoF6rpIbpvzw4gO6Ne79uRMYOniNNwdWXwZ8hRS qZxl7PP8GBlv6kgbkO7r6sQFqjqaFoSb8wOGwPD1h/tHustZFyQk73na3VENDLFDG5pvt35RnAP n7XHE7tQ/Ec+npHeXsDE5E4vv7o6AGjXnhX4U9CDr+rEcbQlKMDZ7JdAwb+mXfZcaMlNznP1XJH Rgm5paCi2Qv+zEQuILAakgIuSqfYSskO7f5jqmGRQgfy+ECk7VB0g30aL9k+R2xqWnD+HzrAHkX 8d262AxMyq1MGeWZqutW+GqGlVhdw9csaxWnEbJsvnTQWQsxNTm0pW+9IxuHCN8vQU3mVHKkwMt JYQ31QPbj7n49R42WbUTnk2IGLZJDSF0= X-Google-Smtp-Source: AGHT+IF6g6w0/AzKkujmjeueujwTu0PpcJ3E0qwFOuzfXFQpvkEQOFGBOrFmH8f++DNy3MYBrFPvoR0PhKRT X-Received: by 2002:a05:6e02:2683:b0:433:231e:9bf with SMTP id e9e14a558f8ab-433232d4ec3mr151318905ab.25.1762233916775; Mon, 03 Nov 2025 21:25:16 -0800 (PST) Received: from postal.iol.unh.edu (postal.iol.unh.edu. [132.177.123.84]) by smtp-relay.gmail.com with ESMTPS id e9e14a558f8ab-43335a9b77esm1955645ab.14.2025.11.03.21.25.16 (version=TLS1_2 cipher=ECDHE-ECDSA-AES128-GCM-SHA256 bits=128/128); Mon, 03 Nov 2025 21:25:16 -0800 (PST) X-Relaying-Domain: iol.unh.edu Date: Mon, 03 Nov 2025 21:25:16 -0800 (PST) Message-ID: <69098e3c.050a0220.149a5e.aebeSMTPIN_ADDED_MISSING@mx.google.com> Received: from [172.21.0.2] (unknown [172.18.0.240]) by postal.iol.unh.edu (Postfix) with ESMTP id 18FAF6051830; Tue, 4 Nov 2025 00:25:16 -0500 (EST) Subject: |SUCCESS| pw158402-158404 [PATCH] [3/3] app/testpmd: support stop sp From: dpdklab@iol.unh.edu To: Test Report Cc: dpdk-test-reports@iol.unh.edu, Stephen Hemminger In-Reply-To: <20251104040916.25864-4-fengchengwen@huawei.com> References: <20251104040916.25864-4-fengchengwen@huawei.com> Content-Type: text/plain X-BeenThere: test-report@dpdk.org X-Mailman-Version: 2.1.29 Precedence: list List-Id: automatic DPDK test reports List-Unsubscribe: , List-Archive: List-Post: List-Help: List-Subscribe: , Errors-To: test-report-bounces@dpdk.org Test-Label: iol-unit-amd64-testing Test-Status: SUCCESS http://dpdk.org/patch/158404 _Testing PASS_ Submitter: Chengwen Feng Date: Tuesday, November 04 2025 04:09:16 DPDK git baseline: Repo:dpdk-next-net Branch: master CommitID:80dea84c15d0ba5b8b092db744e26319a6f23a04 158402-158404 --> testing pass Upstream job id: Generic-VM-Unit-Test-DPDK#32257 Test environment and result as below: +-------------------------------+----------------+ | Environment | dpdk_unit_test | +===============================+================+ | Ubuntu 22.04 | PASS | +-------------------------------+----------------+ | Red Hat Enterprise Linux 8.10 | PASS | +-------------------------------+----------------+ | CentOS Stream 10 | PASS | +-------------------------------+----------------+ | Fedora Linux 41 | PASS | +-------------------------------+----------------+ | Ubuntu 20.04 | PASS | +-------------------------------+----------------+ | Ubuntu 24.04 | PASS | +-------------------------------+----------------+ | Fedora Linux 40 | PASS | +-------------------------------+----------------+ | CentOS Stream 9 | PASS | +-------------------------------+----------------+ | Windows Server 2022 | PASS | +-------------------------------+----------------+ | Debian GNU/Linux 12 | PASS | +-------------------------------+----------------+ | Fedora Linux 42 | PASS | +-------------------------------+----------------+ | Red Hat Enterprise Linux 9.5 | PASS | +-------------------------------+----------------+ Ubuntu 22.04 Kernel: 5.15 Compiler: gcc gcc (Ubuntu 11.4.0-1ubuntu1~22.04) 11.4.0 Red Hat Enterprise Linux 8.10 Kernel: 5.15 Compiler: gcc gcc (GCC) 8.5.0 20210514 (Red Hat 8.5.0-22) CentOS Stream 10 Kernel: 5.15 Compiler: gcc gcc (GCC) 14.2.1 20250110 (Red Hat 14.2.1-8) Fedora Linux 41 Kernel: 5.15 Compiler: gcc gcc (GCC) 14.3.1 20250523 (Red Hat 14.3.1-1) Ubuntu 20.04 Kernel: 5.15 Compiler: gcc gcc (Ubuntu 9.4.0-1ubuntu1~20.04.2) 9.4.0 Ubuntu 24.04 Kernel: 5.15 Compiler: gcc gcc (Ubuntu 13.3.0-6ubuntu2~24.04) 13.3.0 Fedora Linux 40 Kernel: 5.15 Compiler: clang gcc (GCC) 14.2.1 20240912 (Red Hat 14.2.1-3) CentOS Stream 9 Kernel: 5.15 Compiler: gcc gcc (GCC) 11.5.0 20240719 (Red Hat 11.5.0-11) Windows Server 2022 Kernel: 10.0.20348.2031 Compiler: clang 15.0.7, gcc 14.1.0 (MinGW), and MSVC VS 19.39.33521 Debian GNU/Linux 12 Kernel: 5.15 Compiler: gcc gcc (Debian 12.2.0-14+deb12u1) 12.2.0 Fedora Linux 42 Kernel: 5.15 Compiler: clang gcc (GCC) 15.2.1 20250808 (Red Hat 15.2.1-1) Red Hat Enterprise Linux 9.5 Kernel: 5.15 Compiler: gcc gcc (GCC) 11.5.0 20240719 (Red Hat 11.5.0-2) To view detailed results, visit: https://lab.dpdk.org/results/dashboard/patchsets/34450/ UNH-IOL DPDK Community Lab To manage your email subscriptions, visit: https://lab.dpdk.org/results/dashboard/preferences/subscriptions/