From mboxrd@z Thu Jan 1 00:00:00 1970 Return-Path: Received: from mails.dpdk.org (mails.dpdk.org [217.70.189.124]) by inbox.dpdk.org (Postfix) with ESMTP id A5F2F48A9A for ; Tue, 4 Nov 2025 06:44:35 +0100 (CET) Received: from mails.dpdk.org (localhost [127.0.0.1]) by mails.dpdk.org (Postfix) with ESMTP id A06B740285; Tue, 4 Nov 2025 06:44:35 +0100 (CET) Received: from mail-il1-f227.google.com (mail-il1-f227.google.com [209.85.166.227]) by mails.dpdk.org (Postfix) with ESMTP id 5D1CF40285 for ; Tue, 4 Nov 2025 06:44:34 +0100 (CET) Received: by mail-il1-f227.google.com with SMTP id e9e14a558f8ab-43321629a25so29535435ab.3 for ; Mon, 03 Nov 2025 21:44:34 -0800 (PST) DKIM-Signature: v=1; a=rsa-sha256; c=relaxed/relaxed; d=iol.unh.edu; s=unh-iol; t=1762235073; x=1762839873; darn=dpdk.org; h=references:in-reply-to:cc:to:from:subject:message-id:date:from:to :cc:subject:date:message-id:reply-to; bh=QTjPgJoxgXKzpm+NS0suRlrCenWWmmtn5bDp6Uqj3Sg=; b=eGDgxzpM2xX9TSGLFgGaI20vlEqASFZdydQQVotoURJROJKwXloSjGvHX+o7hsdzkW MZ0xmRpU6kCRp+ibQSJpmeYDkAfpBl0VcN1hYLZPHDld7CZtWoK7U8zG/fGK9RqAHN5D ipIk9W6vlI5wKWEMFBNPddZH+gtjNSaGST0dU= X-Google-DKIM-Signature: v=1; a=rsa-sha256; c=relaxed/relaxed; d=1e100.net; s=20230601; t=1762235073; x=1762839873; h=references:in-reply-to:cc:to:from:subject:message-id:date :x-gm-message-state:from:to:cc:subject:date:message-id:reply-to; bh=QTjPgJoxgXKzpm+NS0suRlrCenWWmmtn5bDp6Uqj3Sg=; b=hLD3zEmXu0zCmpui2GP0TdDX900u+0T/XO6531rzhd+oTaFpNQAgjq5vHzA3VramKU BKogAt9cXbwg9rj/zmOAHEw+9IMJYRJWyVX46F2sKcO0NsyPJQgIwipohadcgLcyuJby zun+Yn2bIUC6Y8ZkHZtaYFlcGmwBpaSBfk5l93HPm/oAWzgvWJIMh4B04G7aOyfGZMj7 tN/uehoonm+wAgUNrGNUuuk/uKG5AQw22M5mJzUFpy1uIw0d0BlIbNm//plLg8BaaKIk ml1A2Z0kkjtOFiJjo0OfOEbzujWD+YxdvQEXwbvhyAHWAiZ+IMAJTj4cQSUH0jXBpbpz VBoA== X-Gm-Message-State: AOJu0Yw/ToPUFfSqGwcIOBW53CAzLblHZJm+LtXVtuM4nzgSlrChAJnB BJEWivJ7Nia55En2k4fsHBHQ7dStOREtogg9NjHBrAI5nxDbeC+nEbNhMFaL0L1v9TpenQaID7t 5oKUQTyArCpaeTUq9EZ4X7K1Ny1tUDJZTfTrXIXP5lMc6hBDIweJmlHfl5Anh X-Gm-Gg: ASbGncuF3gHK5CTY5Cq2Wv2wTX2FrTMnwb8d+L6arkgJAT0DGskJ1iYD70GKVdOlXdZ HN97EbCAqlXVCJrMnqTUXQ3RAsBpS5Fi5i/gin/yvZ1qtBJ8BB7ZGyqb3IM4mKuy8U+760eEoQd Qqs7T+k42JBQtkCtU1xNVZcCuuNZuNjvsGGJzCqHYD7HTZle9KKP1vwWBQ1YBGEc2uj/ssntoyU F0+yDJTQln7hXyiH4ottkKZhWiN+BmQdox1btApXnjf0ceIuwpLEo4V4oFY/qXzzCIa3abaxwQw 1WxQACwW+i6R5sv27KVzZqhC1JEviLgl2jmkZ6AeKBukS0wMFUCtgJ6dl4OjzXwsTzqM1EsI9yk veDk0Vmtk X-Google-Smtp-Source: AGHT+IGgwePa5FY1/zyVhcXQju5LLPD5jevcKwVigumNRm6ARnmiRvYjyjYgtOYrtZmH92oDDp8toqBmmw9A X-Received: by 2002:a05:6e02:198d:b0:433:290d:d978 with SMTP id e9e14a558f8ab-433290dda31mr114718325ab.15.1762235073622; Mon, 03 Nov 2025 21:44:33 -0800 (PST) Received: from postal.iol.unh.edu (postal.iol.unh.edu. [2606:4100:3880:1234::84]) by smtp-relay.gmail.com with ESMTPS id 8926c6da1cb9f-5b7226c7fbdsm262564173.20.2025.11.03.21.44.33 (version=TLS1_2 cipher=ECDHE-ECDSA-AES128-GCM-SHA256 bits=128/128); Mon, 03 Nov 2025 21:44:33 -0800 (PST) X-Relaying-Domain: iol.unh.edu Date: Mon, 03 Nov 2025 21:44:33 -0800 (PST) Message-ID: <690992c1.050a0220.3c8412.e8e6SMTPIN_ADDED_MISSING@mx.google.com> Received: from [172.21.0.4] (unknown [172.18.0.240]) by postal.iol.unh.edu (Postfix) with ESMTP id 08B9C6051830; Tue, 4 Nov 2025 00:44:33 -0500 (EST) Subject: |SUCCESS| pw158402-158404 [PATCH] [3/3] app/testpmd: support stop sp From: dpdklab@iol.unh.edu To: Test Report Cc: dpdk-test-reports@iol.unh.edu, Stephen Hemminger In-Reply-To: <20251104040916.25864-4-fengchengwen@huawei.com> References: <20251104040916.25864-4-fengchengwen@huawei.com> Content-Type: text/plain X-BeenThere: test-report@dpdk.org X-Mailman-Version: 2.1.29 Precedence: list List-Id: automatic DPDK test reports List-Unsubscribe: , List-Archive: List-Post: List-Help: List-Subscribe: , Errors-To: test-report-bounces@dpdk.org Test-Label: iol-unit-amd64-testing Test-Status: SUCCESS http://dpdk.org/patch/158404 _Testing PASS_ Submitter: Chengwen Feng Date: Tuesday, November 04 2025 04:09:16 DPDK git baseline: Repo:dpdk-next-net Branch: master CommitID:80dea84c15d0ba5b8b092db744e26319a6f23a04 158402-158404 --> testing pass Upstream job id: Generic-VM-Unit-Test-DPDK#32258 Test environment and result as below: +-------------------------------+----------------+ | Environment | dpdk_unit_test | +===============================+================+ | Ubuntu 22.04 | PASS | +-------------------------------+----------------+ | Red Hat Enterprise Linux 8.10 | PASS | +-------------------------------+----------------+ | CentOS Stream 10 | PASS | +-------------------------------+----------------+ | Fedora Linux 41 | PASS | +-------------------------------+----------------+ | Ubuntu 20.04 | PASS | +-------------------------------+----------------+ | Ubuntu 24.04 | PASS | +-------------------------------+----------------+ | Fedora Linux 40 | PASS | +-------------------------------+----------------+ | CentOS Stream 9 | PASS | +-------------------------------+----------------+ | Windows Server 2022 | PASS | +-------------------------------+----------------+ | Debian GNU/Linux 12 | PASS | +-------------------------------+----------------+ | Fedora Linux 42 | PASS | +-------------------------------+----------------+ | Red Hat Enterprise Linux 9.5 | PASS | +-------------------------------+----------------+ Ubuntu 22.04 Kernel: 5.15 Compiler: gcc gcc (Ubuntu 11.4.0-1ubuntu1~22.04) 11.4.0 Red Hat Enterprise Linux 8.10 Kernel: 5.15 Compiler: gcc gcc (GCC) 8.5.0 20210514 (Red Hat 8.5.0-22) CentOS Stream 10 Kernel: 5.15 Compiler: gcc gcc (GCC) 14.2.1 20250110 (Red Hat 14.2.1-8) Fedora Linux 41 Kernel: 5.15 Compiler: gcc gcc (GCC) 14.3.1 20250523 (Red Hat 14.3.1-1) Ubuntu 20.04 Kernel: 5.15 Compiler: gcc gcc (Ubuntu 9.4.0-1ubuntu1~20.04.2) 9.4.0 Ubuntu 24.04 Kernel: 5.15 Compiler: gcc gcc (Ubuntu 13.3.0-6ubuntu2~24.04) 13.3.0 Fedora Linux 40 Kernel: 5.15 Compiler: clang gcc (GCC) 14.2.1 20240912 (Red Hat 14.2.1-3) CentOS Stream 9 Kernel: 5.15 Compiler: gcc gcc (GCC) 11.5.0 20240719 (Red Hat 11.5.0-11) Windows Server 2022 Kernel: 10.0.20348.2031 Compiler: clang 15.0.7, gcc 14.1.0 (MinGW), and MSVC VS 19.39.33521 Debian GNU/Linux 12 Kernel: 5.15 Compiler: gcc gcc (Debian 12.2.0-14+deb12u1) 12.2.0 Fedora Linux 42 Kernel: 5.15 Compiler: clang gcc (GCC) 15.2.1 20250808 (Red Hat 15.2.1-1) Red Hat Enterprise Linux 9.5 Kernel: 5.15 Compiler: gcc gcc (GCC) 11.5.0 20240719 (Red Hat 11.5.0-2) To view detailed results, visit: https://lab.dpdk.org/results/dashboard/patchsets/34450/ UNH-IOL DPDK Community Lab To manage your email subscriptions, visit: https://lab.dpdk.org/results/dashboard/preferences/subscriptions/