From mboxrd@z Thu Jan 1 00:00:00 1970 Return-Path: Received: from mails.dpdk.org (mails.dpdk.org [217.70.189.124]) by inbox.dpdk.org (Postfix) with ESMTP id D503248A9A for ; Tue, 4 Nov 2025 07:05:08 +0100 (CET) Received: from mails.dpdk.org (localhost [127.0.0.1]) by mails.dpdk.org (Postfix) with ESMTP id CF6D140285; Tue, 4 Nov 2025 07:05:08 +0100 (CET) Received: from mail-qv1-f100.google.com (mail-qv1-f100.google.com [209.85.219.100]) by mails.dpdk.org (Postfix) with ESMTP id CB70C40285 for ; Tue, 4 Nov 2025 07:05:07 +0100 (CET) Received: by mail-qv1-f100.google.com with SMTP id 6a1803df08f44-8802b66c811so49397986d6.1 for ; Mon, 03 Nov 2025 22:05:07 -0800 (PST) DKIM-Signature: v=1; a=rsa-sha256; c=relaxed/relaxed; d=iol.unh.edu; s=unh-iol; t=1762236307; x=1762841107; darn=dpdk.org; h=references:in-reply-to:cc:to:from:subject:message-id:date:from:to :cc:subject:date:message-id:reply-to; bh=i0R1Y7+OJ5diaiPzAQlRYffs1oAiy5hrHnibaV1FxxY=; b=UA+JxTYVzl0T1q+UZ+U4ViL7MjHSVsLbsxrqDx79oEUX21Q0pV5dIkkJJhRXCefxpV mB+UF3BfjXB199NEUQKvt7OTQr0/LyPgHUPFdeHLv4GOrr4x6/Jl1in6RT4ZekoqVX8B taWOEv9ug2BQOCJQWocooh0/CNM0sY01nKsWM= X-Google-DKIM-Signature: v=1; a=rsa-sha256; c=relaxed/relaxed; d=1e100.net; s=20230601; t=1762236307; x=1762841107; h=references:in-reply-to:cc:to:from:subject:message-id:date :x-gm-message-state:from:to:cc:subject:date:message-id:reply-to; bh=i0R1Y7+OJ5diaiPzAQlRYffs1oAiy5hrHnibaV1FxxY=; b=Mt8gAwDVWA47ESlosbOKW+QLwLnS/EJy72JAD7RSHjvk8/0voNPFvcBts7u+HnQ9mi WEyXZplDec62+R35DCTXaQ1PnwJRm5BAMfH+RdV3Y7nx7uMZtSonaM/VY3GCvnCLrw0/ 7mj9YnjIFPeBao9chvAGcbQlKjYaoBvLUz/5xUS8FFD2D+lVR74zHj6klBItamrB2lsm AdOlfZ0CEO+qFoBVgkk1fUyRCQ9ZZ+7nj0+anshe3YpFZpSI3v318cMHz9jRNlHqmc1h qDrB+rXG80epbzL+EClAMVU+6vFF0IsICB0UHU2Q/5EIA3TODlCpkrL2oVHq0qRbhbHC 7clA== X-Gm-Message-State: AOJu0YwI/3v3DsZZt/svbXp+jjTMLLf2vvdr6HSZHCGlz9JkTCfR6gJm Dtae+KvSKsMwNb6VgmSm+ZpZYwodTAHl+ZejKoxprG32LRabfVbb4drGzeYuGzE9PWKM6D23Nka 25BqGeYK6A/aqSKZ8dltDlq7szCUTvQ57ALChI4Z1mK0x X-Gm-Gg: ASbGncsrYasIAqsh/XiyvKEdFHvixxKBH5XKJiKfUHJ0N4YkWb92E8iYS08zUA85Oow hnr3PUOlp6xM1uaP1OVZI/quQypZKz8/V2XyykXvxHg8Oe+uD2MrYiU7HI6qE/4kqlDP85y0Owp 3BBw3f0RECfLRxjBITqe90pcaa44Boq2kwENQpg2MMXYiaLbMCtVcqIHkMtWiYCGPqMbgH7NUDj V1hvwOyD0H95mOWATNlBj5PW8qVQumI2XfbIs8aoL2vdKwGF5Hmx6E+j5ac9tSDH2hfKmL02UOh nZlv6na5pEp/NDguhMNJz9k4DhLbqzNycL2ZApIh8Ts0qW0Lxg6NytkFZD/qyuc8yxJTkF21t2f QYtFBW4nWEdxD/9iqpblen+vVGEiau0s= X-Google-Smtp-Source: AGHT+IEuvCZjpqRYFjA9ymP8Jn3yYat0u4L+kknGdYdY9kBkgAQu70NsCEoluIH2RcILkzWQ9p3eo/xzwwVI X-Received: by 2002:a05:6214:4992:b0:880:40cf:ab8a with SMTP id 6a1803df08f44-88040cfae00mr197735466d6.39.1762236307197; Mon, 03 Nov 2025 22:05:07 -0800 (PST) Received: from postal.iol.unh.edu (postal.iol.unh.edu. [132.177.123.84]) by smtp-relay.gmail.com with ESMTPS id 6a1803df08f44-88060e588d2sm1902326d6.24.2025.11.03.22.05.07 (version=TLS1_2 cipher=ECDHE-ECDSA-AES128-GCM-SHA256 bits=128/128); Mon, 03 Nov 2025 22:05:07 -0800 (PST) X-Relaying-Domain: iol.unh.edu Date: Mon, 03 Nov 2025 22:05:07 -0800 (PST) Message-ID: <69099793.050a0220.11f37a.adbeSMTPIN_ADDED_MISSING@mx.google.com> Received: from [172.21.0.19] (unknown [172.18.0.240]) by postal.iol.unh.edu (Postfix) with ESMTP id A596F6051830; Tue, 4 Nov 2025 01:05:06 -0500 (EST) Subject: |SUCCESS| pw158402-158404 [PATCH] [3/3] app/testpmd: support stop sp From: dpdklab@iol.unh.edu To: Test Report Cc: dpdk-test-reports@iol.unh.edu, Stephen Hemminger In-Reply-To: <20251104040916.25864-4-fengchengwen@huawei.com> References: <20251104040916.25864-4-fengchengwen@huawei.com> Content-Type: text/plain X-BeenThere: test-report@dpdk.org X-Mailman-Version: 2.1.29 Precedence: list List-Id: automatic DPDK test reports List-Unsubscribe: , List-Archive: List-Post: List-Help: List-Subscribe: , Errors-To: test-report-bounces@dpdk.org Test-Label: iol-compile-amd64-testing Test-Status: SUCCESS http://dpdk.org/patch/158404 _Testing PASS_ Submitter: Chengwen Feng Date: Tuesday, November 04 2025 04:09:16 DPDK git baseline: Repo:dpdk-next-net Branch: master CommitID:80dea84c15d0ba5b8b092db744e26319a6f23a04 158402-158404 --> testing pass Upstream job id: Generic-DPDK-Compile-Meson#440319 Test environment and result as below: +-------------------------------+--------------------+------------------+-------------------------+-------------------+----------------------+ | Environment | dpdk_meson_compile | dpdk_compile_ovs | dpdk_llvm_clang_compile | dpdk_msvc_compile | dpdk_mingw64_compile | +===============================+====================+==================+=========================+===================+======================+ | FreeBSD 14.2 | PASS | SKIPPED | SKIPPED | SKIPPED | SKIPPED | +-------------------------------+--------------------+------------------+-------------------------+-------------------+----------------------+ | Fedora Linux 42 | PASS | PASS | SKIPPED | SKIPPED | SKIPPED | +-------------------------------+--------------------+------------------+-------------------------+-------------------+----------------------+ | openSUSE Leap 15.6 | PASS | SKIPPED | SKIPPED | SKIPPED | SKIPPED | +-------------------------------+--------------------+------------------+-------------------------+-------------------+----------------------+ | CentOS Stream 9 | PASS | SKIPPED | SKIPPED | SKIPPED | SKIPPED | +-------------------------------+--------------------+------------------+-------------------------+-------------------+----------------------+ | CentOS Stream 10 | PASS | SKIPPED | SKIPPED | SKIPPED | SKIPPED | +-------------------------------+--------------------+------------------+-------------------------+-------------------+----------------------+ | Debian GNU/Linux 12 | PASS | SKIPPED | SKIPPED | SKIPPED | SKIPPED | +-------------------------------+--------------------+------------------+-------------------------+-------------------+----------------------+ | Red Hat Enterprise Linux 8.10 | PASS | SKIPPED | SKIPPED | SKIPPED | SKIPPED | +-------------------------------+--------------------+------------------+-------------------------+-------------------+----------------------+ | Red Hat Enterprise Linux 9.5 | PASS | SKIPPED | SKIPPED | SKIPPED | SKIPPED | +-------------------------------+--------------------+------------------+-------------------------+-------------------+----------------------+ | Ubuntu 22.04 | PASS | SKIPPED | SKIPPED | SKIPPED | SKIPPED | +-------------------------------+--------------------+------------------+-------------------------+-------------------+----------------------+ | Ubuntu 20.04 | PASS | SKIPPED | SKIPPED | SKIPPED | SKIPPED | +-------------------------------+--------------------+------------------+-------------------------+-------------------+----------------------+ | Ubuntu 24.04 | PASS | PASS | SKIPPED | SKIPPED | SKIPPED | +-------------------------------+--------------------+------------------+-------------------------+-------------------+----------------------+ | Alpine Linux 3.22.0 | PASS | SKIPPED | SKIPPED | SKIPPED | SKIPPED | +-------------------------------+--------------------+------------------+-------------------------+-------------------+----------------------+ | Windows Server 2022 | SKIPPED | SKIPPED | PASS | PASS | PASS | +-------------------------------+--------------------+------------------+-------------------------+-------------------+----------------------+ FreeBSD 14.2 Kernel: 14.2-RELEASE Compiler: clang 18.1.6 Fedora Linux 42 Kernel: 5.15 Compiler: gcc gcc (GCC) 15.2.1 20250808 (Red Hat 15.2.1-1) openSUSE Leap 15.6 Kernel: 5.15 Compiler: gcc gcc (SUSE Linux) 7.5.0 CentOS Stream 9 Kernel: 5.15 Compiler: gcc gcc (GCC) 11.5.0 20240719 (Red Hat 11.5.0-11) CentOS Stream 10 Kernel: 5.15 Compiler: gcc gcc (GCC) 14.2.1 20250110 (Red Hat 14.2.1-8) Debian GNU/Linux 12 Kernel: 5.15 Compiler: gcc gcc (Debian 12.2.0-14+deb12u1) 12.2.0 Red Hat Enterprise Linux 8.10 Kernel: 5.15 Compiler: gcc gcc (GCC) 8.5.0 20210514 (Red Hat 8.5.0-22) Red Hat Enterprise Linux 9.5 Kernel: 5.15 Compiler: gcc gcc (GCC) 11.5.0 20240719 (Red Hat 11.5.0-2) Ubuntu 22.04 Kernel: 5.15 Compiler: gcc gcc (Ubuntu 11.4.0-1ubuntu1~22.04) 11.4.0 Ubuntu 20.04 Kernel: 5.15 Compiler: gcc gcc (Ubuntu 9.4.0-1ubuntu1~20.04.2) 9.4.0 Ubuntu 24.04 Kernel: 5.15 Compiler: gcc gcc (Ubuntu 13.3.0-6ubuntu2~24.04) 13.3.0 Alpine Linux 3.22.0 Kernel: 5.15 Compiler: gcc gcc (Alpine 14.2.0) 14.2.0 Windows Server 2022 Kernel: 10.0.20348.2031 Compiler: clang 15.0.7, gcc 14.1.0 (MinGW), and MSVC VS 19.39.33521 To view detailed results, visit: https://lab.dpdk.org/results/dashboard/patchsets/34450/ UNH-IOL DPDK Community Lab To manage your email subscriptions, visit: https://lab.dpdk.org/results/dashboard/preferences/subscriptions/