From mboxrd@z Thu Jan 1 00:00:00 1970 Return-Path: Received: from mails.dpdk.org (mails.dpdk.org [217.70.189.124]) by inbox.dpdk.org (Postfix) with ESMTP id 9424148A9A for ; Tue, 4 Nov 2025 07:06:12 +0100 (CET) Received: from mails.dpdk.org (localhost [127.0.0.1]) by mails.dpdk.org (Postfix) with ESMTP id 8D164402DD; Tue, 4 Nov 2025 07:06:12 +0100 (CET) Received: from mail-pf1-f227.google.com (mail-pf1-f227.google.com [209.85.210.227]) by mails.dpdk.org (Postfix) with ESMTP id 3304E402F0 for ; Tue, 4 Nov 2025 07:06:11 +0100 (CET) Received: by mail-pf1-f227.google.com with SMTP id d2e1a72fcca58-78125ed4052so6952501b3a.0 for ; Mon, 03 Nov 2025 22:06:11 -0800 (PST) DKIM-Signature: v=1; a=rsa-sha256; c=relaxed/relaxed; d=iol.unh.edu; s=unh-iol; t=1762236370; x=1762841170; darn=dpdk.org; h=references:in-reply-to:cc:to:from:subject:message-id:date:from:to :cc:subject:date:message-id:reply-to; bh=P373vxQ84JSulrIKCF4QNje8Y9imMGF1EM3i1mfnjK0=; b=aXtYjZYzokHB/AA6ZcyvX54eHrBr3pNUauzsnfxIsTI2hY2FEa2LEQ3DtjHY6vau2f eG0FZTEqABovj1G1tkcvk8qejZGNEIX5A6tvh4fWnz/68b2LvIyJnfZeNZ6B0vB4ecml mBHI5BHtre8HHK4Nf4BRF+ekQh2pa7t+33/n0= X-Google-DKIM-Signature: v=1; a=rsa-sha256; c=relaxed/relaxed; d=1e100.net; s=20230601; t=1762236370; x=1762841170; h=references:in-reply-to:cc:to:from:subject:message-id:date :x-gm-message-state:from:to:cc:subject:date:message-id:reply-to; bh=P373vxQ84JSulrIKCF4QNje8Y9imMGF1EM3i1mfnjK0=; b=doLIZi3Bc7AW4U6zfGZvzxruaJTxaA1oKXzQ9A+H861rTNmC013jnv6z2zplBuQWP9 H+eVsfsG5crHxg+4q/JafsCx9vgVhcgUFYG846bsdJWA82br7v5t3jPvONXPsCSSc+pX TNxs7d2YcBcWdlDJ0s1r4j9pohYzOOwj6+W5tP1eI7VHz3T2KgIIG9kUy5bsIW7jkE5Y doQ3fQczBTjXJMtao88j6YEygrFBDKVmz2Qvrx5iMP/oIFOywFFBOnfajZzmsZ8zkp6Z Pg3S3qSfghwWtxv0j9Qn7Zp6//8uLDCBaQuXbBKHn1tDi34M1IBPemDSwK5EZVFPTVC0 Re2Q== X-Gm-Message-State: AOJu0Yz4w15+EFWS4PQva4twhe3j949jAvP7cCGYV+UNMUCHRB+k8z4n CKaQSZKGImntQp85V0HhpuZrfayv7KZaB0QSrtAK/MLwGNjOVt5zywYXCx08/we3yQLKoPpJFnO nI6gX5ZcacUR1KP97gZ97RBpG0EgS3NMqaQ3JWayAt1vtto8n/6dZrM439b15 X-Gm-Gg: ASbGnctECvNTFfIcAKgXO6G6+1ORRzx1dmLGqJFZG7d8CP0rzV9QFjNKJAHNYgjBL7D wpLFA2ep8K7uJbu6f0623fkkMQNYmMasDgP8c0UjkriZWlcQ0VTyu65W9o5z4KDOZlddDnnUgPG FrZYFKQey77Hr2Z3CObNInzyiZ5/P4muvhuEAjB5dE0oCWqfFDO9hm7mWXDIT+LU13g1rt9pSyj fIUle37KSUX3cp3kxy17rUqBHH7PNWYdRK8XFkIcgz3Lla2qCgwr7cX1PpTaiYBRRKMu3h0ehy1 7bPTXkD+tVKqUpfC6/vj5hn+ejqLatwmZAeziNN/mvwIKmKqis8IJbxmgxhfXlQh4+SXEbzxi4I Jqhi3vvkO X-Google-Smtp-Source: AGHT+IFRh9DxIP5vhZ8qmelNuTqejwPzouiPGONsE4+/xwduYmMsdymE1qJsh4x3vRhAJeSShuAHaZAN3lu9 X-Received: by 2002:a05:6a21:981:b0:34e:1009:41fd with SMTP id adf61e73a8af0-34e1009494emr2377722637.48.1762236370448; Mon, 03 Nov 2025 22:06:10 -0800 (PST) Received: from postal.iol.unh.edu (postal.iol.unh.edu. [2606:4100:3880:1234::84]) by smtp-relay.gmail.com with ESMTPS id 41be03b00d2f7-ba1f56b2713sm77854a12.13.2025.11.03.22.06.10 (version=TLS1_2 cipher=ECDHE-ECDSA-AES128-GCM-SHA256 bits=128/128); Mon, 03 Nov 2025 22:06:10 -0800 (PST) X-Relaying-Domain: iol.unh.edu Date: Mon, 03 Nov 2025 22:06:10 -0800 (PST) Message-ID: <690997d2.630a0220.1d798c.45ddSMTPIN_ADDED_MISSING@mx.google.com> Received: from [172.21.0.7] (unknown [172.18.0.240]) by postal.iol.unh.edu (Postfix) with ESMTP id 7F3396051830; Tue, 4 Nov 2025 01:06:09 -0500 (EST) Subject: |SUCCESS| pw158402-158404 [PATCH] [3/3] app/testpmd: support stop sp From: dpdklab@iol.unh.edu To: Test Report Cc: dpdk-test-reports@iol.unh.edu, Stephen Hemminger In-Reply-To: <20251104040916.25864-4-fengchengwen@huawei.com> References: <20251104040916.25864-4-fengchengwen@huawei.com> Content-Type: text/plain X-BeenThere: test-report@dpdk.org X-Mailman-Version: 2.1.29 Precedence: list List-Id: automatic DPDK test reports List-Unsubscribe: , List-Archive: List-Post: List-Help: List-Subscribe: , Errors-To: test-report-bounces@dpdk.org Test-Label: iol-unit-arm64-testing Test-Status: SUCCESS http://dpdk.org/patch/158404 _Testing PASS_ Submitter: Chengwen Feng Date: Tuesday, November 04 2025 04:09:16 DPDK git baseline: Repo:dpdk-next-net Branch: master CommitID:80dea84c15d0ba5b8b092db744e26319a6f23a04 158402-158404 --> testing pass Upstream job id: Generic-Unit-Test-DPDK#388106 Test environment and result as below: +------------------------------+--------------+---------------------------+------------------------------+----------------+ | Environment | lpm_autotest | cryptodev_sw_zuc_autotest | cryptodev_sw_snow3g_autotest | dpdk_unit_test | +==============================+==============+===========================+==============================+================+ | Ubuntu 20.04 | PASS | SKIPPED | SKIPPED | PASS | +------------------------------+--------------+---------------------------+------------------------------+----------------+ | Debian 12 (arm) | SKIPPED | PASS | PASS | SKIPPED | +------------------------------+--------------+---------------------------+------------------------------+----------------+ | Ubuntu 22.04 | SKIPPED | SKIPPED | SKIPPED | PASS | +------------------------------+--------------+---------------------------+------------------------------+----------------+ | Ubuntu 24.04 | SKIPPED | SKIPPED | SKIPPED | PASS | +------------------------------+--------------+---------------------------+------------------------------+----------------+ | Debian GNU/Linux 12 | SKIPPED | SKIPPED | SKIPPED | PASS | +------------------------------+--------------+---------------------------+------------------------------+----------------+ | Red Hat Enterprise Linux 9.5 | SKIPPED | SKIPPED | SKIPPED | PASS | +------------------------------+--------------+---------------------------+------------------------------+----------------+ | Fedora Linux 40 | SKIPPED | SKIPPED | SKIPPED | PASS | +------------------------------+--------------+---------------------------+------------------------------+----------------+ | Fedora Linux 42 | SKIPPED | SKIPPED | SKIPPED | PASS | +------------------------------+--------------+---------------------------+------------------------------+----------------+ | Fedora Linux 41 | SKIPPED | SKIPPED | SKIPPED | PASS | +------------------------------+--------------+---------------------------+------------------------------+----------------+ | CentOS Stream 10 | SKIPPED | SKIPPED | SKIPPED | PASS | +------------------------------+--------------+---------------------------+------------------------------+----------------+ | CentOS Stream 9 | SKIPPED | SKIPPED | SKIPPED | PASS | +------------------------------+--------------+---------------------------+------------------------------+----------------+ Ubuntu 20.04 Kernel: 5.4 Compiler: gcc gcc (Ubuntu 9.4.0-1ubuntu1~20.04.2) 9.4.0 Debian 12 (arm) Kernel: Depends on container host Compiler: gcc (Debian 12.2.0-14) 12.2.0 Ubuntu 22.04 Kernel: 5.15 Compiler: gcc gcc (Ubuntu 11.4.0-1ubuntu1~22.04.2) 11.4.0 Ubuntu 24.04 Kernel: 5.4 Compiler: gcc gcc (Ubuntu 13.3.0-6ubuntu2~24.04) 13.3.0 Debian GNU/Linux 12 Kernel: 5.4 Compiler: gcc gcc (Debian 12.2.0-14+deb12u1) 12.2.0 Red Hat Enterprise Linux 9.5 Kernel: 5.4 Compiler: gcc gcc (GCC) 11.5.0 20240719 (Red Hat 11.5.0-2) Fedora Linux 40 Kernel: 5.4 Compiler: gcc gcc (GCC) 14.2.1 20240912 (Red Hat 14.2.1-3) Fedora Linux 42 Kernel: 5.4 Compiler: gcc gcc (GCC) 15.2.1 20250808 (Red Hat 15.2.1-1) Fedora Linux 41 Kernel: 5.4 Compiler: clang gcc (GCC) 14.3.1 20250523 (Red Hat 14.3.1-1) CentOS Stream 10 Kernel: 5.4 Compiler: gcc gcc (GCC) 14.2.1 20250110 (Red Hat 14.2.1-8) CentOS Stream 9 Kernel: 5.4 Compiler: gcc gcc (GCC) 11.5.0 20240719 (Red Hat 11.5.0-11) To view detailed results, visit: https://lab.dpdk.org/results/dashboard/patchsets/34450/ UNH-IOL DPDK Community Lab To manage your email subscriptions, visit: https://lab.dpdk.org/results/dashboard/preferences/subscriptions/