From mboxrd@z Thu Jan 1 00:00:00 1970 Return-Path: Received: from mails.dpdk.org (mails.dpdk.org [217.70.189.124]) by inbox.dpdk.org (Postfix) with ESMTP id 33B6848A9A for ; Tue, 4 Nov 2025 07:09:59 +0100 (CET) Received: from mails.dpdk.org (localhost [127.0.0.1]) by mails.dpdk.org (Postfix) with ESMTP id 116DF40285; Tue, 4 Nov 2025 07:09:59 +0100 (CET) Received: from mail-pj1-f97.google.com (mail-pj1-f97.google.com [209.85.216.97]) by mails.dpdk.org (Postfix) with ESMTP id 7521540285 for ; Tue, 4 Nov 2025 07:09:57 +0100 (CET) Received: by mail-pj1-f97.google.com with SMTP id 98e67ed59e1d1-3408dd56b15so2939295a91.1 for ; Mon, 03 Nov 2025 22:09:57 -0800 (PST) DKIM-Signature: v=1; a=rsa-sha256; c=relaxed/relaxed; d=iol.unh.edu; s=unh-iol; t=1762236596; x=1762841396; darn=dpdk.org; h=references:in-reply-to:cc:to:from:subject:message-id:date:from:to :cc:subject:date:message-id:reply-to; bh=odQCGSYa//2ixDCT0mCSkvib2Ku4ILUaIgjCDAev7Xw=; b=RoEjeVS+oWhNQp4UlTzzY5m+L6ynVzj/ksvaxc5gaqRGDxe4e2OyRZysgvShF2/vLY L93uRdjqQuvv/4hVxIql+Cjg9JiyLpD+bW6+R/lFkTju4LMLJCm2skN3mwZa4hsryYJO YiB08ipOF/5j3WRTLQdVh4hnwtviBh7ZNZ6dg= X-Google-DKIM-Signature: v=1; a=rsa-sha256; c=relaxed/relaxed; d=1e100.net; s=20230601; t=1762236596; x=1762841396; h=references:in-reply-to:cc:to:from:subject:message-id:date :x-gm-message-state:from:to:cc:subject:date:message-id:reply-to; bh=odQCGSYa//2ixDCT0mCSkvib2Ku4ILUaIgjCDAev7Xw=; b=g2tO4+uOPnjWChPFYcbLPm4fU2Y3r/2BoKa+MlI5zp/JVDvkDMV/3YLFA4zsHMx6RJ NSPYG4lelS+EhvPS5mBc8Q6o69NZZmiu6kf9m9vQnDZ8xh7+w5WS699STexvXZ/jyc1E y6tf2sbPmU2u1Wfe2sBZ/+VaGNTXCItoJcPBXQ2brlF9NHTZ089CFJnaObskF2oPLy5L CjFhmtBG+BiVM2FGHy+YEcRFgvRGVt1lpkCYUR/q7UZ23nFvdXQYlle0To+kpquM8DwG I6jBi/yjEnVWTPhTLdKMQq9rorshAAN4CSQKOHGCZtz2gOtb9+36EFwspA4Zm2syLdqZ /IKA== X-Gm-Message-State: AOJu0Yzvq+10NGgr73HBD7jcWr78bj+jA675LZPdiuRqpP8O2AgJkf0g IGSkq5PgdZPWwTZWkqxhWWchFe9xbX/P4gXhqxWOxb70TQZzJ49V8mVwv7DpmmxYap+d3OiETHU JO7gJdO60THpVXqkKLAOIGQznH7jVE40UNeeM3SWZpNG+0R7DRmq59Ffaiott X-Gm-Gg: ASbGncsVz+GnJmIW6d+wG05+6eR+xI3dgBaebtULvU5gKlbQSGvq9IBplI2BLAm/8wN Ew4AU/5/9rNJ2eLysIlZvo/V+YbPiUzXVS8RRDchqtOqng4LvJv8b7BaUnKB1hzM2AVK54sp3H/ HWw5upwEvI8FowKlN+HCidP1BME6Qf8HDCU0T+bBAk92PC6G0ApeLdC3X7R0nYGPNIXB+361aOd KchKn2t1G80Ha4h7JCurMnXgA3aPpA31rnQ5qdTX5RORTYo4xYKJKtrqay3DxDZ2pRqdRXqevzA xHcb4YOBPMoH07v16fekTtDKOO7alAIwQSf9/TfYJuT+0/UaxuWWbp+MAC0QLzrL9ktunPvXVpL /uS8lIW1q X-Google-Smtp-Source: AGHT+IHyyPGHQdIyuFGQmr6kav6GKE4t6s2hSfipPAiqqpE9OW8sCmJlFzKCYnTM4dS1mE5+BsOhedEqxVoD X-Received: by 2002:a17:90b:388d:b0:32e:1b1c:f8b8 with SMTP id 98e67ed59e1d1-3408308b279mr19397122a91.26.1762236596207; Mon, 03 Nov 2025 22:09:56 -0800 (PST) Received: from postal.iol.unh.edu (postal.iol.unh.edu. [2606:4100:3880:1234::84]) by smtp-relay.gmail.com with ESMTPS id 98e67ed59e1d1-3415a1c1dbesm223744a91.4.2025.11.03.22.09.56 (version=TLS1_2 cipher=ECDHE-ECDSA-AES128-GCM-SHA256 bits=128/128); Mon, 03 Nov 2025 22:09:56 -0800 (PST) X-Relaying-Domain: iol.unh.edu Date: Mon, 03 Nov 2025 22:09:56 -0800 (PST) Message-ID: <690998b4.170a0220.25a809.d5a2SMTPIN_ADDED_MISSING@mx.google.com> Received: from [172.21.0.2] (unknown [172.18.0.240]) by postal.iol.unh.edu (Postfix) with ESMTP id 5B25A6051830; Tue, 4 Nov 2025 01:09:55 -0500 (EST) Subject: |SUCCESS| pw158405-158409 [PATCH] [v3,5/5] vhost_user: Increase numb From: dpdklab@iol.unh.edu To: Test Report Cc: dpdk-test-reports@iol.unh.edu, Chenbo Xia , Maxime Coquelin In-Reply-To: <20251104042142.2787631-6-pravin.bathija@dell.com> References: <20251104042142.2787631-6-pravin.bathija@dell.com> Content-Type: text/plain X-BeenThere: test-report@dpdk.org X-Mailman-Version: 2.1.29 Precedence: list List-Id: automatic DPDK test reports List-Unsubscribe: , List-Archive: List-Post: List-Help: List-Subscribe: , Errors-To: test-report-bounces@dpdk.org Test-Label: iol-compile-amd64-testing Test-Status: SUCCESS http://dpdk.org/patch/158409 _Testing PASS_ Submitter: Bathija, Pravin Date: Tuesday, November 04 2025 04:21:41 DPDK git baseline: Repo:dpdk-next-virtio Branch: master CommitID:6b37c26a95388aa41bb5267c7c42f604fd571a38 158405-158409 --> testing pass Upstream job id: Windows-Compile-DPDK-Native#32085 Test environment and result as below: +-------------------------------+--------------------+------------------+-------------------+-------------------------+ | Environment | dpdk_meson_compile | dpdk_compile_ovs | dpdk_msvc_compile | dpdk_llvm_clang_compile | +===============================+====================+==================+===================+=========================+ | FreeBSD 14.2 | PASS | SKIPPED | SKIPPED | SKIPPED | +-------------------------------+--------------------+------------------+-------------------+-------------------------+ | openSUSE Leap 15.6 | PASS | SKIPPED | SKIPPED | SKIPPED | +-------------------------------+--------------------+------------------+-------------------+-------------------------+ | Fedora Linux 42 | PASS | PASS | SKIPPED | SKIPPED | +-------------------------------+--------------------+------------------+-------------------+-------------------------+ | CentOS Stream 9 | PASS | SKIPPED | SKIPPED | SKIPPED | +-------------------------------+--------------------+------------------+-------------------+-------------------------+ | Debian GNU/Linux 12 | PASS | SKIPPED | SKIPPED | SKIPPED | +-------------------------------+--------------------+------------------+-------------------+-------------------------+ | CentOS Stream 10 | PASS | SKIPPED | SKIPPED | SKIPPED | +-------------------------------+--------------------+------------------+-------------------+-------------------------+ | Ubuntu 24.04 | PASS | PASS | SKIPPED | SKIPPED | +-------------------------------+--------------------+------------------+-------------------+-------------------------+ | Red Hat Enterprise Linux 8.10 | PASS | SKIPPED | SKIPPED | SKIPPED | +-------------------------------+--------------------+------------------+-------------------+-------------------------+ | Ubuntu 22.04 | PASS | SKIPPED | SKIPPED | SKIPPED | +-------------------------------+--------------------+------------------+-------------------+-------------------------+ | Red Hat Enterprise Linux 9.5 | PASS | SKIPPED | SKIPPED | SKIPPED | +-------------------------------+--------------------+------------------+-------------------+-------------------------+ | Alpine Linux 3.22.0 | PASS | SKIPPED | SKIPPED | SKIPPED | +-------------------------------+--------------------+------------------+-------------------+-------------------------+ | Ubuntu 20.04 | PASS | SKIPPED | SKIPPED | SKIPPED | +-------------------------------+--------------------+------------------+-------------------+-------------------------+ | Windows Server 2022 | SKIPPED | SKIPPED | PASS | PASS | +-------------------------------+--------------------+------------------+-------------------+-------------------------+ FreeBSD 14.2 Kernel: 14.2-RELEASE Compiler: clang 18.1.6 openSUSE Leap 15.6 Kernel: 5.15 Compiler: gcc gcc (SUSE Linux) 7.5.0 Fedora Linux 42 Kernel: 5.15 Compiler: clang gcc (GCC) 15.2.1 20250808 (Red Hat 15.2.1-1) CentOS Stream 9 Kernel: 5.15 Compiler: gcc gcc (GCC) 11.5.0 20240719 (Red Hat 11.5.0-11) Debian GNU/Linux 12 Kernel: 5.15 Compiler: gcc gcc (Debian 12.2.0-14+deb12u1) 12.2.0 CentOS Stream 10 Kernel: 5.15 Compiler: gcc gcc (GCC) 14.2.1 20250110 (Red Hat 14.2.1-8) Ubuntu 24.04 Kernel: 5.15 Compiler: gcc gcc (Ubuntu 13.3.0-6ubuntu2~24.04) 13.3.0 Red Hat Enterprise Linux 8.10 Kernel: 5.15 Compiler: gcc gcc (GCC) 8.5.0 20210514 (Red Hat 8.5.0-22) Ubuntu 22.04 Kernel: 5.15 Compiler: gcc gcc (Ubuntu 11.4.0-1ubuntu1~22.04) 11.4.0 Red Hat Enterprise Linux 9.5 Kernel: 5.15 Compiler: gcc gcc (GCC) 11.5.0 20240719 (Red Hat 11.5.0-2) Alpine Linux 3.22.0 Kernel: 5.15 Compiler: gcc gcc (Alpine 14.2.0) 14.2.0 Ubuntu 20.04 Kernel: 4.19 Compiler: gcc gcc (Ubuntu 9.4.0-1ubuntu1~20.04.2) 9.4.0 Windows Server 2022 Kernel: 10.0.20348.2031 Compiler: clang 15.0.7, gcc 14.1.0 (MinGW), and MSVC VS 19.39.33521 To view detailed results, visit: https://lab.dpdk.org/results/dashboard/patchsets/34451/ UNH-IOL DPDK Community Lab To manage your email subscriptions, visit: https://lab.dpdk.org/results/dashboard/preferences/subscriptions/