From mboxrd@z Thu Jan 1 00:00:00 1970 Return-Path: Received: from mails.dpdk.org (mails.dpdk.org [217.70.189.124]) by inbox.dpdk.org (Postfix) with ESMTP id 6AF6E48A9A for ; Tue, 4 Nov 2025 07:20:08 +0100 (CET) Received: from mails.dpdk.org (localhost [127.0.0.1]) by mails.dpdk.org (Postfix) with ESMTP id 6126B40285; Tue, 4 Nov 2025 07:20:08 +0100 (CET) Received: from mail-ot1-f99.google.com (mail-ot1-f99.google.com [209.85.210.99]) by mails.dpdk.org (Postfix) with ESMTP id 28E5C40285 for ; Tue, 4 Nov 2025 07:20:07 +0100 (CET) Received: by mail-ot1-f99.google.com with SMTP id 46e09a7af769-7c53038fd99so1200236a34.2 for ; Mon, 03 Nov 2025 22:20:07 -0800 (PST) DKIM-Signature: v=1; a=rsa-sha256; c=relaxed/relaxed; d=iol.unh.edu; s=unh-iol; t=1762237206; x=1762842006; darn=dpdk.org; h=references:in-reply-to:cc:to:from:subject:message-id:date:from:to :cc:subject:date:message-id:reply-to; bh=ZM5IAJhpRlTDY2YqJwgpW1QnsoYMhlPbFimpAZDQidI=; b=RTSykqew+xbkDeyIo82PrYu+FrHjOnlACFG7e7oA5ZuYxIwYUe42MyOwGKImpL88qt EosR+tTp3+d2FEYXp7kjhEkpfNvau1PzX6GTakAlhexp7CYzhQBfTbAFxBdhprg/W6dJ Qg/MGOxa1xzTC+yPIFGkE4xyi77bsPkMvzPKY= X-Google-DKIM-Signature: v=1; a=rsa-sha256; c=relaxed/relaxed; d=1e100.net; s=20230601; t=1762237206; x=1762842006; h=references:in-reply-to:cc:to:from:subject:message-id:date :x-gm-message-state:from:to:cc:subject:date:message-id:reply-to; bh=ZM5IAJhpRlTDY2YqJwgpW1QnsoYMhlPbFimpAZDQidI=; b=qjxed8ARvnzdBfMeq8WN2UcG2i7MBkkhm5ueWfRufMbZTPmRz60SqyKzR6M2l5obNV 9opRSx/9YkLZ8QzpP6qwGAxvztLHX6yUwR+XYKmTtHG3Iw9RUCBfxWYAsv8bMVMbGV00 53mPV/ngeOevng+zc0zhQ4adiG6/96KknRruLVirPn8VFx4ITW8n/BlBhljFNp2qlF8i h2cL13lfCheuqy5bJ8QF76e1NUf2OUcNZ52tljYejAlpGsivfPnoyy8eNRqSkiXEssqX vqKfYkL50da1Q0MIBDSiERCTwX0JzwHO7qwYZCiYiwCGYx7fLY79PhX30LXiALXM8ADt qcpw== X-Gm-Message-State: AOJu0YzJ9bLoJJXYDXXqzkm4Fox2QhMs+T/JhMNEG9IVL3cni2uJpQX5 YnBElGQ06RX6uPG2E+2sLqt8bWhmUUh6XObC//if2wkppoZ4Vf2z9Q2RFzQsAEAqNYN36QHr11W rhgBBmgu7KZaEeCk5mtKwyk2eIGX7YQdnNj62I4jJULEP8y3DJDShw9h3ai2Q X-Gm-Gg: ASbGncswdfa5sn7iXr1uBoEhJPO5tft/AiW8ENndqc+rD66gvYoAlSbbwPW8vmfboka p4WJftfWUuxqOaA3UhEJTSzYnt3HtcPSnfWiPkcsigpgZhw6P0CLPPfuh2LEzJFpIGMrGPpC+KR dRguwY/1hHSNB2uhZTtlikWJ9Ku5g9m1kLXqUD7FBvz5Gctl4s9iXnieYnpUpLQhwVR8t+ZQQty Nf0+nbVm+Hp1zihdYrFzsNEi5gnoejxSVNSdzvxvxYXNvDYCSR2EY4GcRg1sf7dCizJ1pIa4JLh FTJyOnShUlybTxifB0JOp2Lipp0GDqVt0T67/edHD/YYRmySkSmu4m4ED8w2oPRxScG7L7ZRA6s MaF7uh9yH X-Google-Smtp-Source: AGHT+IEZ4W5KBISvxzSNUU3DHIVUKKOiy3fH1lFkSdUlhrd5YBKooN/33/BmpkLzjP97KCb9XLLgtUUYPZgY X-Received: by 2002:a05:6830:3693:b0:7a2:deb:b8d4 with SMTP id 46e09a7af769-7c6968612cemr6101487a34.36.1762237206412; Mon, 03 Nov 2025 22:20:06 -0800 (PST) Received: from postal.iol.unh.edu (postal.iol.unh.edu. [2606:4100:3880:1234::84]) by smtp-relay.gmail.com with ESMTPS id 46e09a7af769-7c6c24d7148sm162867a34.4.2025.11.03.22.20.06 (version=TLS1_2 cipher=ECDHE-ECDSA-AES128-GCM-SHA256 bits=128/128); Mon, 03 Nov 2025 22:20:06 -0800 (PST) X-Relaying-Domain: iol.unh.edu Date: Mon, 03 Nov 2025 22:20:06 -0800 (PST) Message-ID: <69099b16.050a0220.953ba.93adSMTPIN_ADDED_MISSING@mx.google.com> Received: from [172.21.0.2] (unknown [172.18.0.240]) by postal.iol.unh.edu (Postfix) with ESMTP id CF6186051830; Tue, 4 Nov 2025 01:20:05 -0500 (EST) Subject: |SUCCESS| pw158405-158409 [PATCH] [v3,5/5] vhost_user: Increase numb From: dpdklab@iol.unh.edu To: Test Report Cc: dpdk-test-reports@iol.unh.edu, Chenbo Xia , Maxime Coquelin In-Reply-To: <20251104042142.2787631-6-pravin.bathija@dell.com> References: <20251104042142.2787631-6-pravin.bathija@dell.com> Content-Type: text/plain X-BeenThere: test-report@dpdk.org X-Mailman-Version: 2.1.29 Precedence: list List-Id: automatic DPDK test reports List-Unsubscribe: , List-Archive: List-Post: List-Help: List-Subscribe: , Errors-To: test-report-bounces@dpdk.org Test-Label: iol-unit-amd64-testing Test-Status: SUCCESS http://dpdk.org/patch/158409 _Testing PASS_ Submitter: Bathija, Pravin Date: Tuesday, November 04 2025 04:21:41 DPDK git baseline: Repo:dpdk-next-virtio Branch: master CommitID:6b37c26a95388aa41bb5267c7c42f604fd571a38 158405-158409 --> testing pass Upstream job id: Generic-VM-Unit-Test-DPDK#32259 Test environment and result as below: +-------------------------------+----------------+ | Environment | dpdk_unit_test | +===============================+================+ | CentOS Stream 10 | PASS | +-------------------------------+----------------+ | Fedora Linux 40 | PASS | +-------------------------------+----------------+ | Fedora Linux 42 | PASS | +-------------------------------+----------------+ | Debian GNU/Linux 12 | PASS | +-------------------------------+----------------+ | Red Hat Enterprise Linux 9.5 | PASS | +-------------------------------+----------------+ | CentOS Stream 9 | PASS | +-------------------------------+----------------+ | Ubuntu 20.04 | PASS | +-------------------------------+----------------+ | Fedora Linux 41 | PASS | +-------------------------------+----------------+ | Red Hat Enterprise Linux 8.10 | PASS | +-------------------------------+----------------+ | Ubuntu 24.04 | PASS | +-------------------------------+----------------+ | Ubuntu 22.04 | PASS | +-------------------------------+----------------+ | Windows Server 2022 | PASS | +-------------------------------+----------------+ CentOS Stream 10 Kernel: 5.15 Compiler: gcc gcc (GCC) 14.2.1 20250110 (Red Hat 14.2.1-8) Fedora Linux 40 Kernel: 5.15 Compiler: gcc gcc (GCC) 14.2.1 20240912 (Red Hat 14.2.1-3) Fedora Linux 42 Kernel: 5.15 Compiler: gcc gcc (GCC) 15.2.1 20250808 (Red Hat 15.2.1-1) Debian GNU/Linux 12 Kernel: 5.15 Compiler: gcc gcc (Debian 12.2.0-14+deb12u1) 12.2.0 Red Hat Enterprise Linux 9.5 Kernel: 5.15 Compiler: gcc gcc (GCC) 11.5.0 20240719 (Red Hat 11.5.0-2) CentOS Stream 9 Kernel: 5.15 Compiler: gcc gcc (GCC) 11.5.0 20240719 (Red Hat 11.5.0-11) Ubuntu 20.04 Kernel: 5.15 Compiler: gcc gcc (Ubuntu 9.4.0-1ubuntu1~20.04.2) 9.4.0 Fedora Linux 41 Kernel: 5.15 Compiler: clang gcc (GCC) 14.3.1 20250523 (Red Hat 14.3.1-1) Red Hat Enterprise Linux 8.10 Kernel: 5.15 Compiler: gcc gcc (GCC) 8.5.0 20210514 (Red Hat 8.5.0-22) Ubuntu 24.04 Kernel: 5.15 Compiler: gcc gcc (Ubuntu 13.3.0-6ubuntu2~24.04) 13.3.0 Ubuntu 22.04 Kernel: 5.15 Compiler: gcc gcc (Ubuntu 11.4.0-1ubuntu1~22.04) 11.4.0 Windows Server 2022 Kernel: 10.0.20348.2031 Compiler: clang 15.0.7, gcc 14.1.0 (MinGW), and MSVC VS 19.39.33521 To view detailed results, visit: https://lab.dpdk.org/results/dashboard/patchsets/34451/ UNH-IOL DPDK Community Lab To manage your email subscriptions, visit: https://lab.dpdk.org/results/dashboard/preferences/subscriptions/