From mboxrd@z Thu Jan 1 00:00:00 1970 Return-Path: Received: from mails.dpdk.org (mails.dpdk.org [217.70.189.124]) by inbox.dpdk.org (Postfix) with ESMTP id CFBCA48A9A for ; Tue, 4 Nov 2025 07:23:23 +0100 (CET) Received: from mails.dpdk.org (localhost [127.0.0.1]) by mails.dpdk.org (Postfix) with ESMTP id CA8B640285; Tue, 4 Nov 2025 07:23:23 +0100 (CET) Received: from mail-oa1-f98.google.com (mail-oa1-f98.google.com [209.85.160.98]) by mails.dpdk.org (Postfix) with ESMTP id 6D1D340285 for ; Tue, 4 Nov 2025 07:23:22 +0100 (CET) Received: by mail-oa1-f98.google.com with SMTP id 586e51a60fabf-3d29e5fce5aso3680055fac.2 for ; Mon, 03 Nov 2025 22:23:22 -0800 (PST) DKIM-Signature: v=1; a=rsa-sha256; c=relaxed/relaxed; d=iol.unh.edu; s=unh-iol; t=1762237401; x=1762842201; darn=dpdk.org; h=cc:to:from:subject:message-id:date:from:to:cc:subject:date :message-id:reply-to; bh=aHJZEp4M0hoZgdX0ANd4m+2y/6DdXt8UdiM+nkIp8WE=; b=FG1kogWvZj1aQSOTMh30/6Tg/cpJVBjgjmD09i5t5DPkS75nc2WdFTkx+PpBar96UU uplgmdQ2u1QZ+WdF0YUiLEbJOkfpZc0QneDuLlleWDLaWMZLic/tTEHyCWd+T7JygOSV Am4y9YCPeqqsEHUv2GivmQJc7AtZa8dbwYYPg= X-Google-DKIM-Signature: v=1; a=rsa-sha256; c=relaxed/relaxed; d=1e100.net; s=20230601; t=1762237401; x=1762842201; h=cc:to:from:subject:message-id:date:x-gm-message-state:from:to:cc :subject:date:message-id:reply-to; bh=aHJZEp4M0hoZgdX0ANd4m+2y/6DdXt8UdiM+nkIp8WE=; b=Ldba1k/JUCxa73DTAV/CkHfPYakFG2nM0m82TFi6+ntgeIiQTLyr4/HjeDE8qL4PSw 86L2LPY5UttfLtY3o28tHtrk+SNQmA8K3CYnoWqUA507ljBBNvZANPXOjZZFikzyOdbR TaoTkJLDPaQx1jnHMEz2vz0PAR50YQ2A4Iyv+vAoJOxzG800URMExPEkanY6uRHraBp5 lMDac9iRZrV2cXVjcRIaoYaTXEcD7mTMkvKZSRg8oLhqmKmaCpGMmg/M6gFEJ+ZzizNJ kysLY3DcVdVgcx7nQspZab4d2zq6u7brORhxktbyWZOboUGFuyYlHWV81hwiqWmRiTBs wL+A== X-Gm-Message-State: AOJu0YxQ5fNXjEsg4fr/T/DNhy5i6WSnux2HNC0kF27GXs6ndlIPOS3E PH9a61eiZyRZq9rcii4oT7HbFjJ20I2de2CQHaTpuYxA2XWnNF7zEH+Jh87fiCE5ItKp7vThjPS lO02wlfFeTrbbqQF/IVUfoSjOkCrM8ZLQS037 X-Gm-Gg: ASbGncvF+ZYhWKIETEG7bXIQ7d2KfxCp4Y8QY5NpumA84ZTjc3l0W7N7VNJ3iB/lnNE Pn1TRbhprhOJLrqWgWZ5hmp4w00ntNST4CvGPQ/UcceVVOKHp2cCSuWew/8izBcoVWKgEmVbZS6 AGmnu+ouKxgNnJ0VWcGQ4+aZrrUvYmgXbfTrsufdv2t2Y/Etx3sHIsbZYes1hGK+DhkWaiyeX4j w4jaoqoiqZ/zvscceeAWZFRoA07Ru0Sy+qfOBzAXwUvSHOej4tnFKTIBEEspkohqqMYx63CK3Ub JLcz1XNZAhxNJ66QN4qWUshsN97gA1CiFjAsrt3cUdM4OWujTHEwQmTHdVLDfqlkrq+fbQog6Rn AEfpXJ0HXBggASKYWPzGwDAn7Ilzaq+M= X-Google-Smtp-Source: AGHT+IHvCHNn0iPVsEX6As1y95m7Vv7znPLg2PD/YyuMli2/j5CMoquzBDUFOiqqbs+jmZgzyrviayMnUJbk X-Received: by 2002:a05:6870:4195:b0:332:b1d9:7689 with SMTP id 586e51a60fabf-3daccbe892cmr6857915fac.41.1762237401551; Mon, 03 Nov 2025 22:23:21 -0800 (PST) Received: from postal.iol.unh.edu (postal.iol.unh.edu. [132.177.123.84]) by smtp-relay.gmail.com with ESMTPS id 586e51a60fabf-3dff541808csm187074fac.9.2025.11.03.22.23.21 (version=TLS1_2 cipher=ECDHE-ECDSA-AES128-GCM-SHA256 bits=128/128); Mon, 03 Nov 2025 22:23:21 -0800 (PST) X-Relaying-Domain: iol.unh.edu Date: Mon, 03 Nov 2025 22:23:21 -0800 (PST) Message-ID: <69099bd9.050a0220.1fe1e2.b86cSMTPIN_ADDED_MISSING@mx.google.com> Received: from [172.21.0.2] (unknown [172.18.0.240]) by postal.iol.unh.edu (Postfix) with ESMTP id F0B246051830; Tue, 4 Nov 2025 01:23:20 -0500 (EST) Subject: |WARNING| [GIT MASTER] 62f583c49bf67dd4d6733ece14e55fe6839e66d1 From: dpdklab@iol.unh.edu To: Test Report Cc: dpdk-test-reports@iol.unh.edu, Xueming Li , Christian Ehrhardt , Kevin Traynor , Luca Boccassi Content-Type: text/plain X-BeenThere: test-report@dpdk.org X-Mailman-Version: 2.1.29 Precedence: list List-Id: automatic DPDK test reports List-Unsubscribe: , List-Archive: List-Post: List-Help: List-Subscribe: , Errors-To: test-report-bounces@dpdk.org _Testing issues_ Branch: tags/v23.11 62f583c49bf67dd4d6733ece14e55fe6839e66d1 --> testing issues Upstream job id: Generic-Unit-Test-DPDK#388167 Test environment and result as below: +-------------------------------+----------------+ | Environment | dpdk_unit_test | +===============================+================+ | Fedora Linux 41 | PASS | +-------------------------------+----------------+ | Fedora Linux 40 | PASS | +-------------------------------+----------------+ | Debian GNU/Linux 12 | PASS | +-------------------------------+----------------+ | CentOS Stream 10 | PASS | +-------------------------------+----------------+ | CentOS Stream 9 | PASS | +-------------------------------+----------------+ | Fedora Linux 42 | PASS | +-------------------------------+----------------+ | Red Hat Enterprise Linux 9.5 | PASS | +-------------------------------+----------------+ | Red Hat Enterprise Linux 8.10 | PASS | +-------------------------------+----------------+ | Ubuntu 20.04 | PASS | +-------------------------------+----------------+ | Ubuntu 24.04 | PASS | +-------------------------------+----------------+ | Ubuntu 22.04 | PASS | +-------------------------------+----------------+ Fedora Linux 41 Kernel: 5.15 Compiler: gcc gcc (GCC) 14.3.1 20250523 (Red Hat 14.3.1-1) Fedora Linux 40 Kernel: 5.15 Compiler: gcc gcc (GCC) 14.2.1 20240912 (Red Hat 14.2.1-3) Debian GNU/Linux 12 Kernel: 5.15 Compiler: gcc gcc (Debian 12.2.0-14+deb12u1) 12.2.0 CentOS Stream 10 Kernel: 5.15 Compiler: gcc gcc (GCC) 14.2.1 20250110 (Red Hat 14.2.1-8) CentOS Stream 9 Kernel: 5.15 Compiler: gcc gcc (GCC) 11.5.0 20240719 (Red Hat 11.5.0-11) Fedora Linux 42 Kernel: 5.15 Compiler: gcc gcc (GCC) 15.2.1 20250808 (Red Hat 15.2.1-1) Red Hat Enterprise Linux 9.5 Kernel: 5.15 Compiler: gcc gcc (GCC) 11.5.0 20240719 (Red Hat 11.5.0-2) Red Hat Enterprise Linux 8.10 Kernel: 5.15 Compiler: gcc gcc (GCC) 8.5.0 20210514 (Red Hat 8.5.0-22) Ubuntu 20.04 Kernel: 5.15 Compiler: gcc gcc (Ubuntu 9.4.0-1ubuntu1~20.04.2) 9.4.0 Ubuntu 24.04 Kernel: 5.15 Compiler: gcc gcc (Ubuntu 13.3.0-6ubuntu2~24.04) 13.3.0 Ubuntu 22.04 Kernel: 5.15 Compiler: gcc gcc (Ubuntu 11.4.0-1ubuntu1~22.04) 11.4.0 To view detailed results, visit: https://lab.dpdk.org/results/dashboard/tarballs/35440/ UNH-IOL DPDK Community Lab To manage your email subscriptions, visit: https://lab.dpdk.org/results/dashboard/preferences/subscriptions/