From mboxrd@z Thu Jan 1 00:00:00 1970 Return-Path: Received: from mails.dpdk.org (mails.dpdk.org [217.70.189.124]) by inbox.dpdk.org (Postfix) with ESMTP id 67AB848A9A for ; Tue, 4 Nov 2025 07:27:19 +0100 (CET) Received: from mails.dpdk.org (localhost [127.0.0.1]) by mails.dpdk.org (Postfix) with ESMTP id 616BF40285; Tue, 4 Nov 2025 07:27:19 +0100 (CET) Received: from mail-yw1-f226.google.com (mail-yw1-f226.google.com [209.85.128.226]) by mails.dpdk.org (Postfix) with ESMTP id 1B2E540285 for ; Tue, 4 Nov 2025 07:27:18 +0100 (CET) Received: by mail-yw1-f226.google.com with SMTP id 00721157ae682-781421f5bf5so54054667b3.3 for ; Mon, 03 Nov 2025 22:27:18 -0800 (PST) DKIM-Signature: v=1; a=rsa-sha256; c=relaxed/relaxed; d=iol.unh.edu; s=unh-iol; t=1762237637; x=1762842437; darn=dpdk.org; h=references:in-reply-to:cc:to:from:subject:message-id:date:from:to :cc:subject:date:message-id:reply-to; bh=rMtEHvRhhRtzZAjtIuP3aaS8NNFGpulgV71xKRH8sGM=; b=AzP1d1IBMYzVxaksv3I7iDWUUMkCRbyc7hd6Ny2QtRxscCH/udMj3u1Gx1KtA2E5SR TXKOr6+TdmwgI6FbIuR6Kb8ulkj4wagvNJ7Y1cN+Y2LgXvUvvZMhVbHKxkDpNnIl4KYd nElvR12B4mHS4/KM77v6e+IccF0+JBKkZkFe4= X-Google-DKIM-Signature: v=1; a=rsa-sha256; c=relaxed/relaxed; d=1e100.net; s=20230601; t=1762237637; x=1762842437; h=references:in-reply-to:cc:to:from:subject:message-id:date :x-gm-message-state:from:to:cc:subject:date:message-id:reply-to; bh=rMtEHvRhhRtzZAjtIuP3aaS8NNFGpulgV71xKRH8sGM=; b=GTqAX2iQi1KXgIG5D6/4/WX3THXAsC9q4rMq6t90+jeWxBfUGjo3che4Z+QciXbPuT nCKEVphPGp+F6eJgu6V8g4yfv5/tGw5Xd3aA2XGU+NlsN5aMS0L/pZRAB5LKoJWnXXCk QrLPPBhO4JQ2tquhF20X/QQeLAcTRtGM0ISTNFZb/ZGqPH/vJ+nXUdm6XBRdgm/Q0Z9I kZUu6Cev5skpDuijLxKZPRkLF/EcuOCxrgMzHT6mXTuS0SMGysArwIU8zdFEzibaeG5e juIaA16fzot3rjssW6iZpzfxfj6X1yI5WTIDwdcwXIX9EuugYyBTghXhYz+foyuYBxHz neHg== X-Gm-Message-State: AOJu0YxumB4g5V+Qie5XKZV4aM2ycd9JqvjYG8s2zkEj/ew44XUCO0Ls +gyx/KEU6Ssod3ZwW8ETHXHZelG1xUrbaHLTwXb8fOwBq+Tcu7pLOTDsMni3hrlaEPoJihU1PV/ c+vs/xy8HG5J5b6GReDY0dTDe+P/AsIxQV7wzQSG4WQ5+ X-Gm-Gg: ASbGnctgqDr5be1BBLLuMJ6Bb4tnJMp9iM8wO4qFUHzhUfdMdWa9Sq/i1fJB+7yS/sE oC9vLjNbUPJJHsjQAP4B41Vrhu7e1zmcMEVqT+0eZbc30D2IxnlD8cigQHRWwkW3Qz1gyjHg0yY P5DIt1OEdlhDrIKXkyQQYIUEg8IbNEhrxhrbem6RP4QX89mdWnb3i8G+LMHLqw8BrX2RZxgfzbu gQPEwGERQc0PCP96j5QDBIo/abxcjmbBBUdZKaWN2+Naflac5iq0fwkAzme6TP+PmAyih/td4qX xIz/qTFm0U5dKGgMFB/aAwaQTC0CLVLQ0Na2bIQtzl+UVwgPisoO1EiBFAfAZFWizeSZC5YndX7 PvBrEnRqRcFOBhb7ooJq+/lCrkenfuBg= X-Google-Smtp-Source: AGHT+IGU/4iGyDTaHvCX75xGNg39cyLdVo4rsRGo5nuzfOW9hIbpfuC5jeLlhTUo3AUQZrnOI3WHV2xX0pcW X-Received: by 2002:a05:690c:4c8e:b0:786:8393:3e32 with SMTP id 00721157ae682-786839346c1mr69247037b3.61.1762237637362; Mon, 03 Nov 2025 22:27:17 -0800 (PST) Received: from postal.iol.unh.edu (postal.iol.unh.edu. [132.177.123.84]) by smtp-relay.gmail.com with ESMTPS id 00721157ae682-78691dce984sm1214917b3.19.2025.11.03.22.27.17 (version=TLS1_2 cipher=ECDHE-ECDSA-AES128-GCM-SHA256 bits=128/128); Mon, 03 Nov 2025 22:27:17 -0800 (PST) X-Relaying-Domain: iol.unh.edu Date: Mon, 03 Nov 2025 22:27:17 -0800 (PST) Message-ID: <69099cc5.050a0220.1cbca8.6adbSMTPIN_ADDED_MISSING@mx.google.com> Received: from [172.21.0.2] (unknown [172.18.0.240]) by postal.iol.unh.edu (Postfix) with ESMTP id DD9D76051830; Tue, 4 Nov 2025 01:27:16 -0500 (EST) Subject: |SUCCESS| pw158405-158409 [PATCH] [v3,5/5] vhost_user: Increase numb From: dpdklab@iol.unh.edu To: Test Report Cc: dpdk-test-reports@iol.unh.edu, Chenbo Xia , Maxime Coquelin In-Reply-To: <20251104042142.2787631-6-pravin.bathija@dell.com> References: <20251104042142.2787631-6-pravin.bathija@dell.com> Content-Type: text/plain X-BeenThere: test-report@dpdk.org X-Mailman-Version: 2.1.29 Precedence: list List-Id: automatic DPDK test reports List-Unsubscribe: , List-Archive: List-Post: List-Help: List-Subscribe: , Errors-To: test-report-bounces@dpdk.org Test-Label: iol-unit-amd64-testing Test-Status: SUCCESS http://dpdk.org/patch/158409 _Testing PASS_ Submitter: Bathija, Pravin Date: Tuesday, November 04 2025 04:21:41 DPDK git baseline: Repo:dpdk-next-virtio Branch: master CommitID:6b37c26a95388aa41bb5267c7c42f604fd571a38 158405-158409 --> testing pass Upstream job id: Generic-VM-Unit-Test-DPDK#32260 Test environment and result as below: +-------------------------------+----------------+ | Environment | dpdk_unit_test | +===============================+================+ | CentOS Stream 10 | PASS | +-------------------------------+----------------+ | Fedora Linux 40 | PASS | +-------------------------------+----------------+ | Fedora Linux 42 | PASS | +-------------------------------+----------------+ | Debian GNU/Linux 12 | PASS | +-------------------------------+----------------+ | Red Hat Enterprise Linux 9.5 | PASS | +-------------------------------+----------------+ | CentOS Stream 9 | PASS | +-------------------------------+----------------+ | Ubuntu 20.04 | PASS | +-------------------------------+----------------+ | Fedora Linux 41 | PASS | +-------------------------------+----------------+ | Red Hat Enterprise Linux 8.10 | PASS | +-------------------------------+----------------+ | Ubuntu 24.04 | PASS | +-------------------------------+----------------+ | Ubuntu 22.04 | PASS | +-------------------------------+----------------+ | Windows Server 2022 | PASS | +-------------------------------+----------------+ CentOS Stream 10 Kernel: 5.15 Compiler: gcc gcc (GCC) 14.2.1 20250110 (Red Hat 14.2.1-8) Fedora Linux 40 Kernel: 5.15 Compiler: gcc gcc (GCC) 14.2.1 20240912 (Red Hat 14.2.1-3) Fedora Linux 42 Kernel: 5.15 Compiler: gcc gcc (GCC) 15.2.1 20250808 (Red Hat 15.2.1-1) Debian GNU/Linux 12 Kernel: 5.15 Compiler: gcc gcc (Debian 12.2.0-14+deb12u1) 12.2.0 Red Hat Enterprise Linux 9.5 Kernel: 5.15 Compiler: gcc gcc (GCC) 11.5.0 20240719 (Red Hat 11.5.0-2) CentOS Stream 9 Kernel: 5.15 Compiler: gcc gcc (GCC) 11.5.0 20240719 (Red Hat 11.5.0-11) Ubuntu 20.04 Kernel: 5.15 Compiler: gcc gcc (Ubuntu 9.4.0-1ubuntu1~20.04.2) 9.4.0 Fedora Linux 41 Kernel: 5.15 Compiler: clang gcc (GCC) 14.3.1 20250523 (Red Hat 14.3.1-1) Red Hat Enterprise Linux 8.10 Kernel: 5.15 Compiler: gcc gcc (GCC) 8.5.0 20210514 (Red Hat 8.5.0-22) Ubuntu 24.04 Kernel: 5.15 Compiler: gcc gcc (Ubuntu 13.3.0-6ubuntu2~24.04) 13.3.0 Ubuntu 22.04 Kernel: 5.15 Compiler: gcc gcc (Ubuntu 11.4.0-1ubuntu1~22.04) 11.4.0 Windows Server 2022 Kernel: 10.0.20348.2031 Compiler: clang 15.0.7, gcc 14.1.0 (MinGW), and MSVC VS 19.39.33521 To view detailed results, visit: https://lab.dpdk.org/results/dashboard/patchsets/34451/ UNH-IOL DPDK Community Lab To manage your email subscriptions, visit: https://lab.dpdk.org/results/dashboard/preferences/subscriptions/