From mboxrd@z Thu Jan 1 00:00:00 1970 Return-Path: Received: from mails.dpdk.org (mails.dpdk.org [217.70.189.124]) by inbox.dpdk.org (Postfix) with ESMTP id 7CD6748A9A for ; Tue, 4 Nov 2025 07:52:58 +0100 (CET) Received: from mails.dpdk.org (localhost [127.0.0.1]) by mails.dpdk.org (Postfix) with ESMTP id 6F76E40285; Tue, 4 Nov 2025 07:52:58 +0100 (CET) Received: from mail-pj1-f99.google.com (mail-pj1-f99.google.com [209.85.216.99]) by mails.dpdk.org (Postfix) with ESMTP id 36C9C40431 for ; Tue, 4 Nov 2025 07:52:57 +0100 (CET) Received: by mail-pj1-f99.google.com with SMTP id 98e67ed59e1d1-3401314d845so6948787a91.1 for ; Mon, 03 Nov 2025 22:52:57 -0800 (PST) DKIM-Signature: v=1; a=rsa-sha256; c=relaxed/relaxed; d=iol.unh.edu; s=unh-iol; t=1762239176; x=1762843976; darn=dpdk.org; h=cc:to:from:subject:message-id:date:from:to:cc:subject:date :message-id:reply-to; bh=Kvvl5M8nz7hQLdNeyT+mbvFS0twlgRo5w6Mjua635f0=; b=aH+42f68xIvXHcCnAutUafpltJUJPKkIFvyczGib9/1j7wkPmScOACL0BLHc9wg7vj qk9/bKMVfEizCQITEHxLh0DFb9UUkEHX1eUp2sApBF42Y8fyWa53yYv43FNnoAu/Jjok gR7uFSWO7rKjliqSWzsTZCg3YinpsjsZIW4Ds= X-Google-DKIM-Signature: v=1; a=rsa-sha256; c=relaxed/relaxed; d=1e100.net; s=20230601; t=1762239176; x=1762843976; h=cc:to:from:subject:message-id:date:x-gm-message-state:from:to:cc :subject:date:message-id:reply-to; bh=Kvvl5M8nz7hQLdNeyT+mbvFS0twlgRo5w6Mjua635f0=; b=ZYFrOwj/gv0IXnnqRx8XFdqjc6Cj4MP7BtDzhXz/ffXlJwnqHi3zwe6O0w6VdDwxkX cdxG2gzzr1gb2lAnEafuD0L1ZILUxIF6VKfZaybCbL7RZa+wKWUnD0MxJ4VLeEhl4zuK 9hXN9Bxkud3LvHuT/VQ3qgfmw0dx37zRazDHphFibuHGy+W+IeFsRdB28x5EnsfUOR7U T2xEz4AkXXvpaKTfzy0lmkrqiQqxtWdRg5CRkkZr1gzqc+Ev7X1Q1YD+qjM23//C0S8f /85SS8IORFfNHFc04p8vcC4Bi3BJxY78NDQ1bX+Vp12Ce31/qU5yqpqdRgD5PuMELcdH w4IQ== X-Gm-Message-State: AOJu0YzT4fkr6wmeQ3J+Hf8f4nt4rZ+Ohd3cY18fs9EyWClEkGNMkNJ4 wS1m2Th0K9wnlEmtZSkr0V5JcTpHjmnY9l0P42zEBdegWWu1t+yoaJmgPD9bbiBN5JWEgvpudBw z1RS2w31nOdzOU79NCkZcGwm2jq11Zc0pjKp7CBOdexFmsZY40J+M X-Gm-Gg: ASbGnctMH+0CXYVY6s/TU4Cqu2uVdKZAQLwdyc2DlQtC3oWnn1Vi/lTX1ol3Vwj9Kta vCUM5ZWlsiFDyps6YgvBjBcao1E8g0TaM9Aq4yn5yqchen3vs6aiaB9v5cGRapr6VCYJ0RK3loU GQ2MYmBEt0vQVCbQYSd1nXpZPZxCA882e6fDUfVL9g7ESlEBSicKvFD4uLFpz1CQLlqMYPDgZdg a4/p+0EyNEB4Y5Mkeprj4x4ug9pvPoMEX6gXMktWU3yQXf1WR3CrjssfIyJUeM2pWqGYzae8k/J dpPq0nDrasmr9hvPeIza+iXzcqI03hO1CZ48+M7aVECsq3Rx6c7tpvxgjULgRBAXiPFjpN4VtA9 Su/of54zm X-Google-Smtp-Source: AGHT+IElqWZDAtsS1eea6Kzob23NIpxB2Qcoq367oUJnGEfF/mKhsoNiqu1fKTkx4wrNgV+tx3swTqefqSd8 X-Received: by 2002:a17:90b:1801:b0:33f:ebc2:634 with SMTP id 98e67ed59e1d1-34082fd83b5mr19789942a91.9.1762239176392; Mon, 03 Nov 2025 22:52:56 -0800 (PST) Received: from postal.iol.unh.edu (postal.iol.unh.edu. [2606:4100:3880:1234::84]) by smtp-relay.gmail.com with ESMTPS id 41be03b00d2f7-ba1f493e3fdsm86345a12.10.2025.11.03.22.52.56 (version=TLS1_2 cipher=ECDHE-ECDSA-AES128-GCM-SHA256 bits=128/128); Mon, 03 Nov 2025 22:52:56 -0800 (PST) X-Relaying-Domain: iol.unh.edu Date: Mon, 03 Nov 2025 22:52:56 -0800 (PST) Message-ID: <6909a2c8.050a0220.221f66.4d32SMTPIN_ADDED_MISSING@mx.google.com> Received: from [172.21.0.2] (unknown [172.18.0.240]) by postal.iol.unh.edu (Postfix) with ESMTP id 6327C6051830; Tue, 4 Nov 2025 01:52:55 -0500 (EST) Subject: |SUCCESS| [GIT MASTER] 9784db2c5af1eecd02fc21132b59b5b266039b87 From: dpdklab@iol.unh.edu To: Test Report Cc: dpdk-test-reports@iol.unh.edu, Xueming Li , Christian Ehrhardt , Kevin Traynor , Luca Boccassi Content-Type: text/plain X-BeenThere: test-report@dpdk.org X-Mailman-Version: 2.1.29 Precedence: list List-Id: automatic DPDK test reports List-Unsubscribe: , List-Archive: List-Post: List-Help: List-Subscribe: , Errors-To: test-report-bounces@dpdk.org _Testing PASS_ Branch: tags/v22.11 9784db2c5af1eecd02fc21132b59b5b266039b87 --> testing pass Upstream job id: Generic-DPDK-Compile-Meson#440434 Test environment and result as below: +-------------------------------+--------------------+ | Environment | dpdk_meson_compile | +===============================+====================+ | CentOS Stream 9 | PASS | +-------------------------------+--------------------+ | CentOS Stream 10 | PASS | +-------------------------------+--------------------+ | Debian GNU/Linux 12 | PASS | +-------------------------------+--------------------+ | Fedora Linux 42 | PASS | +-------------------------------+--------------------+ | openSUSE Leap 15.6 | PASS | +-------------------------------+--------------------+ | Red Hat Enterprise Linux 8.10 | PASS | +-------------------------------+--------------------+ | Red Hat Enterprise Linux 9.5 | PASS | +-------------------------------+--------------------+ | Ubuntu 24.04 | PASS | +-------------------------------+--------------------+ | Ubuntu 20.04 | PASS | +-------------------------------+--------------------+ | Ubuntu 22.04 | PASS | +-------------------------------+--------------------+ | FreeBSD 14.2 | PASS | +-------------------------------+--------------------+ CentOS Stream 9 Kernel: 5.15 Compiler: gcc gcc (GCC) 11.5.0 20240719 (Red Hat 11.5.0-11) CentOS Stream 10 Kernel: 5.15 Compiler: gcc gcc (GCC) 14.2.1 20250110 (Red Hat 14.2.1-8) Debian GNU/Linux 12 Kernel: 5.15 Compiler: gcc gcc (Debian 12.2.0-14+deb12u1) 12.2.0 Fedora Linux 42 Kernel: 5.15 Compiler: clang gcc (GCC) 15.2.1 20250808 (Red Hat 15.2.1-1) openSUSE Leap 15.6 Kernel: 5.15 Compiler: gcc gcc (SUSE Linux) 7.5.0 Red Hat Enterprise Linux 8.10 Kernel: 5.15 Compiler: gcc gcc (GCC) 8.5.0 20210514 (Red Hat 8.5.0-22) Red Hat Enterprise Linux 9.5 Kernel: 5.15 Compiler: gcc gcc (GCC) 11.5.0 20240719 (Red Hat 11.5.0-2) Ubuntu 24.04 Kernel: 5.15 Compiler: gcc gcc (Ubuntu 13.3.0-6ubuntu2~24.04) 13.3.0 Ubuntu 20.04 Kernel: 5.15 Compiler: gcc gcc (Ubuntu 9.4.0-1ubuntu1~20.04.2) 9.4.0 Ubuntu 22.04 Kernel: 5.15 Compiler: gcc gcc (Ubuntu 11.4.0-1ubuntu1~22.04) 11.4.0 FreeBSD 14.2 Kernel: 14.2-RELEASE Compiler: clang 18.1.6 To view detailed results, visit: https://lab.dpdk.org/results/dashboard/tarballs/35442/ UNH-IOL DPDK Community Lab To manage your email subscriptions, visit: https://lab.dpdk.org/results/dashboard/preferences/subscriptions/