From mboxrd@z Thu Jan 1 00:00:00 1970 Return-Path: Received: from mails.dpdk.org (mails.dpdk.org [217.70.189.124]) by inbox.dpdk.org (Postfix) with ESMTP id D706748A9A for ; Tue, 4 Nov 2025 07:56:28 +0100 (CET) Received: from mails.dpdk.org (localhost [127.0.0.1]) by mails.dpdk.org (Postfix) with ESMTP id D061D40285; Tue, 4 Nov 2025 07:56:28 +0100 (CET) Received: from mail-vk1-f225.google.com (mail-vk1-f225.google.com [209.85.221.225]) by mails.dpdk.org (Postfix) with ESMTP id 3CA9A40285 for ; Tue, 4 Nov 2025 07:56:27 +0100 (CET) Received: by mail-vk1-f225.google.com with SMTP id 71dfb90a1353d-5569a25c697so1885553e0c.0 for ; Mon, 03 Nov 2025 22:56:27 -0800 (PST) DKIM-Signature: v=1; a=rsa-sha256; c=relaxed/relaxed; d=iol.unh.edu; s=unh-iol; t=1762239386; x=1762844186; darn=dpdk.org; h=references:in-reply-to:cc:to:from:subject:message-id:date:from:to :cc:subject:date:message-id:reply-to; bh=6fdv34J6tTV7/Dp3haH0u94Obpwt12lB9bYh38m19j8=; b=XbU/6iLDCMTYKwr297uVd/aloAY9fN1XyG32rSIsJBh4mjReuu2dQdrv8EqRdaDJcq bGAGe1XvKJzIfIVtyaI5r/HI9t6Wn6MnRBnJFwCTH1DNXqFCCnD3RyrFVmIFsB2DrNY7 LTCMyFoWAr+7ezuNYntVFoZqizrcY2L7/sSi0= X-Google-DKIM-Signature: v=1; a=rsa-sha256; c=relaxed/relaxed; d=1e100.net; s=20230601; t=1762239386; x=1762844186; h=references:in-reply-to:cc:to:from:subject:message-id:date :x-gm-message-state:from:to:cc:subject:date:message-id:reply-to; bh=6fdv34J6tTV7/Dp3haH0u94Obpwt12lB9bYh38m19j8=; b=i/WT2LC8b7BVmP2HaCj4iLhz46Tj1jlo7EpldC36PhnLIc9oyvFsRtENVvCIW/S7+R t7n4atfNoVj0aUeWU/6Y0GfuAZ8FCjm859tD6vsie7r3zi0yV+L7pWz3jBHf5wosr7jw dl2xVocjUdFDD7KDZXSQAqXWd+a4DBnor9xs8fXOA16sheqJRoO+x4TXQ5x96JGw03p8 8BM5TDur8mMvGoerCpXBWD7IFz9U90OQJOK3+OXNX1xQyApAuDox8Sfir454rpChX5EU fNnpKEMcZvwc2MNdR+1/C/akkyZWX/MGf1K/84R/oWBbg9rMcM5k+1wnhZcUFqMWLj6h cWiA== X-Gm-Message-State: AOJu0Yz7ND8zSGRiLMmNbwOTpJ2TW3o7nZUX2+bo5YH5/rValt4y6c41 BeWrAFajn6EwcrBdjR0N946Ks+kDB/4GgOuKFEzrhH516wAGV33WgBLh6OoI5eqQQa+rhu1SxRD cPdEdGmn07OjHvGb4eB37ueuK+uUvrLAHyLzceSjySpE7 X-Gm-Gg: ASbGncu1r6BACLLQtgFK9tFWLliPAZpbr/EpFBxGe2fe034jEdrrcw99akPUw6IZyux 5D0QoxIwChGk6j/xNUVnXlCS3vooQRcZt5H3QCDjeQ+o8GCQjO7xcvn6ejUcjVBq7x/c6T0mdNi coyOcJt4oxjuVnLtrfZvp3h3Gddeo9/EeSQKRrVZyuK4cq73eEHl0IhQ0Tkt/DiWT4llOA2I5Zi 2eyVqL4gA5XGI4gWNIAvNUwoYTot6cG4tx3ZAevr2QQl4Gq8LfaqFtxj5AFHsrq0eIVEsWV0Txf WeBG6fLvNULup4SpUf3VD1WI6WeEUPP/Q1MZBH5zIWR1jRC3V9ODk6PI3IATkaOSwKNJrfrYf05 KhepPuBThXW+E5ei2e4MGpwAcHCcQ+TM= X-Google-Smtp-Source: AGHT+IHQ30G2ZmEBUDyhTH7JCqGRhJ1mHb5GzAIt4xd7dOcgMv63CbYgB+BLnac1OxnReywkpD9p+kuMEm+r X-Received: by 2002:a05:6122:6287:b0:559:3d91:5f2d with SMTP id 71dfb90a1353d-5593e4d0502mr5389269e0c.9.1762239386554; Mon, 03 Nov 2025 22:56:26 -0800 (PST) Received: from postal.iol.unh.edu (postal.iol.unh.edu. [132.177.123.84]) by smtp-relay.gmail.com with ESMTPS id 71dfb90a1353d-55973c93573sm220509e0c.8.2025.11.03.22.56.26 (version=TLS1_2 cipher=ECDHE-ECDSA-AES128-GCM-SHA256 bits=128/128); Mon, 03 Nov 2025 22:56:26 -0800 (PST) X-Relaying-Domain: iol.unh.edu Date: Mon, 03 Nov 2025 22:56:26 -0800 (PST) Message-ID: <6909a39a.050a0220.b010a.c25dSMTPIN_ADDED_MISSING@mx.google.com> Received: from [172.21.0.2] (unknown [172.18.0.240]) by postal.iol.unh.edu (Postfix) with ESMTP id 119786051830; Tue, 4 Nov 2025 01:56:26 -0500 (EST) Subject: |SUCCESS| pw158400-158401 [PATCH] [2/2] app/test-pipeline: add ring From: dpdklab@iol.unh.edu To: Test Report Cc: dpdk-test-reports@iol.unh.edu In-Reply-To: <20251104024919.3329372-3-doug.foster@arm.com> References: <20251104024919.3329372-3-doug.foster@arm.com> Content-Type: text/plain X-BeenThere: test-report@dpdk.org X-Mailman-Version: 2.1.29 Precedence: list List-Id: automatic DPDK test reports List-Unsubscribe: , List-Archive: List-Post: List-Help: List-Subscribe: , Errors-To: test-report-bounces@dpdk.org Test-Label: iol-compile-arm64-testing Test-Status: SUCCESS http://dpdk.org/patch/158401 _Testing PASS_ Submitter: Doug Foster Date: Tuesday, November 04 2025 02:49:19 DPDK git baseline: Repo:dpdk Branch: master CommitID:8c4861d00aabcf54ef9d6f1df2a4cfb37c06f6c2 158400-158401 --> testing pass Upstream job id: Generic-DPDK-Compile-Meson#440294 Test environment and result as below: +------------------------------+--------------------+ | Environment | dpdk_meson_compile | +==============================+====================+ | Red Hat Enterprise Linux 9.5 | PASS | +------------------------------+--------------------+ | Ubuntu 20.04 | PASS | +------------------------------+--------------------+ | Fedora Linux 42 | PASS | +------------------------------+--------------------+ | Debian GNU/Linux 12 | PASS | +------------------------------+--------------------+ | Ubuntu 24.04 | PASS | +------------------------------+--------------------+ | CentOS Stream 10 | PASS | +------------------------------+--------------------+ | CentOS Stream 9 | PASS | +------------------------------+--------------------+ | Ubuntu 22.04 | PASS | +------------------------------+--------------------+ Red Hat Enterprise Linux 9.5 Kernel: 5.4 Compiler: gcc gcc (GCC) 11.5.0 20240719 (Red Hat 11.5.0-2) Ubuntu 20.04 Kernel: 5.4 Compiler: gcc gcc (Ubuntu 9.4.0-1ubuntu1~20.04.2) 9.4.0 Fedora Linux 42 Kernel: 5.4 Compiler: gcc gcc (GCC) 15.2.1 20250808 (Red Hat 15.2.1-1) Debian GNU/Linux 12 Kernel: 5.4 Compiler: gcc gcc (Debian 12.2.0-14+deb12u1) 12.2.0 Ubuntu 24.04 Kernel: 5.4 Compiler: gcc gcc (Ubuntu 13.3.0-6ubuntu2~24.04) 13.3.0 CentOS Stream 10 Kernel: 5.4 Compiler: gcc gcc (GCC) 14.2.1 20250110 (Red Hat 14.2.1-8) CentOS Stream 9 Kernel: 5.4 Compiler: gcc gcc (GCC) 11.5.0 20240719 (Red Hat 11.5.0-11) Ubuntu 22.04 Kernel: 5.4 Compiler: gcc gcc (Ubuntu 11.4.0-1ubuntu1~22.04) 11.4.0 To view detailed results, visit: https://lab.dpdk.org/results/dashboard/patchsets/34449/ UNH-IOL DPDK Community Lab To manage your email subscriptions, visit: https://lab.dpdk.org/results/dashboard/preferences/subscriptions/