From mboxrd@z Thu Jan 1 00:00:00 1970 Return-Path: Received: from mails.dpdk.org (mails.dpdk.org [217.70.189.124]) by inbox.dpdk.org (Postfix) with ESMTP id EC1AD48A9C for ; Tue, 4 Nov 2025 08:18:15 +0100 (CET) Received: from mails.dpdk.org (localhost [127.0.0.1]) by mails.dpdk.org (Postfix) with ESMTP id CB99140285; Tue, 4 Nov 2025 08:18:15 +0100 (CET) Received: from mail-pj1-f99.google.com (mail-pj1-f99.google.com [209.85.216.99]) by mails.dpdk.org (Postfix) with ESMTP id 13E6D40285 for ; Tue, 4 Nov 2025 08:18:15 +0100 (CET) Received: by mail-pj1-f99.google.com with SMTP id 98e67ed59e1d1-340bcc92c7dso2669519a91.0 for ; Mon, 03 Nov 2025 23:18:14 -0800 (PST) DKIM-Signature: v=1; a=rsa-sha256; c=relaxed/relaxed; d=iol.unh.edu; s=unh-iol; t=1762240694; x=1762845494; darn=dpdk.org; h=references:in-reply-to:cc:to:from:subject:message-id:date:from:to :cc:subject:date:message-id:reply-to; bh=jLyroHYG+iHJz7SzXLHdgeVZ9YWeAtfaKnhjfbqumTg=; b=a+MjANmoRS5PLOnMS0xOQfHky3TKRBDG4njXPFbCcFolTuJjJww0OJ8uRU/v8CeDtX C767ZluadfCq0q32oehvtqw7RJHxgmL9tbHLXhK7DKwrntDUACTI8fzFJTnvxbxnTUG/ bdw5AvynMvHriWN+rAgbgUpTMomWwG2nkDhWU= X-Google-DKIM-Signature: v=1; a=rsa-sha256; c=relaxed/relaxed; d=1e100.net; s=20230601; t=1762240694; x=1762845494; h=references:in-reply-to:cc:to:from:subject:message-id:date :x-gm-message-state:from:to:cc:subject:date:message-id:reply-to; bh=jLyroHYG+iHJz7SzXLHdgeVZ9YWeAtfaKnhjfbqumTg=; b=AsZ213Fb/lKi96dhUT53qsokTkjjGd1H0d46+2fPGyPmL/MSUkYww5F++wAjNYFZ8C AHhdFrWQCdVYTVZtbZ3cL9o6r+eqjEM7AaRTp89o4r4h5js4qKwT9m+Fza2L4Z4MJf2G wNOAFHhtwtrxcWTTj7euKHKVQ9ZV5pRMLsSH7n2iSdBHSk6se18sPfIsW3vLHo9vCxx9 dDeDH3cm4Sv4GQgV3Jx2HTNROEAymev9/2mLJbuZuTRjA9tJ6VH6iUBQ93TWzPwMqbQG mA3qMctpUIgc5oCRxE6Qsa5Jlw7o3tzUKFpM/TYf7NluBwAOgHICpROcWFTMYoSWtQ7J z5Kg== X-Gm-Message-State: AOJu0Yx7PufNdmvE64PWoBjzW5Apu+aAC4k0qbJsgpQDB484rCPHJbdY VeqJXyXCVR2EfqkEU9yjC6s28/q63i25wAXQ3exppeTwpLlQgAY0Xi7XivE3aqFZknxt9ieD387 THT3Xc8kf3Y81QGiQxk5fDUCMl4FHkdE9i8eXHTUGr6E3I7LxG1Ri/Xaouyif X-Gm-Gg: ASbGnculrUJqDRB9pjjlbfLIr7bQ/WmmZyMY4aJdbN8AgK8juwK33lIv9N6e8Swjs/w MV116epKx5LN3REB0mz3sWnTx0vtJ8FfYZSpFYhKFy/oevJgVqa86ILuL4E8T0Mb85HFLhDBOmu 5iXaQCQYwyRwtC1fhC4LNjizbvMNB26E4Bz3/y8nY7NG1pD+hVDDAJU0nP0bKuPT1Bqa79YjqyP +0f8BFLfAwzoTYL1Aa3UKss/Kv74sWmm7L0IjVgD1YuNkQjFekS4OA94/CoVkzSbsx9kwJAkwdA +EUiD28cl5wa/eDeNCEIMTQiUROA3kX9WntqqKEMJNDRgy0nowyG13Isx+iWsyh4XHtiM22tdk1 rt0YX7+5W X-Google-Smtp-Source: AGHT+IGhEiL0N/sskl0GUrVHmAmfK0wRG3GMOFrdTIYXcqAjaYJiz3veyxSiUkX0cOnsn7eioczVSYOT5wVT X-Received: by 2002:a17:902:ce8b:b0:295:5da6:5ff7 with SMTP id d9443c01a7336-295f946fc18mr29077685ad.15.1762240694148; Mon, 03 Nov 2025 23:18:14 -0800 (PST) Received: from postal.iol.unh.edu (postal.iol.unh.edu. [2606:4100:3880:1234::84]) by smtp-relay.gmail.com with ESMTPS id d9443c01a7336-29601a3c280sm1351905ad.50.2025.11.03.23.18.14 (version=TLS1_2 cipher=ECDHE-ECDSA-AES128-GCM-SHA256 bits=128/128); Mon, 03 Nov 2025 23:18:14 -0800 (PST) X-Relaying-Domain: iol.unh.edu Date: Mon, 03 Nov 2025 23:18:14 -0800 (PST) Message-ID: <6909a8b6.170a0220.112f27.7889SMTPIN_ADDED_MISSING@mx.google.com> Received: from [172.21.0.2] (unknown [172.18.0.240]) by postal.iol.unh.edu (Postfix) with ESMTP id 7AEC66051830; Tue, 4 Nov 2025 02:18:13 -0500 (EST) Subject: |SUCCESS| pw158411 [PATCH] net/nfp: fix use after free From: dpdklab@iol.unh.edu To: Test Report Cc: dpdk-test-reports@iol.unh.edu, Stephen Hemminger In-Reply-To: <20251104052915.270245-1-stephen@networkplumber.org> References: <20251104052915.270245-1-stephen@networkplumber.org> Content-Type: text/plain X-BeenThere: test-report@dpdk.org X-Mailman-Version: 2.1.29 Precedence: list List-Id: automatic DPDK test reports List-Unsubscribe: , List-Archive: List-Post: List-Help: List-Subscribe: , Errors-To: test-report-bounces@dpdk.org Test-Label: iol-compile-amd64-testing Test-Status: SUCCESS http://dpdk.org/patch/158411 _Testing PASS_ Submitter: Stephen Hemminger Date: Tuesday, November 04 2025 05:29:15 DPDK git baseline: Repo:dpdk-next-net Branch: master CommitID:80dea84c15d0ba5b8b092db744e26319a6f23a04 158411 --> testing pass Upstream job id: Windows-Compile-DPDK-VS#7410 Test environment and result as below: +-------------------------------+--------------------+------------------+-------------------+ | Environment | dpdk_meson_compile | dpdk_compile_ovs | dpdk_msvc_compile | +===============================+====================+==================+===================+ | Ubuntu 20.04 | PASS | SKIPPED | SKIPPED | +-------------------------------+--------------------+------------------+-------------------+ | FreeBSD 14.2 | PASS | SKIPPED | SKIPPED | +-------------------------------+--------------------+------------------+-------------------+ | CentOS Stream 9 | PASS | SKIPPED | SKIPPED | +-------------------------------+--------------------+------------------+-------------------+ | CentOS Stream 10 | PASS | SKIPPED | SKIPPED | +-------------------------------+--------------------+------------------+-------------------+ | Debian GNU/Linux 12 | PASS | SKIPPED | SKIPPED | +-------------------------------+--------------------+------------------+-------------------+ | Fedora Linux 42 | PASS | PASS | SKIPPED | +-------------------------------+--------------------+------------------+-------------------+ | openSUSE Leap 15.6 | PASS | SKIPPED | SKIPPED | +-------------------------------+--------------------+------------------+-------------------+ | Red Hat Enterprise Linux 8.10 | PASS | SKIPPED | SKIPPED | +-------------------------------+--------------------+------------------+-------------------+ | Red Hat Enterprise Linux 9.5 | PASS | SKIPPED | SKIPPED | +-------------------------------+--------------------+------------------+-------------------+ | Ubuntu 22.04 | PASS | SKIPPED | SKIPPED | +-------------------------------+--------------------+------------------+-------------------+ | Ubuntu 24.04 | PASS | PASS | SKIPPED | +-------------------------------+--------------------+------------------+-------------------+ | Alpine Linux 3.22.0 | PASS | SKIPPED | SKIPPED | +-------------------------------+--------------------+------------------+-------------------+ | Windows Server 2022 | SKIPPED | SKIPPED | PASS | +-------------------------------+--------------------+------------------+-------------------+ Ubuntu 20.04 Kernel: 4.19 Compiler: gcc gcc (Ubuntu 9.4.0-1ubuntu1~20.04.2) 9.4.0 FreeBSD 14.2 Kernel: 14.2-RELEASE Compiler: clang 18.1.6 CentOS Stream 9 Kernel: 5.15 Compiler: gcc gcc (GCC) 11.5.0 20240719 (Red Hat 11.5.0-11) CentOS Stream 10 Kernel: 5.15 Compiler: gcc gcc (GCC) 14.2.1 20250110 (Red Hat 14.2.1-8) Debian GNU/Linux 12 Kernel: 5.15 Compiler: gcc gcc (Debian 12.2.0-14+deb12u1) 12.2.0 Fedora Linux 42 Kernel: 5.15 Compiler: clang gcc (GCC) 15.2.1 20250808 (Red Hat 15.2.1-1) openSUSE Leap 15.6 Kernel: 5.15 Compiler: gcc gcc (SUSE Linux) 7.5.0 Red Hat Enterprise Linux 8.10 Kernel: 5.15 Compiler: gcc gcc (GCC) 8.5.0 20210514 (Red Hat 8.5.0-22) Red Hat Enterprise Linux 9.5 Kernel: 5.15 Compiler: gcc gcc (GCC) 11.5.0 20240719 (Red Hat 11.5.0-2) Ubuntu 22.04 Kernel: 5.15 Compiler: gcc gcc (Ubuntu 11.4.0-1ubuntu1~22.04) 11.4.0 Ubuntu 24.04 Kernel: 5.15 Compiler: gcc gcc (Ubuntu 13.3.0-6ubuntu2~24.04) 13.3.0 Alpine Linux 3.22.0 Kernel: 5.15 Compiler: gcc gcc (Alpine 14.2.0) 14.2.0 Windows Server 2022 Kernel: 10.0.20348.2031 Compiler: clang 15.0.7, gcc 14.1.0 (MinGW), and MSVC VS 19.39.33521 To view detailed results, visit: https://lab.dpdk.org/results/dashboard/patchsets/34452/ UNH-IOL DPDK Community Lab To manage your email subscriptions, visit: https://lab.dpdk.org/results/dashboard/preferences/subscriptions/