From mboxrd@z Thu Jan 1 00:00:00 1970 Return-Path: Received: from mails.dpdk.org (mails.dpdk.org [217.70.189.124]) by inbox.dpdk.org (Postfix) with ESMTP id D818248A9C for ; Tue, 4 Nov 2025 08:34:10 +0100 (CET) Received: from mails.dpdk.org (localhost [127.0.0.1]) by mails.dpdk.org (Postfix) with ESMTP id D420F40285; Tue, 4 Nov 2025 08:34:10 +0100 (CET) Received: from mail-yx1-f98.google.com (mail-yx1-f98.google.com [74.125.224.98]) by mails.dpdk.org (Postfix) with ESMTP id 93F8F40285 for ; Tue, 4 Nov 2025 08:34:09 +0100 (CET) Received: by mail-yx1-f98.google.com with SMTP id 956f58d0204a3-63f95dc176fso3252318d50.1 for ; Mon, 03 Nov 2025 23:34:09 -0800 (PST) DKIM-Signature: v=1; a=rsa-sha256; c=relaxed/relaxed; d=iol.unh.edu; s=unh-iol; t=1762241649; x=1762846449; darn=dpdk.org; h=references:in-reply-to:cc:to:from:subject:message-id:date:from:to :cc:subject:date:message-id:reply-to; bh=iku/rifZcX97ouwHgsjXclV7VT8zItTISBOT2MgSQb4=; b=ON0gEWwEvSmZgCiWiQFvEb+3+H+tP28dPxg7uGnvXtULexZ4X29iOqBJjVEQuj2BmA tg457j0Fv604Dg4hwT0gronP+6D3TMsWtPu6nLYxrwejuA3UlqVoYfzMt5ZtuDwpb3zU M0iAi/EWfjrc5gjmVYYfDcbz3GO2cEv4n2QWU= X-Google-DKIM-Signature: v=1; a=rsa-sha256; c=relaxed/relaxed; d=1e100.net; s=20230601; t=1762241649; x=1762846449; h=references:in-reply-to:cc:to:from:subject:message-id:date :x-gm-message-state:from:to:cc:subject:date:message-id:reply-to; bh=iku/rifZcX97ouwHgsjXclV7VT8zItTISBOT2MgSQb4=; b=S/vDpJplyaji1C05y6em/KMww87v9+3eLQyax2PR1RPc3xXx0RC8roKjz5yYCIqf6d 2oKS0nHqo4zYNjreJqkzbiJmWHw4ElKIoud7x3WJS6I2mre6glL4GYn4QONjzY+mOn/f EulmmhCoONgpV5fkxorLwuNGPc/nwM+wDxdCeYfYlej0QM4yY4xZqls4BT+nvDGBt7pA XQIFC55S2QGxd6x7Xjm4xu7+K4tfv4+KCaxQnu9oZ3V1wSLu/bd+NNbJ61mJinQtgzUU 759iIoe3x9ejiVcN2KfRM0pXvJKKU/RiINLQVtV330cedDDBC1RmtDq4tghRElTQmgKo rckg== X-Gm-Message-State: AOJu0YzCjR9xt4TalheHs9eWyQjLLaJ9ImmAW/Phzwt+vy3StYZ89tyq WTnVEgMT3zjmWMWkuSIStDvwmOJldudbRh/QZtPc3E+oKcpl6vAv3tOYLTbu9NR2PCi03m7pPUF bNl0DdVkE8M4To0QEf/M44i7Yc3mECLO//YSy+Ae37x72 X-Gm-Gg: ASbGncu6sn5uBwtyjaUR6+GpujN/N8c1Uor+gfbwKnWq3v3ZNHjTR/uLuCh08ylhZBj ZFV4VVwIFxVua2NyshRJKD6Jw12Nv7U2GiHaz0tPN22mBhEQG3f0feD1woJXWA5UK7aQjusPBbs PciZEE4nrlHBOkcLhyM/bGB+TVG7zR5jQkFTV872K5JP4Cl8NqCeZSjB5gqU0VqtV4hG6pdaS3Z T4b6Mjg40W6xhnb0OCeuyD7IiSE3vcs1U4OYs2Fz8Ej2mdObcfBTqqJ869MKpZUaOr1r45dgfjE gxzmAEgDylnVQjE0l6Hv8dRwva5tusqH5rMP99x8BVp4BGRefacAFj2jgooTHLglQpZSk/lLeIp W+qpmInqI5G2p+YeToL1vAC9sxJw+xTY= X-Google-Smtp-Source: AGHT+IEze3MxwQKWcVXwCMoeRPTbljj22zTk7Lvl8OSOwpDWXoy4IJv9RwJ8bbtQgr8Y1NzImkqDtlPN/G5b X-Received: by 2002:a53:d603:0:b0:63e:b41:cebc with SMTP id 956f58d0204a3-63f92243f34mr9879804d50.17.1762241648843; Mon, 03 Nov 2025 23:34:08 -0800 (PST) Received: from postal.iol.unh.edu (postal.iol.unh.edu. [132.177.123.84]) by smtp-relay.gmail.com with ESMTPS id 956f58d0204a3-63fc9425407sm83599d50.1.2025.11.03.23.34.08 (version=TLS1_2 cipher=ECDHE-ECDSA-AES128-GCM-SHA256 bits=128/128); Mon, 03 Nov 2025 23:34:08 -0800 (PST) X-Relaying-Domain: iol.unh.edu Date: Mon, 03 Nov 2025 23:34:08 -0800 (PST) Message-ID: <6909ac70.050a0220.18df22.4a87SMTPIN_ADDED_MISSING@mx.google.com> Received: from [172.21.0.2] (unknown [172.18.0.240]) by postal.iol.unh.edu (Postfix) with ESMTP id 5EA876051830; Tue, 4 Nov 2025 02:34:08 -0500 (EST) Subject: |SUCCESS| pw158405-158409 [PATCH] [v3,5/5] vhost_user: Increase numb From: dpdklab@iol.unh.edu To: Test Report Cc: dpdk-test-reports@iol.unh.edu, Chenbo Xia , Maxime Coquelin In-Reply-To: <20251104042142.2787631-6-pravin.bathija@dell.com> References: <20251104042142.2787631-6-pravin.bathija@dell.com> Content-Type: text/plain X-BeenThere: test-report@dpdk.org X-Mailman-Version: 2.1.29 Precedence: list List-Id: automatic DPDK test reports List-Unsubscribe: , List-Archive: List-Post: List-Help: List-Subscribe: , Errors-To: test-report-bounces@dpdk.org Test-Label: iol-unit-arm64-testing Test-Status: SUCCESS http://dpdk.org/patch/158409 _Testing PASS_ Submitter: Bathija, Pravin Date: Tuesday, November 04 2025 04:21:41 DPDK git baseline: Repo:dpdk-next-virtio Branch: master CommitID:6b37c26a95388aa41bb5267c7c42f604fd571a38 158405-158409 --> testing pass Upstream job id: Generic-Unit-Test-DPDK#388128 Test environment and result as below: +------------------------------+--------------+---------------------------+------------------------------+----------------+ | Environment | lpm_autotest | cryptodev_sw_zuc_autotest | cryptodev_sw_snow3g_autotest | dpdk_unit_test | +==============================+==============+===========================+==============================+================+ | Ubuntu 20.04 | PASS | SKIPPED | SKIPPED | PASS | +------------------------------+--------------+---------------------------+------------------------------+----------------+ | Debian 12 (arm) | SKIPPED | PASS | PASS | SKIPPED | +------------------------------+--------------+---------------------------+------------------------------+----------------+ | CentOS Stream 9 | SKIPPED | SKIPPED | SKIPPED | PASS | +------------------------------+--------------+---------------------------+------------------------------+----------------+ | Fedora Linux 42 | SKIPPED | SKIPPED | SKIPPED | PASS | +------------------------------+--------------+---------------------------+------------------------------+----------------+ | Fedora Linux 41 | SKIPPED | SKIPPED | SKIPPED | PASS | +------------------------------+--------------+---------------------------+------------------------------+----------------+ | Debian GNU/Linux 12 | SKIPPED | SKIPPED | SKIPPED | PASS | +------------------------------+--------------+---------------------------+------------------------------+----------------+ | CentOS Stream 10 | SKIPPED | SKIPPED | SKIPPED | PASS | +------------------------------+--------------+---------------------------+------------------------------+----------------+ | Red Hat Enterprise Linux 9.5 | SKIPPED | SKIPPED | SKIPPED | PASS | +------------------------------+--------------+---------------------------+------------------------------+----------------+ | Ubuntu 22.04 | SKIPPED | SKIPPED | SKIPPED | PASS | +------------------------------+--------------+---------------------------+------------------------------+----------------+ | Fedora Linux 40 | SKIPPED | SKIPPED | SKIPPED | PASS | +------------------------------+--------------+---------------------------+------------------------------+----------------+ | Ubuntu 24.04 | SKIPPED | SKIPPED | SKIPPED | PASS | +------------------------------+--------------+---------------------------+------------------------------+----------------+ Ubuntu 20.04 Kernel: 5.4 Compiler: gcc gcc (Ubuntu 9.4.0-1ubuntu1~20.04.2) 9.4.0 Debian 12 (arm) Kernel: Depends on container host Compiler: gcc (Debian 12.2.0-14) 12.2.0 CentOS Stream 9 Kernel: 5.4 Compiler: gcc gcc (GCC) 11.5.0 20240719 (Red Hat 11.5.0-11) Fedora Linux 42 Kernel: 5.4 Compiler: clang gcc (GCC) 15.2.1 20250808 (Red Hat 15.2.1-1) Fedora Linux 41 Kernel: 5.4 Compiler: clang gcc (GCC) 14.3.1 20250523 (Red Hat 14.3.1-1) Debian GNU/Linux 12 Kernel: 5.4 Compiler: gcc gcc (Debian 12.2.0-14+deb12u1) 12.2.0 CentOS Stream 10 Kernel: 5.4 Compiler: gcc gcc (GCC) 14.2.1 20250110 (Red Hat 14.2.1-8) Red Hat Enterprise Linux 9.5 Kernel: 5.4 Compiler: gcc gcc (GCC) 11.5.0 20240719 (Red Hat 11.5.0-2) Ubuntu 22.04 Kernel: 5.4 Compiler: gcc gcc (Ubuntu 11.4.0-1ubuntu1~22.04) 11.4.0 Fedora Linux 40 Kernel: 5.4 Compiler: gcc gcc (GCC) 14.2.1 20240912 (Red Hat 14.2.1-3) Ubuntu 24.04 Kernel: 5.4 Compiler: gcc gcc (Ubuntu 13.3.0-6ubuntu2~24.04) 13.3.0 To view detailed results, visit: https://lab.dpdk.org/results/dashboard/patchsets/34451/ UNH-IOL DPDK Community Lab To manage your email subscriptions, visit: https://lab.dpdk.org/results/dashboard/preferences/subscriptions/