From mboxrd@z Thu Jan 1 00:00:00 1970 Return-Path: Received: from mails.dpdk.org (mails.dpdk.org [217.70.189.124]) by inbox.dpdk.org (Postfix) with ESMTP id 51BB248A9C for ; Tue, 4 Nov 2025 08:57:27 +0100 (CET) Received: from mails.dpdk.org (localhost [127.0.0.1]) by mails.dpdk.org (Postfix) with ESMTP id 3DD1E40285; Tue, 4 Nov 2025 08:57:27 +0100 (CET) Received: from mail-yx1-f97.google.com (mail-yx1-f97.google.com [74.125.224.97]) by mails.dpdk.org (Postfix) with ESMTP id D6B7F40285 for ; Tue, 4 Nov 2025 08:57:25 +0100 (CET) Received: by mail-yx1-f97.google.com with SMTP id 956f58d0204a3-63f8a31d126so4491487d50.3 for ; Mon, 03 Nov 2025 23:57:25 -0800 (PST) DKIM-Signature: v=1; a=rsa-sha256; c=relaxed/relaxed; d=iol.unh.edu; s=unh-iol; t=1762243045; x=1762847845; darn=dpdk.org; h=references:in-reply-to:cc:to:from:subject:message-id:date:from:to :cc:subject:date:message-id:reply-to; bh=cqaTz/wWxYmwGztQfptQZQlp+B6g2V0/1Lig/xmX1dE=; b=XFCjDeXxu7gRUn+PfCNqyr4K9GxFeOusE0CbcmyWGvCPtSxjQ1WXMxjiDeWPKqKJ6B C8S3k4AcbGqc1Nlpr8VX7Tv9bpPFLCZJPvRlx322xIczu5RzR1VCQ018pqP7HDwvJ1gN JU2GX/lE6HEyPPfBCgOsDtIUZ1YFKN+kVfods= X-Google-DKIM-Signature: v=1; a=rsa-sha256; c=relaxed/relaxed; d=1e100.net; s=20230601; t=1762243045; x=1762847845; h=references:in-reply-to:cc:to:from:subject:message-id:date :x-gm-message-state:from:to:cc:subject:date:message-id:reply-to; bh=cqaTz/wWxYmwGztQfptQZQlp+B6g2V0/1Lig/xmX1dE=; b=aNXp2X7oZonbzErjQ/QlJHC0YyroQgeTt1pyeXvGPrAnHj+NlKHC+W3TRYeNyny9zp khBpRR121mYhJrk94CbAthsf8WGbC+RTqTNX8+QREOskaKYYIqCJYHCQU5HwN0yUYPLM gPJRHE27aMRV4duR07wOoOL9e+5070HtOvG7vWz3Ld2RQi0EAFVzyt0cAGr9Usq1xi1Z Z93JAXMSjW8uYtrBdTMbbqSvkUlQT+JZzvBcDYUWw+SKVJmEmRGTIXBcX+CbmijP0pWs 4p1JXu9b36h7g2gQaRdDxEdh5u97o7M5aRRNHvmuSG+NtaAcD2MkLtY/0z1dmBcVJ3nt ioYg== X-Gm-Message-State: AOJu0YyWMneeuC6CF/MxxDoHbUm59Tcr4MKjUdlq9+i/+Y9n7KIngmKZ r/k/7Q0qQhuttN2ZsHI3dkFPO/9MRI5bsJ+rDpXX8cP5zPgGOSUSj+Va6XMUCKVLLD7JUlHu55a ZPu9n9Pq5dUe068q5RAyP9HRqB/oqZPAybBwaH8kGPSIMkS/+jBWzDp74kjk7 X-Gm-Gg: ASbGncuvd2/vrocxHqAQMgd2fkvJ80T3gKaPKc9qSBG9axJWr8wlUsKNHTGtbjcu4CG Q3GtjFzJ5mCFnwdqFqDSSxKm2D5Bz6Gzn9EDEzBPTp8zC0YTt0xCAh8PVnLEpmXQcE2cxzBdL/n EFJYoYyrJ+xIWGtkTFuFEIk990ao1PEMdqyEv7dguEbJkF2b4WiAR4AtI/i4k6cDv5UwPSrmiMj mK9tmaL+4wr5NDpwimcgVPiOeOrJ3jwTN9goUa83Y+lXJ2wS6iEyp+qUg7O/TXlHRNlRDXbyq4W FAFEWutnunWFPURC+tu3rhsIYdFok52G2glqQXWFsNPxNQiYglDiFEYHY68+pUHBPlvM1wjb9Of InsSzOpH8 X-Google-Smtp-Source: AGHT+IGtvdCjxZdTxQBViQjc5QqU+DS7kmxKmfwTRJzHPQHiYGSVWeCc/7Qztf/1nVcBRTyvYb+QgumC9XZd X-Received: by 2002:a53:d015:0:b0:63f:bf2b:5754 with SMTP id 956f58d0204a3-63fbf2b5d53mr3506374d50.28.1762243045118; Mon, 03 Nov 2025 23:57:25 -0800 (PST) Received: from postal.iol.unh.edu (postal.iol.unh.edu. [2606:4100:3880:1234::84]) by smtp-relay.gmail.com with ESMTPS id 956f58d0204a3-63fc945e73csm91891d50.6.2025.11.03.23.57.25 (version=TLS1_2 cipher=ECDHE-ECDSA-AES128-GCM-SHA256 bits=128/128); Mon, 03 Nov 2025 23:57:25 -0800 (PST) X-Relaying-Domain: iol.unh.edu Date: Mon, 03 Nov 2025 23:57:25 -0800 (PST) Message-ID: <6909b1e5.530a0220.174aef.50a5SMTPIN_ADDED_MISSING@mx.google.com> Received: from [172.21.0.2] (unknown [172.18.0.240]) by postal.iol.unh.edu (Postfix) with ESMTP id 91B316051830; Tue, 4 Nov 2025 02:57:24 -0500 (EST) Subject: |SUCCESS| pw158411 [PATCH] net/nfp: fix use after free From: dpdklab@iol.unh.edu To: Test Report Cc: dpdk-test-reports@iol.unh.edu, Stephen Hemminger In-Reply-To: <20251104052915.270245-1-stephen@networkplumber.org> References: <20251104052915.270245-1-stephen@networkplumber.org> Content-Type: text/plain X-BeenThere: test-report@dpdk.org X-Mailman-Version: 2.1.29 Precedence: list List-Id: automatic DPDK test reports List-Unsubscribe: , List-Archive: List-Post: List-Help: List-Subscribe: , Errors-To: test-report-bounces@dpdk.org Test-Label: iol-unit-amd64-testing Test-Status: SUCCESS http://dpdk.org/patch/158411 _Testing PASS_ Submitter: Stephen Hemminger Date: Tuesday, November 04 2025 05:29:15 DPDK git baseline: Repo:dpdk-next-net Branch: master CommitID:80dea84c15d0ba5b8b092db744e26319a6f23a04 158411 --> testing pass Upstream job id: Generic-Unit-Test-DPDK#388239 Test environment and result as below: +-------------------------------+----------------+ | Environment | dpdk_unit_test | +===============================+================+ | CentOS Stream 9 | PASS | +-------------------------------+----------------+ | Debian GNU/Linux 12 | PASS | +-------------------------------+----------------+ | CentOS Stream 10 | PASS | +-------------------------------+----------------+ | Fedora Linux 40 | PASS | +-------------------------------+----------------+ | Fedora Linux 41 | PASS | +-------------------------------+----------------+ | Fedora Linux 42 | PASS | +-------------------------------+----------------+ | Ubuntu 20.04 | PASS | +-------------------------------+----------------+ | Red Hat Enterprise Linux 8.10 | PASS | +-------------------------------+----------------+ | Ubuntu 24.04 | PASS | +-------------------------------+----------------+ | Red Hat Enterprise Linux 9.5 | PASS | +-------------------------------+----------------+ | Ubuntu 22.04 | PASS | +-------------------------------+----------------+ CentOS Stream 9 Kernel: 5.15 Compiler: gcc gcc (GCC) 11.5.0 20240719 (Red Hat 11.5.0-11) Debian GNU/Linux 12 Kernel: 5.15 Compiler: gcc gcc (Debian 12.2.0-14+deb12u1) 12.2.0 CentOS Stream 10 Kernel: 5.15 Compiler: gcc gcc (GCC) 14.2.1 20250110 (Red Hat 14.2.1-8) Fedora Linux 40 Kernel: 5.15 Compiler: gcc gcc (GCC) 14.2.1 20240912 (Red Hat 14.2.1-3) Fedora Linux 41 Kernel: 5.15 Compiler: clang gcc (GCC) 14.3.1 20250523 (Red Hat 14.3.1-1) Fedora Linux 42 Kernel: 5.15 Compiler: gcc gcc (GCC) 15.2.1 20250808 (Red Hat 15.2.1-1) Ubuntu 20.04 Kernel: 5.15 Compiler: gcc gcc (Ubuntu 9.4.0-1ubuntu1~20.04.2) 9.4.0 Red Hat Enterprise Linux 8.10 Kernel: 5.15 Compiler: gcc gcc (GCC) 8.5.0 20210514 (Red Hat 8.5.0-22) Ubuntu 24.04 Kernel: 5.15 Compiler: gcc gcc (Ubuntu 13.3.0-6ubuntu2~24.04) 13.3.0 Red Hat Enterprise Linux 9.5 Kernel: 5.15 Compiler: gcc gcc (GCC) 11.5.0 20240719 (Red Hat 11.5.0-2) Ubuntu 22.04 Kernel: 5.15 Compiler: gcc gcc (Ubuntu 11.4.0-1ubuntu1~22.04) 11.4.0 To view detailed results, visit: https://lab.dpdk.org/results/dashboard/patchsets/34452/ UNH-IOL DPDK Community Lab To manage your email subscriptions, visit: https://lab.dpdk.org/results/dashboard/preferences/subscriptions/