From mboxrd@z Thu Jan 1 00:00:00 1970 Return-Path: Received: from mails.dpdk.org (mails.dpdk.org [217.70.189.124]) by inbox.dpdk.org (Postfix) with ESMTP id 67E0048A9D for ; Tue, 4 Nov 2025 09:05:44 +0100 (CET) Received: from mails.dpdk.org (localhost [127.0.0.1]) by mails.dpdk.org (Postfix) with ESMTP id 5FDF64042F; Tue, 4 Nov 2025 09:05:44 +0100 (CET) Received: from mail-pg1-f228.google.com (mail-pg1-f228.google.com [209.85.215.228]) by mails.dpdk.org (Postfix) with ESMTP id EC0CA40285 for ; Tue, 4 Nov 2025 09:05:41 +0100 (CET) Received: by mail-pg1-f228.google.com with SMTP id 41be03b00d2f7-b4755f37c3eso4641588a12.3 for ; Tue, 04 Nov 2025 00:05:41 -0800 (PST) DKIM-Signature: v=1; a=rsa-sha256; c=relaxed/relaxed; d=iol.unh.edu; s=unh-iol; t=1762243541; x=1762848341; darn=dpdk.org; h=references:in-reply-to:cc:to:from:subject:message-id:date:from:to :cc:subject:date:message-id:reply-to; bh=KaAFNoRqO8KmYpHrSVRnnGv8b0XEwyC9qnw+NlDTItg=; b=HTg56NIp9gZA48f+6vrkgSiZqFVjaHXX0JGuyu6oqwwD40SyJPZWkxgd9F8PwScmLb J0OsGmtenAU7aQ2MN1bW9UpbvKao3AqJW4IcWCvfkeHbFO5OPbFyGOlWExvDx68iVrsC TMQItI/NIyXL9galk9xPcNfaryZ6PsKSnHNH0= X-Google-DKIM-Signature: v=1; a=rsa-sha256; c=relaxed/relaxed; d=1e100.net; s=20230601; t=1762243541; x=1762848341; h=references:in-reply-to:cc:to:from:subject:message-id:date :x-gm-message-state:from:to:cc:subject:date:message-id:reply-to; bh=KaAFNoRqO8KmYpHrSVRnnGv8b0XEwyC9qnw+NlDTItg=; b=H7RZUjaKGB24xEXwghfYPZaQCYl0y5J0NPKMsf3yCWxRq7JtI6/c3epNyZKsEjxgWB O2SeiSdenjfwPtLIbLQeFzVaJD4Q4We6h+NIF1NbXyMJEXjfihknVIQKwLZuW48xTXkh y+zUu/XbTj1ltn268C52/DmolgZ65fECEgfvxqhkND57qff8bFahavbspSRDMInjwdj3 oGDuIcgII3lwKOGlRUAAD1V67VOCbsqLhxqRQ+fWMt4UV49P2PlUXdihR4hRbng6EHag pHzVRgvExO77+wMTVpYKvbIq/CtWp4fEKr/KHlohj3yyNwwqpFHHApY2Hj3crDAYjanY vBYw== X-Gm-Message-State: AOJu0Yy7z8nuMq5N2mYWIrZP1txygh8kexZdvtfihvwJw/1ZnEkACIB+ nV/1bIeu/j9FW7VchsNugwVgZYdze/6OnEJRklhyEtzX9LDWRP+okthbgQh80T5ASqPfyWxXte8 /gcFIVVeUW8l7RPGHaABSqaNT9XXuOxTnrBuWeM2dFhTv X-Gm-Gg: ASbGncsT9S6x16NoUayP7JqoaoCXo9+ykupHbk2LiRsL9tOlnLbslthQ7VLtIU7t2nC iqcopSUl6HoQ89AfP0DeWoW9jOGmNwBzV0c3GLiZpxA/RXo3TSNTQkk2DMP2UE/r8DzIODkmnDl rgW0HhZMtivU2Ap/pWYQdQhYrWaHyclBssHT+DTmnEP5xscGuBfbs2Mr7clwt/FKWPwZ1aROnxQ 4TZUiGwF3l3VhSxGOyjj1+IjmHVYPL9yPY3y7yitUU6ijAvl67K9QNKRNwxQwDjL+1Nkc+6JKOw x3F+EM2FU2TgHTTRKvgvVYZoSrRadNHCdr24fwDX/GWFYcR6lcToYMbAPxeUnf16pWueylMvt19 BafRvSzDrjGEN+rw/0i6CjDy2croFsPs= X-Google-Smtp-Source: AGHT+IE97CkyyVgj+2LnvhXfluleL9AsqPobQa7Y9LVKnRqADHwskr+eRc6QeF6YvSA4xtMP87jfi4ZFKqMt X-Received: by 2002:a17:903:249:b0:290:9a74:a8ad with SMTP id d9443c01a7336-2951a54d344mr195327945ad.53.1762243540962; Tue, 04 Nov 2025 00:05:40 -0800 (PST) Received: from postal.iol.unh.edu (postal.iol.unh.edu. [132.177.123.84]) by smtp-relay.gmail.com with ESMTPS id d9443c01a7336-29601a1a4a1sm1623295ad.39.2025.11.04.00.05.40 (version=TLS1_2 cipher=ECDHE-ECDSA-AES128-GCM-SHA256 bits=128/128); Tue, 04 Nov 2025 00:05:40 -0800 (PST) X-Relaying-Domain: iol.unh.edu Date: Tue, 04 Nov 2025 00:05:40 -0800 (PST) Message-ID: <6909b3d4.170a0220.140c07.8f9aSMTPIN_ADDED_MISSING@mx.google.com> Received: from [172.21.0.3] (unknown [172.18.0.240]) by postal.iol.unh.edu (Postfix) with ESMTP id D87E36051830; Tue, 4 Nov 2025 03:05:39 -0500 (EST) Subject: |SUCCESS| pw158410 [PATCH] [v2,1/1] dmadev: add domain_id field to a From: dpdklab@iol.unh.edu To: Test Report Cc: dpdk-test-reports@iol.unh.edu In-Reply-To: <20251104052146.2308361-1-vattunuru@marvell.com> References: <20251104052146.2308361-1-vattunuru@marvell.com> Content-Type: text/plain X-BeenThere: test-report@dpdk.org X-Mailman-Version: 2.1.29 Precedence: list List-Id: automatic DPDK test reports List-Unsubscribe: , List-Archive: List-Post: List-Help: List-Subscribe: , Errors-To: test-report-bounces@dpdk.org Test-Label: iol-compile-amd64-testing Test-Status: SUCCESS http://dpdk.org/patch/158410 _Testing PASS_ Submitter: Vamsi Krishna Date: Tuesday, November 04 2025 05:21:46 DPDK git baseline: Repo:dpdk Branch: master CommitID:8c4861d00aabcf54ef9d6f1df2a4cfb37c06f6c2 158410 --> testing pass Upstream job id: Windows-Compile-DPDK-VS#7411 Test environment and result as below: +-------------------------------+--------------------+------------------+-------------------+ | Environment | dpdk_meson_compile | dpdk_compile_ovs | dpdk_msvc_compile | +===============================+====================+==================+===================+ | FreeBSD 14.2 | PASS | SKIPPED | SKIPPED | +-------------------------------+--------------------+------------------+-------------------+ | Ubuntu 20.04 | PASS | SKIPPED | SKIPPED | +-------------------------------+--------------------+------------------+-------------------+ | CentOS Stream 9 | PASS | SKIPPED | SKIPPED | +-------------------------------+--------------------+------------------+-------------------+ | CentOS Stream 10 | PASS | SKIPPED | SKIPPED | +-------------------------------+--------------------+------------------+-------------------+ | Debian GNU/Linux 12 | PASS | SKIPPED | SKIPPED | +-------------------------------+--------------------+------------------+-------------------+ | Fedora Linux 42 | PASS | PASS | SKIPPED | +-------------------------------+--------------------+------------------+-------------------+ | openSUSE Leap 15.6 | PASS | SKIPPED | SKIPPED | +-------------------------------+--------------------+------------------+-------------------+ | Red Hat Enterprise Linux 8.10 | PASS | SKIPPED | SKIPPED | +-------------------------------+--------------------+------------------+-------------------+ | Red Hat Enterprise Linux 9.5 | PASS | SKIPPED | SKIPPED | +-------------------------------+--------------------+------------------+-------------------+ | Ubuntu 22.04 | PASS | SKIPPED | SKIPPED | +-------------------------------+--------------------+------------------+-------------------+ | Ubuntu 24.04 | PASS | PASS | SKIPPED | +-------------------------------+--------------------+------------------+-------------------+ | Alpine Linux 3.22.0 | PASS | SKIPPED | SKIPPED | +-------------------------------+--------------------+------------------+-------------------+ | Windows Server 2022 | SKIPPED | SKIPPED | PASS | +-------------------------------+--------------------+------------------+-------------------+ FreeBSD 14.2 Kernel: 14.2-RELEASE Compiler: clang 18.1.6 Ubuntu 20.04 Kernel: 4.19 Compiler: gcc gcc (Ubuntu 9.4.0-1ubuntu1~20.04.2) 9.4.0 CentOS Stream 9 Kernel: 5.15 Compiler: gcc gcc (GCC) 11.5.0 20240719 (Red Hat 11.5.0-11) CentOS Stream 10 Kernel: 5.15 Compiler: gcc gcc (GCC) 14.2.1 20250110 (Red Hat 14.2.1-8) Debian GNU/Linux 12 Kernel: 5.15 Compiler: gcc gcc (Debian 12.2.0-14+deb12u1) 12.2.0 Fedora Linux 42 Kernel: 5.15 Compiler: clang gcc (GCC) 15.2.1 20250808 (Red Hat 15.2.1-1) openSUSE Leap 15.6 Kernel: 5.15 Compiler: gcc gcc (SUSE Linux) 7.5.0 Red Hat Enterprise Linux 8.10 Kernel: 5.15 Compiler: gcc gcc (GCC) 8.5.0 20210514 (Red Hat 8.5.0-22) Red Hat Enterprise Linux 9.5 Kernel: 5.15 Compiler: gcc gcc (GCC) 11.5.0 20240719 (Red Hat 11.5.0-2) Ubuntu 22.04 Kernel: 5.15 Compiler: gcc gcc (Ubuntu 11.4.0-1ubuntu1~22.04) 11.4.0 Ubuntu 24.04 Kernel: 5.15 Compiler: gcc gcc (Ubuntu 13.3.0-6ubuntu2~24.04) 13.3.0 Alpine Linux 3.22.0 Kernel: 5.15 Compiler: gcc gcc (Alpine 14.2.0) 14.2.0 Windows Server 2022 Kernel: 10.0.20348.2031 Compiler: clang 15.0.7, gcc 14.1.0 (MinGW), and MSVC VS 19.39.33521 To view detailed results, visit: https://lab.dpdk.org/results/dashboard/patchsets/34453/ UNH-IOL DPDK Community Lab To manage your email subscriptions, visit: https://lab.dpdk.org/results/dashboard/preferences/subscriptions/