From mboxrd@z Thu Jan 1 00:00:00 1970 Return-Path: Received: from mails.dpdk.org (mails.dpdk.org [217.70.189.124]) by inbox.dpdk.org (Postfix) with ESMTP id 894A948A9C for ; Tue, 4 Nov 2025 09:17:21 +0100 (CET) Received: from mails.dpdk.org (localhost [127.0.0.1]) by mails.dpdk.org (Postfix) with ESMTP id 842DE40285; Tue, 4 Nov 2025 09:17:21 +0100 (CET) Received: from mail-io1-f97.google.com (mail-io1-f97.google.com [209.85.166.97]) by mails.dpdk.org (Postfix) with ESMTP id 3B6E140285 for ; Tue, 4 Nov 2025 09:17:20 +0100 (CET) Received: by mail-io1-f97.google.com with SMTP id ca18e2360f4ac-940d9772e28so222846639f.2 for ; Tue, 04 Nov 2025 00:17:20 -0800 (PST) DKIM-Signature: v=1; a=rsa-sha256; c=relaxed/relaxed; d=iol.unh.edu; s=unh-iol; t=1762244239; x=1762849039; darn=dpdk.org; h=cc:to:from:subject:message-id:date:from:to:cc:subject:date :message-id:reply-to; bh=yrRjnUyvqz/GUZMgOm1Cl9n3DBylS987PnJW38jH6lo=; b=Un9qW5DbTlpQ4m3nHbI9FH18niDw8jxClVPqF0fVJmRU5LKfw2gv9hQt00EseXlbGE bV+dJXnYUSj+npSvfql70KzKtEfvSAHey5FWS56ouZAN3/tHiCZ4MgQH3+3f0VCKzp5n 5nBZNhQffm8XVjs8w2VgvaPdEiCgj4xictUhg= X-Google-DKIM-Signature: v=1; a=rsa-sha256; c=relaxed/relaxed; d=1e100.net; s=20230601; t=1762244239; x=1762849039; h=cc:to:from:subject:message-id:date:x-gm-message-state:from:to:cc :subject:date:message-id:reply-to; bh=yrRjnUyvqz/GUZMgOm1Cl9n3DBylS987PnJW38jH6lo=; b=hapNuSG0ByjJMxeOdQlJkgXBKS6A/Sv4gH9XLveBls3RcJOyiCLmHgUNDeTyICxm+Y Wlu1yipLp1hM2G2dM12dL17SH+agp+Xkbt2VafGZOrQF+sIgIuxDPR17bPyQdu9+fjOR +cpsBMYeLO7gXyMYOgZW9B0WMtTXbISXURyFjHnvnmmumS/LY8JBsc5mpu/vMIWMBW1E suUTQw2NFx4EDAMIcfR1LDUPPVZyXH9hCq0fJyg3piDrIA0VMw82Mu8ih72d+UtCfSqH qy5sTGEk2nEVn7WjystXdtBPmFG2xTuNShc8cLdG42L/YxwsLNyU8Si4HnCiY4wR11MV T+LA== X-Gm-Message-State: AOJu0YxOsaNQTnk0WFj55Zlab+F4VDF5N3tfUZdC1OF0r/Ob8Scf0jkq 3nfhpnCXCKZV0+4UonvGGJOPX2DBewZ/wTIqq4I+mZdIueiKFDwTCYbwCfV6uhb7BDkLitZ9YbN MfDzPkTJ6C+7Ky4WhHSW/hTEw5TxB0L64RKhM X-Gm-Gg: ASbGncuLkTqEeagYDAS4vPx+MbVn7Oj5vv8sLrM47Ib9blfiJEfMOB+RPZjmM7ZBfjX IsOOojjP3bXvEvT4u7eubiw78QwAFQo42tTYG9Taunc6S1ls2LTQcOmrk1MkO46sw9moGoRDARw NmRpztXSkmKdd/bYpg6YfTshI+N/hCRvMGaymro1jycPNCBCDJKqLo8naDrXSpPA+qjDQl69SdA cEwJ7TlDSs/mkmFX5ALS2OG/j3NGqEBUNG5pBA9tHud66uuVE44apRaFkiuK8aPRgTRK7P2Drvu bUONhBlfotnaJlujcKb03dZ+MG9oHHp1j+f+4lewYfSW7wxiGv3Khc+ILa0/1/xDiLtITf5T4jM HBD+ozfhfumvvb+0U4aOcJPBQNKBvsJ0= X-Google-Smtp-Source: AGHT+IFhqFt6dU+h4hHQcALBbLTAvtO6B3gCbcPEjpDSS8DwupeJqCeYkAXuseR5d5ALnPYZRXQ5PCZFNUN7 X-Received: by 2002:a05:6602:13cf:b0:93e:6b1c:1b3 with SMTP id ca18e2360f4ac-9482299b2d5mr2012341239f.15.1762244239489; Tue, 04 Nov 2025 00:17:19 -0800 (PST) Received: from postal.iol.unh.edu (postal.iol.unh.edu. [132.177.123.84]) by smtp-relay.gmail.com with ESMTPS id ca18e2360f4ac-948551b9c6fsm15381339f.11.2025.11.04.00.17.19 (version=TLS1_2 cipher=ECDHE-ECDSA-AES128-GCM-SHA256 bits=128/128); Tue, 04 Nov 2025 00:17:19 -0800 (PST) X-Relaying-Domain: iol.unh.edu Date: Tue, 04 Nov 2025 00:17:19 -0800 (PST) Message-ID: <6909b68f.050a0220.222835.8631SMTPIN_ADDED_MISSING@mx.google.com> Received: from [172.21.0.2] (unknown [172.18.0.240]) by postal.iol.unh.edu (Postfix) with ESMTP id DD1E26051830; Tue, 4 Nov 2025 03:17:18 -0500 (EST) Subject: |SUCCESS| [GIT MASTER] 9784db2c5af1eecd02fc21132b59b5b266039b87 From: dpdklab@iol.unh.edu To: Test Report Cc: dpdk-test-reports@iol.unh.edu, Xueming Li , Christian Ehrhardt , Kevin Traynor , Luca Boccassi Content-Type: text/plain X-BeenThere: test-report@dpdk.org X-Mailman-Version: 2.1.29 Precedence: list List-Id: automatic DPDK test reports List-Unsubscribe: , List-Archive: List-Post: List-Help: List-Subscribe: , Errors-To: test-report-bounces@dpdk.org _Testing PASS_ Branch: tags/v22.11 9784db2c5af1eecd02fc21132b59b5b266039b87 --> testing pass Upstream job id: Windows-Compile-DPDK-Native#32091 Test environment and result as below: +-------------------------------+--------------------+-------------------------+ | Environment | dpdk_meson_compile | dpdk_llvm_clang_compile | +===============================+====================+=========================+ | CentOS Stream 9 | PASS | SKIPPED | +-------------------------------+--------------------+-------------------------+ | CentOS Stream 10 | PASS | SKIPPED | +-------------------------------+--------------------+-------------------------+ | Debian GNU/Linux 12 | PASS | SKIPPED | +-------------------------------+--------------------+-------------------------+ | Fedora Linux 42 | PASS | SKIPPED | +-------------------------------+--------------------+-------------------------+ | openSUSE Leap 15.6 | PASS | SKIPPED | +-------------------------------+--------------------+-------------------------+ | Red Hat Enterprise Linux 8.10 | PASS | SKIPPED | +-------------------------------+--------------------+-------------------------+ | Red Hat Enterprise Linux 9.5 | PASS | SKIPPED | +-------------------------------+--------------------+-------------------------+ | Ubuntu 24.04 | PASS | SKIPPED | +-------------------------------+--------------------+-------------------------+ | Ubuntu 20.04 | PASS | SKIPPED | +-------------------------------+--------------------+-------------------------+ | Ubuntu 22.04 | PASS | SKIPPED | +-------------------------------+--------------------+-------------------------+ | FreeBSD 14.2 | PASS | SKIPPED | +-------------------------------+--------------------+-------------------------+ | Windows Server 2022 | SKIPPED | PASS | +-------------------------------+--------------------+-------------------------+ CentOS Stream 9 Kernel: 5.15 Compiler: gcc gcc (GCC) 11.5.0 20240719 (Red Hat 11.5.0-11) CentOS Stream 10 Kernel: 5.15 Compiler: gcc gcc (GCC) 14.2.1 20250110 (Red Hat 14.2.1-8) Debian GNU/Linux 12 Kernel: 5.15 Compiler: gcc gcc (Debian 12.2.0-14+deb12u1) 12.2.0 Fedora Linux 42 Kernel: 5.15 Compiler: clang gcc (GCC) 15.2.1 20250808 (Red Hat 15.2.1-1) openSUSE Leap 15.6 Kernel: 5.15 Compiler: gcc gcc (SUSE Linux) 7.5.0 Red Hat Enterprise Linux 8.10 Kernel: 5.15 Compiler: gcc gcc (GCC) 8.5.0 20210514 (Red Hat 8.5.0-22) Red Hat Enterprise Linux 9.5 Kernel: 5.15 Compiler: gcc gcc (GCC) 11.5.0 20240719 (Red Hat 11.5.0-2) Ubuntu 24.04 Kernel: 5.15 Compiler: gcc gcc (Ubuntu 13.3.0-6ubuntu2~24.04) 13.3.0 Ubuntu 20.04 Kernel: 5.15 Compiler: gcc gcc (Ubuntu 9.4.0-1ubuntu1~20.04.2) 9.4.0 Ubuntu 22.04 Kernel: 5.15 Compiler: gcc gcc (Ubuntu 11.4.0-1ubuntu1~22.04) 11.4.0 FreeBSD 14.2 Kernel: 14.2-RELEASE Compiler: clang 18.1.6 Windows Server 2022 Kernel: 10.0.20348.2031 Compiler: clang 15.0.7, gcc 14.1.0 (MinGW), and MSVC VS 19.39.33521 To view detailed results, visit: https://lab.dpdk.org/results/dashboard/tarballs/35442/ UNH-IOL DPDK Community Lab To manage your email subscriptions, visit: https://lab.dpdk.org/results/dashboard/preferences/subscriptions/