From mboxrd@z Thu Jan 1 00:00:00 1970 Return-Path: Received: from mails.dpdk.org (mails.dpdk.org [217.70.189.124]) by inbox.dpdk.org (Postfix) with ESMTP id 40C3A48A9C for ; Tue, 4 Nov 2025 09:23:30 +0100 (CET) Received: from mails.dpdk.org (localhost [127.0.0.1]) by mails.dpdk.org (Postfix) with ESMTP id 18A6940285; Tue, 4 Nov 2025 09:23:30 +0100 (CET) Received: from mail-yx1-f97.google.com (mail-yx1-f97.google.com [74.125.224.97]) by mails.dpdk.org (Postfix) with ESMTP id 9A4E140285 for ; Tue, 4 Nov 2025 09:23:28 +0100 (CET) Received: by mail-yx1-f97.google.com with SMTP id 956f58d0204a3-63f9beb2730so2955674d50.0 for ; Tue, 04 Nov 2025 00:23:28 -0800 (PST) DKIM-Signature: v=1; a=rsa-sha256; c=relaxed/relaxed; d=iol.unh.edu; s=unh-iol; t=1762244608; x=1762849408; darn=dpdk.org; h=cc:to:from:subject:message-id:date:from:to:cc:subject:date :message-id:reply-to; bh=FcyfMdYeypaX04a8e85VdYB2YWV6u7N7F2pLR5BHBJ4=; b=V/fLSUWSW9bjB1i7pEnB5dp9JV2f91OtEGHp9AUtMniEgxASgfCjAwsB8TcEXVjDk6 8TwhzgDlCFeFynvXpZ2ZvuF7uKkaeRYBaJWFb6CCshEHS9NW6kGuDMygKwxo0na0bER3 w2m5b26EgL2VB9n6psODF+scBfiS0RSKxwz4g= X-Google-DKIM-Signature: v=1; a=rsa-sha256; c=relaxed/relaxed; d=1e100.net; s=20230601; t=1762244608; x=1762849408; h=cc:to:from:subject:message-id:date:x-gm-message-state:from:to:cc :subject:date:message-id:reply-to; bh=FcyfMdYeypaX04a8e85VdYB2YWV6u7N7F2pLR5BHBJ4=; b=JXCOZjUaUPOEvfMbIWizF4TsR25K2nWyk9pY1+hU9DKqMuV5PNfWYQxbGcUg5bbqER dvnBAh6iHOsvYV+Hr3Pxz12fRZksxYbP8ZAKKx4F7QT5/pJUQPgesRKTqcJSnoEYIpWJ pgSnCcfE7fYkNH2mPQpQTWhgDaFA+47xX+1FV2UyN1r6ikspb0h+NbkjLScf5hakoKfG G+r6jsM9OvLsXo+xEuGUVKLiGeKuHs0xr/y0XihcykGHEo/Qf/cJveneLniTO8NBCaVX O+1EKIP/ja/+jFDPHarg1R+nU9uMUaMUxJooKk66VsxYsO0paeI4nTjFdLZGPX6xIHY9 ELHA== X-Gm-Message-State: AOJu0YzRxfqCjKWMVb3tOVCMB3afDxc9ZMR+f9fSkO118QkDsjkE2pIz ahg2dhYTlnULcjbChD1QLtDnt8KgU+QucBP7JEtew9+eNw2t6r2ofx7QyviKDo7ueqJqbiz96gI Yz7Cv0w/LkZXBFVV1rvgza1xFfXdqfIo+hjeX X-Gm-Gg: ASbGncsLyb6LCQEG5DMv60cO4auhTOTnNzYSGOM0JjJ6sE7dz6LDh3PEqA1FAs3mOaI APuxrE9bQQJSKyrbhevih7sRDCPtlPWGpkROwM2go8JsPSi14590G8j8ch7Ipvtc9X/nU6K0jD4 v8rrfh8YImcZ9m6SpJqhCYqG3E5Bw6qrgqGISZeafwn+Ai2g4ASVyLaTiL6SzAlXkh6ywAc7xLe ucVSQiaLMucVh4L1fZkkJSNG3+uqOKZWF9LiaO//TCQnmMcVFIJYY5U1cXZfT5zkhXrPoS6gq+8 ezWWk8E4Llzmkg6p7zDBXD9AqOuhqEp9V8kBR8GyIPkXVv6P57RRqFI9OIKm8JZNSCuoSz36lNQ GSNlYEa312kXOmLqbINS1caRd5ktGFjE= X-Google-Smtp-Source: AGHT+IHV/A+DnzQGkAXEBtyhH8YlNHzlmRTLYld2g+gnDdtiqJsK/467WPRx1ET9a5NxBxOOQpTWqoLYMLdf X-Received: by 2002:a53:acdc:0:20b0:63f:aef7:d014 with SMTP id 956f58d0204a3-63faef7e51amr5166562d50.3.1762244607872; Tue, 04 Nov 2025 00:23:27 -0800 (PST) Received: from postal.iol.unh.edu (postal.iol.unh.edu. [132.177.123.84]) by smtp-relay.gmail.com with ESMTPS id 956f58d0204a3-63fc9425407sm90273d50.1.2025.11.04.00.23.27 (version=TLS1_2 cipher=ECDHE-ECDSA-AES128-GCM-SHA256 bits=128/128); Tue, 04 Nov 2025 00:23:27 -0800 (PST) X-Relaying-Domain: iol.unh.edu Date: Tue, 04 Nov 2025 00:23:27 -0800 (PST) Message-ID: <6909b7ff.050a0220.18df22.500bSMTPIN_ADDED_MISSING@mx.google.com> Received: from [172.21.0.3] (unknown [172.18.0.240]) by postal.iol.unh.edu (Postfix) with ESMTP id 5D46B6051830; Tue, 4 Nov 2025 03:23:27 -0500 (EST) Subject: |SUCCESS| [GIT MASTER] 9784db2c5af1eecd02fc21132b59b5b266039b87 From: dpdklab@iol.unh.edu To: Test Report Cc: dpdk-test-reports@iol.unh.edu, Xueming Li , Christian Ehrhardt , Kevin Traynor , Luca Boccassi Content-Type: text/plain X-BeenThere: test-report@dpdk.org X-Mailman-Version: 2.1.29 Precedence: list List-Id: automatic DPDK test reports List-Unsubscribe: , List-Archive: List-Post: List-Help: List-Subscribe: , Errors-To: test-report-bounces@dpdk.org _Testing PASS_ Branch: tags/v22.11 9784db2c5af1eecd02fc21132b59b5b266039b87 --> testing pass Upstream job id: Windows-Compile-DPDK-Native#32092 Test environment and result as below: +-------------------------------+--------------------+-------------------------+----------------------+ | Environment | dpdk_meson_compile | dpdk_llvm_clang_compile | dpdk_mingw64_compile | +===============================+====================+=========================+======================+ | CentOS Stream 9 | PASS | SKIPPED | SKIPPED | +-------------------------------+--------------------+-------------------------+----------------------+ | CentOS Stream 10 | PASS | SKIPPED | SKIPPED | +-------------------------------+--------------------+-------------------------+----------------------+ | Debian GNU/Linux 12 | PASS | SKIPPED | SKIPPED | +-------------------------------+--------------------+-------------------------+----------------------+ | Fedora Linux 42 | PASS | SKIPPED | SKIPPED | +-------------------------------+--------------------+-------------------------+----------------------+ | openSUSE Leap 15.6 | PASS | SKIPPED | SKIPPED | +-------------------------------+--------------------+-------------------------+----------------------+ | Red Hat Enterprise Linux 8.10 | PASS | SKIPPED | SKIPPED | +-------------------------------+--------------------+-------------------------+----------------------+ | Red Hat Enterprise Linux 9.5 | PASS | SKIPPED | SKIPPED | +-------------------------------+--------------------+-------------------------+----------------------+ | Ubuntu 24.04 | PASS | SKIPPED | SKIPPED | +-------------------------------+--------------------+-------------------------+----------------------+ | Ubuntu 20.04 | PASS | SKIPPED | SKIPPED | +-------------------------------+--------------------+-------------------------+----------------------+ | Ubuntu 22.04 | PASS | SKIPPED | SKIPPED | +-------------------------------+--------------------+-------------------------+----------------------+ | FreeBSD 14.2 | PASS | SKIPPED | SKIPPED | +-------------------------------+--------------------+-------------------------+----------------------+ | Windows Server 2022 | SKIPPED | PASS | PASS | +-------------------------------+--------------------+-------------------------+----------------------+ CentOS Stream 9 Kernel: 5.15 Compiler: gcc gcc (GCC) 11.5.0 20240719 (Red Hat 11.5.0-11) CentOS Stream 10 Kernel: 5.15 Compiler: gcc gcc (GCC) 14.2.1 20250110 (Red Hat 14.2.1-8) Debian GNU/Linux 12 Kernel: 5.15 Compiler: gcc gcc (Debian 12.2.0-14+deb12u1) 12.2.0 Fedora Linux 42 Kernel: 5.15 Compiler: clang gcc (GCC) 15.2.1 20250808 (Red Hat 15.2.1-1) openSUSE Leap 15.6 Kernel: 5.15 Compiler: gcc gcc (SUSE Linux) 7.5.0 Red Hat Enterprise Linux 8.10 Kernel: 5.15 Compiler: gcc gcc (GCC) 8.5.0 20210514 (Red Hat 8.5.0-22) Red Hat Enterprise Linux 9.5 Kernel: 5.15 Compiler: gcc gcc (GCC) 11.5.0 20240719 (Red Hat 11.5.0-2) Ubuntu 24.04 Kernel: 5.15 Compiler: gcc gcc (Ubuntu 13.3.0-6ubuntu2~24.04) 13.3.0 Ubuntu 20.04 Kernel: 5.15 Compiler: gcc gcc (Ubuntu 9.4.0-1ubuntu1~20.04.2) 9.4.0 Ubuntu 22.04 Kernel: 5.15 Compiler: gcc gcc (Ubuntu 11.4.0-1ubuntu1~22.04) 11.4.0 FreeBSD 14.2 Kernel: 14.2-RELEASE Compiler: clang 18.1.6 Windows Server 2022 Kernel: 10.0.20348.2031 Compiler: clang 15.0.7, gcc 14.1.0 (MinGW), and MSVC VS 19.39.33521 To view detailed results, visit: https://lab.dpdk.org/results/dashboard/tarballs/35442/ UNH-IOL DPDK Community Lab To manage your email subscriptions, visit: https://lab.dpdk.org/results/dashboard/preferences/subscriptions/