From mboxrd@z Thu Jan 1 00:00:00 1970 Return-Path: Received: from mails.dpdk.org (mails.dpdk.org [217.70.189.124]) by inbox.dpdk.org (Postfix) with ESMTP id 6648248A9C for ; Tue, 4 Nov 2025 09:34:51 +0100 (CET) Received: from mails.dpdk.org (localhost [127.0.0.1]) by mails.dpdk.org (Postfix) with ESMTP id 5E36740285; Tue, 4 Nov 2025 09:34:51 +0100 (CET) Received: from mail-pl1-f225.google.com (mail-pl1-f225.google.com [209.85.214.225]) by mails.dpdk.org (Postfix) with ESMTP id 39E3D40285 for ; Tue, 4 Nov 2025 09:34:50 +0100 (CET) Received: by mail-pl1-f225.google.com with SMTP id d9443c01a7336-290aaff555eso48833925ad.2 for ; Tue, 04 Nov 2025 00:34:50 -0800 (PST) DKIM-Signature: v=1; a=rsa-sha256; c=relaxed/relaxed; d=iol.unh.edu; s=unh-iol; t=1762245289; x=1762850089; darn=dpdk.org; h=references:in-reply-to:cc:to:from:subject:message-id:date:from:to :cc:subject:date:message-id:reply-to; bh=j0PRG8LNJVkMu1h5e6/rGpdM7iprzC5oBDiwh4fnt9c=; b=JWM8hIorDVahnQCjKSI7yog2ICfIke8reJHr0kZHO2vzLIXX6WCdYj8sDVbeWKrbEe YwxfLhpqL1klTGaICPLCXGU1pwPh6fJPggAPaEMrxHFjqSD/kwY1TTq/TUBP5OnI/XIA 9pLKGlt0iwrUv0gfmGlZoVZJzcEIH3UdQXwfg= X-Google-DKIM-Signature: v=1; a=rsa-sha256; c=relaxed/relaxed; d=1e100.net; s=20230601; t=1762245289; x=1762850089; h=references:in-reply-to:cc:to:from:subject:message-id:date :x-gm-message-state:from:to:cc:subject:date:message-id:reply-to; bh=j0PRG8LNJVkMu1h5e6/rGpdM7iprzC5oBDiwh4fnt9c=; b=XhykHg3uh8qYvSrUO8pekHQ0KEEjxj0cFxjwn6j/lRWdpbWmcLOcnbBwo5IiiuEnwF vGqucp7pMG6ZP+aCe9PDV41Bc3G8Uchet9hjMadn5mUYNPDTpY7yCCygWqh5iG/OK2Li wDKjcYLT7yEu+tH6lVS4RDqRjPK2XeWojJbsMjNHAYNqGrAdJtfWNfUEMriaEmI9rEtV tqxuMvp3B6QGz2fDOyOqauNnMAbkastvUcXPtRH4jPqNxhZ5e9ca7tkGdS5YAIfWBcly b7CO+oHic7vk4LVWrNVEUyQijX+851tCM9HLa3IkenfkLTlAHgtzPN80h8x9iou1Zof9 vbhg== X-Gm-Message-State: AOJu0YzktW6Atyb3knYTB3PsolXmZYEd2EYuvkRGHvzjYYbfR+wlFX06 7hXC9MTqSkRjDqYsZQ/rzhtc7xJMThTO4qvR+ewnMHb2TlNwzhugsHKdoUcFqyJ3EHSTjHVM9Pu WEaoNobeTOIRzDL+Zs7LJq3V8iLz0ohCZSB56Htp6Ep7OSTgjBqyUXNsefvvl X-Gm-Gg: ASbGncsYPNgZp1zanwEg9NJzjrTYDLHjh74BN/ILzcgshUx5ZqsN2AQCBqA7Vo8ud+b A2uVA3r7DiamgF5Z1m3Z6ufBSVR6MYFo49oGfIHREt8eWYCqiSlpYwbVZ2ar0bRV3yN9MMnmTXA 33Woyc3ZgWGbvOWA6rDZvM7dAnImMs5O6EHTNM4z6DIvs0LhGGtGSzseQcFUuO0boJQtBeO+FY+ Uw/MFRiofhJXEmAa6IAEugx4uAUMZAX4NpGgrY1SwWL4qmbWI0Jggm6nqvkrFJ3/38QZxt4tCYM 5CuzeMbV5G6mu4kIqHvT37CnCfHJ/MYFfPVaGyRsmFZEtyPzVeNA3gBEStHzV6pav7sRNUyDoWG JWrF3ewjO X-Google-Smtp-Source: AGHT+IHQDusRv/DbvylREWIKf+EzGlT+7WNmymcYSaIG+HD1u/xtfnRBmITQr0J0vqZAD2u8zLT9FdH34ala X-Received: by 2002:a17:902:da8d:b0:248:ff5a:b768 with SMTP id d9443c01a7336-2951a34cd5dmr187118985ad.10.1762245289361; Tue, 04 Nov 2025 00:34:49 -0800 (PST) Received: from postal.iol.unh.edu (postal.iol.unh.edu. [2606:4100:3880:1234::84]) by smtp-relay.gmail.com with ESMTPS id d9443c01a7336-2960199952esm1655605ad.26.2025.11.04.00.34.49 (version=TLS1_2 cipher=ECDHE-ECDSA-AES128-GCM-SHA256 bits=128/128); Tue, 04 Nov 2025 00:34:49 -0800 (PST) X-Relaying-Domain: iol.unh.edu Date: Tue, 04 Nov 2025 00:34:49 -0800 (PST) Message-ID: <6909baa9.170a0220.25a3e7.93deSMTPIN_ADDED_MISSING@mx.google.com> Received: from [172.21.0.3] (unknown [172.18.0.240]) by postal.iol.unh.edu (Postfix) with ESMTP id C420D6051830; Tue, 4 Nov 2025 03:34:48 -0500 (EST) Subject: |SUCCESS| pw158411 [PATCH] net/nfp: fix use after free From: dpdklab@iol.unh.edu To: Test Report Cc: dpdk-test-reports@iol.unh.edu, Stephen Hemminger In-Reply-To: <20251104052915.270245-1-stephen@networkplumber.org> References: <20251104052915.270245-1-stephen@networkplumber.org> Content-Type: text/plain X-BeenThere: test-report@dpdk.org X-Mailman-Version: 2.1.29 Precedence: list List-Id: automatic DPDK test reports List-Unsubscribe: , List-Archive: List-Post: List-Help: List-Subscribe: , Errors-To: test-report-bounces@dpdk.org Test-Label: iol-compile-amd64-testing Test-Status: SUCCESS http://dpdk.org/patch/158411 _Testing PASS_ Submitter: Stephen Hemminger Date: Tuesday, November 04 2025 05:29:15 DPDK git baseline: Repo:dpdk-next-net Branch: master CommitID:80dea84c15d0ba5b8b092db744e26319a6f23a04 158411 --> testing pass Upstream job id: Windows-Compile-DPDK-Native#32093 Test environment and result as below: +-------------------------------+--------------------+------------------+-------------------+-------------------------+ | Environment | dpdk_meson_compile | dpdk_compile_ovs | dpdk_msvc_compile | dpdk_llvm_clang_compile | +===============================+====================+==================+===================+=========================+ | Ubuntu 20.04 | PASS | SKIPPED | SKIPPED | SKIPPED | +-------------------------------+--------------------+------------------+-------------------+-------------------------+ | FreeBSD 14.2 | PASS | SKIPPED | SKIPPED | SKIPPED | +-------------------------------+--------------------+------------------+-------------------+-------------------------+ | CentOS Stream 9 | PASS | SKIPPED | SKIPPED | SKIPPED | +-------------------------------+--------------------+------------------+-------------------+-------------------------+ | CentOS Stream 10 | PASS | SKIPPED | SKIPPED | SKIPPED | +-------------------------------+--------------------+------------------+-------------------+-------------------------+ | Debian GNU/Linux 12 | PASS | SKIPPED | SKIPPED | SKIPPED | +-------------------------------+--------------------+------------------+-------------------+-------------------------+ | Fedora Linux 42 | PASS | PASS | SKIPPED | SKIPPED | +-------------------------------+--------------------+------------------+-------------------+-------------------------+ | openSUSE Leap 15.6 | PASS | SKIPPED | SKIPPED | SKIPPED | +-------------------------------+--------------------+------------------+-------------------+-------------------------+ | Red Hat Enterprise Linux 8.10 | PASS | SKIPPED | SKIPPED | SKIPPED | +-------------------------------+--------------------+------------------+-------------------+-------------------------+ | Red Hat Enterprise Linux 9.5 | PASS | SKIPPED | SKIPPED | SKIPPED | +-------------------------------+--------------------+------------------+-------------------+-------------------------+ | Ubuntu 22.04 | PASS | SKIPPED | SKIPPED | SKIPPED | +-------------------------------+--------------------+------------------+-------------------+-------------------------+ | Ubuntu 24.04 | PASS | PASS | SKIPPED | SKIPPED | +-------------------------------+--------------------+------------------+-------------------+-------------------------+ | Alpine Linux 3.22.0 | PASS | SKIPPED | SKIPPED | SKIPPED | +-------------------------------+--------------------+------------------+-------------------+-------------------------+ | Windows Server 2022 | SKIPPED | SKIPPED | PASS | PASS | +-------------------------------+--------------------+------------------+-------------------+-------------------------+ Ubuntu 20.04 Kernel: 4.19 Compiler: gcc gcc (Ubuntu 9.4.0-1ubuntu1~20.04.2) 9.4.0 FreeBSD 14.2 Kernel: 14.2-RELEASE Compiler: clang 18.1.6 CentOS Stream 9 Kernel: 5.15 Compiler: gcc gcc (GCC) 11.5.0 20240719 (Red Hat 11.5.0-11) CentOS Stream 10 Kernel: 5.15 Compiler: gcc gcc (GCC) 14.2.1 20250110 (Red Hat 14.2.1-8) Debian GNU/Linux 12 Kernel: 5.15 Compiler: gcc gcc (Debian 12.2.0-14+deb12u1) 12.2.0 Fedora Linux 42 Kernel: 5.15 Compiler: clang gcc (GCC) 15.2.1 20250808 (Red Hat 15.2.1-1) openSUSE Leap 15.6 Kernel: 5.15 Compiler: gcc gcc (SUSE Linux) 7.5.0 Red Hat Enterprise Linux 8.10 Kernel: 5.15 Compiler: gcc gcc (GCC) 8.5.0 20210514 (Red Hat 8.5.0-22) Red Hat Enterprise Linux 9.5 Kernel: 5.15 Compiler: gcc gcc (GCC) 11.5.0 20240719 (Red Hat 11.5.0-2) Ubuntu 22.04 Kernel: 5.15 Compiler: gcc gcc (Ubuntu 11.4.0-1ubuntu1~22.04) 11.4.0 Ubuntu 24.04 Kernel: 5.15 Compiler: gcc gcc (Ubuntu 13.3.0-6ubuntu2~24.04) 13.3.0 Alpine Linux 3.22.0 Kernel: 5.15 Compiler: gcc gcc (Alpine 14.2.0) 14.2.0 Windows Server 2022 Kernel: 10.0.20348.2031 Compiler: clang 15.0.7, gcc 14.1.0 (MinGW), and MSVC VS 19.39.33521 To view detailed results, visit: https://lab.dpdk.org/results/dashboard/patchsets/34452/ UNH-IOL DPDK Community Lab To manage your email subscriptions, visit: https://lab.dpdk.org/results/dashboard/preferences/subscriptions/