From mboxrd@z Thu Jan 1 00:00:00 1970 Return-Path: Received: from mails.dpdk.org (mails.dpdk.org [217.70.189.124]) by inbox.dpdk.org (Postfix) with ESMTP id E885148A9E for ; Tue, 4 Nov 2025 09:58:54 +0100 (CET) Received: from mails.dpdk.org (localhost [127.0.0.1]) by mails.dpdk.org (Postfix) with ESMTP id C392740285; Tue, 4 Nov 2025 09:58:54 +0100 (CET) Received: from mail-pl1-f228.google.com (mail-pl1-f228.google.com [209.85.214.228]) by mails.dpdk.org (Postfix) with ESMTP id 03B9940285 for ; Tue, 4 Nov 2025 09:58:53 +0100 (CET) Received: by mail-pl1-f228.google.com with SMTP id d9443c01a7336-295247a814bso54393615ad.0 for ; Tue, 04 Nov 2025 00:58:52 -0800 (PST) DKIM-Signature: v=1; a=rsa-sha256; c=relaxed/relaxed; d=iol.unh.edu; s=unh-iol; t=1762246732; x=1762851532; darn=dpdk.org; h=references:in-reply-to:cc:to:from:subject:message-id:date:from:to :cc:subject:date:message-id:reply-to; bh=PzG6CswCVdm/jGSbLwLdwys12/FpzSwAGIctTepHLio=; b=Dqw156shJr0UQKfm+r9sPdN5XE8h/h7w/V16SZHlN03Ncw/i2bteJQQGhGxSOMlcHc vc0VbLONd1oH1T9QCQrjPl7i5KD4Wb2WeTkeUtTSh7rKRhud/yFTPQxyqohfekFq4GiB N1Dcxce5UD9zCGPAiz/dOQL0zwrb1gAilvoe8= X-Google-DKIM-Signature: v=1; a=rsa-sha256; c=relaxed/relaxed; d=1e100.net; s=20230601; t=1762246732; x=1762851532; h=references:in-reply-to:cc:to:from:subject:message-id:date :x-gm-message-state:from:to:cc:subject:date:message-id:reply-to; bh=PzG6CswCVdm/jGSbLwLdwys12/FpzSwAGIctTepHLio=; b=EpNGE5jKRHz4/E9bmEGNfWBf8icfFQE66ipOKVr9kGR/KJJC7cnBi6vy/c6nGeTWnZ UnkHB5TSnkO6Bs/OF0SpITYuqMMz/hbEMsRiLd580HZ2p8wcDR0xXXNoq9pP0cULJXDO njlwtkEx2TQGrgwJjujK2HEV/XeZA5uOxz24Jz1OKSkVz1JDyarC83ThAGI78DdFAh8H Rp1LeLBSdoP5bOG1uhqgncX5HJEYbPQ4/Aomn0OXNgX0OEEUCa8Rq4m28v8eSwzmgxdx TfeWnaN+ntl77pzKTmuU1puQorh+iqY4B/0UPvCvqm266TalnleS/ZJqvBUs4nSJuOgn gmdg== X-Gm-Message-State: AOJu0YzlxsUnC4aZNVUSsrYfCtaGBQYjH4n0U0Fp5tP09APO2bHSJ/Nq wOXCKrOndKMg1YT5xiuaFE50ytpReIbNjkcAQNIvYy5b+NuNfyzMMV19Oop4p7qAxdgCR/U4Sgg SUyREao79WLbxGMVW9Dark5atOu8JnLGMAqeH0R07hf3FYpd4fUKhtWAnhTTc X-Gm-Gg: ASbGnctnTV1LTjqdPq/btIeObzP4Ml6UH04mAWxEz3FLam/imu6H2lKHmqbIVybQ4dk tGBgOATsDvQxcGV6zHZBR5HXuaPGFOox4ALrfdcXB3MnSANS+R3vDL592xiuT55UnuUyc+kGhGt DDWEm1JRX5hsX4nsYv8VSxlIOdIBIvkI6BqDMNrnYFuiRmhU7t/0/K1yxkZ35jneWFCGoBXGnSf uUHYdnKdVGC6ECFtiYg6+4jQTPX9eDzBFCyfonQq14RgGqONFOjaPBbsvwnIfQrQ2VxvEoFtg9S +4fBeFvohZi0E6y3Oewtjq9qCeyW7Tpvnou9hRT03YQCjY+r4uTuuyd5EJyTXb4V+6kBScnqawH 7oGiwtrKG X-Google-Smtp-Source: AGHT+IH5sxoY94j0EpdDHP4T6g8h7HGPMoEitadXwhDuVng5eoArH0N8uOlK0+afDSYaVyAUUmdx12X1kWQp X-Received: by 2002:a17:902:e852:b0:290:a3b9:d4c7 with SMTP id d9443c01a7336-2951a45c0e5mr189257345ad.30.1762246732151; Tue, 04 Nov 2025 00:58:52 -0800 (PST) Received: from postal.iol.unh.edu (postal.iol.unh.edu. [2606:4100:3880:1234::84]) by smtp-relay.gmail.com with ESMTPS id d9443c01a7336-2960195fe57sm1770495ad.12.2025.11.04.00.58.52 (version=TLS1_2 cipher=ECDHE-ECDSA-AES128-GCM-SHA256 bits=128/128); Tue, 04 Nov 2025 00:58:52 -0800 (PST) X-Relaying-Domain: iol.unh.edu Date: Tue, 04 Nov 2025 00:58:52 -0800 (PST) Message-ID: <6909c04c.170a0220.34aee3.9e6aSMTPIN_ADDED_MISSING@mx.google.com> Received: from [172.21.0.2] (unknown [172.18.0.240]) by postal.iol.unh.edu (Postfix) with ESMTP id A22F46051830; Tue, 4 Nov 2025 03:58:51 -0500 (EST) Subject: |SUCCESS| pw158410 [PATCH] [v2,1/1] dmadev: add domain_id field to a From: dpdklab@iol.unh.edu To: Test Report Cc: dpdk-test-reports@iol.unh.edu In-Reply-To: <20251104052146.2308361-1-vattunuru@marvell.com> References: <20251104052146.2308361-1-vattunuru@marvell.com> Content-Type: text/plain X-BeenThere: test-report@dpdk.org X-Mailman-Version: 2.1.29 Precedence: list List-Id: automatic DPDK test reports List-Unsubscribe: , List-Archive: List-Post: List-Help: List-Subscribe: , Errors-To: test-report-bounces@dpdk.org Test-Label: iol-unit-amd64-testing Test-Status: SUCCESS http://dpdk.org/patch/158410 _Testing PASS_ Submitter: Vamsi Krishna Date: Tuesday, November 04 2025 05:21:46 DPDK git baseline: Repo:dpdk Branch: master CommitID:8c4861d00aabcf54ef9d6f1df2a4cfb37c06f6c2 158410 --> testing pass Upstream job id: Generic-Unit-Test-DPDK#388270 Test environment and result as below: +-------------------------------+----------------+ | Environment | dpdk_unit_test | +===============================+================+ | CentOS Stream 9 | PASS | +-------------------------------+----------------+ | CentOS Stream 10 | PASS | +-------------------------------+----------------+ | Debian GNU/Linux 12 | PASS | +-------------------------------+----------------+ | Fedora Linux 40 | PASS | +-------------------------------+----------------+ | Fedora Linux 41 | PASS | +-------------------------------+----------------+ | Fedora Linux 42 | PASS | +-------------------------------+----------------+ | Ubuntu 20.04 | PASS | +-------------------------------+----------------+ | Red Hat Enterprise Linux 8.10 | PASS | +-------------------------------+----------------+ | Red Hat Enterprise Linux 9.5 | PASS | +-------------------------------+----------------+ | Ubuntu 22.04 | PASS | +-------------------------------+----------------+ | Ubuntu 24.04 | PASS | +-------------------------------+----------------+ CentOS Stream 9 Kernel: 5.15 Compiler: gcc gcc (GCC) 11.5.0 20240719 (Red Hat 11.5.0-11) CentOS Stream 10 Kernel: 5.15 Compiler: gcc gcc (GCC) 14.2.1 20250110 (Red Hat 14.2.1-8) Debian GNU/Linux 12 Kernel: 5.15 Compiler: gcc gcc (Debian 12.2.0-14+deb12u1) 12.2.0 Fedora Linux 40 Kernel: 5.15 Compiler: gcc gcc (GCC) 14.2.1 20240912 (Red Hat 14.2.1-3) Fedora Linux 41 Kernel: 5.15 Compiler: gcc gcc (GCC) 14.3.1 20250523 (Red Hat 14.3.1-1) Fedora Linux 42 Kernel: 5.15 Compiler: clang gcc (GCC) 15.2.1 20250808 (Red Hat 15.2.1-1) Ubuntu 20.04 Kernel: 5.15 Compiler: gcc gcc (Ubuntu 9.4.0-1ubuntu1~20.04.2) 9.4.0 Red Hat Enterprise Linux 8.10 Kernel: 5.15 Compiler: gcc gcc (GCC) 8.5.0 20210514 (Red Hat 8.5.0-22) Red Hat Enterprise Linux 9.5 Kernel: 5.15 Compiler: gcc gcc (GCC) 11.5.0 20240719 (Red Hat 11.5.0-2) Ubuntu 22.04 Kernel: 5.15 Compiler: gcc gcc (Ubuntu 11.4.0-1ubuntu1~22.04) 11.4.0 Ubuntu 24.04 Kernel: 5.15 Compiler: gcc gcc (Ubuntu 13.3.0-6ubuntu2~24.04) 13.3.0 To view detailed results, visit: https://lab.dpdk.org/results/dashboard/patchsets/34453/ UNH-IOL DPDK Community Lab To manage your email subscriptions, visit: https://lab.dpdk.org/results/dashboard/preferences/subscriptions/