From mboxrd@z Thu Jan 1 00:00:00 1970 Return-Path: Received: from mails.dpdk.org (mails.dpdk.org [217.70.189.124]) by inbox.dpdk.org (Postfix) with ESMTP id 0A48748A9E for ; Tue, 4 Nov 2025 09:59:48 +0100 (CET) Received: from mails.dpdk.org (localhost [127.0.0.1]) by mails.dpdk.org (Postfix) with ESMTP id 0498640285; Tue, 4 Nov 2025 09:59:48 +0100 (CET) Received: from mail-qv1-f100.google.com (mail-qv1-f100.google.com [209.85.219.100]) by mails.dpdk.org (Postfix) with ESMTP id 9869740285 for ; Tue, 4 Nov 2025 09:59:46 +0100 (CET) Received: by mail-qv1-f100.google.com with SMTP id 6a1803df08f44-87c13813464so81450526d6.1 for ; Tue, 04 Nov 2025 00:59:46 -0800 (PST) DKIM-Signature: v=1; a=rsa-sha256; c=relaxed/relaxed; d=iol.unh.edu; s=unh-iol; t=1762246786; x=1762851586; darn=dpdk.org; h=references:in-reply-to:cc:to:from:subject:message-id:date:from:to :cc:subject:date:message-id:reply-to; bh=w2YhI40Oo8kYDtYwwklDmJOucxvLZku7ZNWVX1ITXmA=; b=NDTrVkqMduzqbKs+IeDLJPXjmNYwyDuGQGHdH2NiR4ULjMOC2/KyyA0N/u1UC1Zce6 psH05GKeNkZVWEsVWhD8FhRkHWhlvXn/9pF8Wb0Zcn7LCPx/Zm2rzKbQ7Hn5NP5FHa03 +0wqeOaiwuyspSCeS5G2WxKvDU5eVvaV0o9Ck= X-Google-DKIM-Signature: v=1; a=rsa-sha256; c=relaxed/relaxed; d=1e100.net; s=20230601; t=1762246786; x=1762851586; h=references:in-reply-to:cc:to:from:subject:message-id:date :x-gm-message-state:from:to:cc:subject:date:message-id:reply-to; bh=w2YhI40Oo8kYDtYwwklDmJOucxvLZku7ZNWVX1ITXmA=; b=jDjPFOl++IriZUBNdgcLCpJRDJRb5qXi4Qp40cgbaNFwz0bmnlUQjo2AV8lc1XsqeV TY7H8q8THQbi+4JGb1ckmrx/buPEJ6K1fm5SJKxOgeGdlDsMO4VDAZMyvk368y77rg+d cs+kxxE3hsXofEI6e6H16Ob+knQAiiWl8HzqbGqTLa5qbzb0BxZ2Ml/Dsf6s84H1gp+2 lpbQN8dmeIaZQTtLjSipjQ0kj67NS9VvnfcqF+iT8zyfoPdgt8Xf6WuPnylKfCPZvy4f xFGHFTuWrJSopLWLi/du5q7NYxoSbzqvRV2ZhL0ZDk3kCP3E6IYYksIvkBhSb2kfJHfC qB+g== X-Gm-Message-State: AOJu0YxZMc5QnzkU8ve3KgenBoV2dF4vKsSt9qoEqLQ6ucH9C8KwKOhZ 3YniRnbE1bSUs+DRFPAxpf7kBdIOOBnEvqdNOzROjm4cJs1mpzar94Jy4utowdMJaxsNhJcxSBd qJxXXDlBcHszT2Qt/a5nbGKF8KRBnVmja53DfslKP0edkCsPcI05BG3EcofAz X-Gm-Gg: ASbGnctRJBgVrhMgHbi3DLQsHnEkFPS2G3+3Stka5CHhLP1RUjHxPhEmedfPhZQJq7c s7aBIFwyoGzu55V6z9CocYfi674H2QgphSkRsSnq6zcSIAbuEBbWUO+gNb3fBn2JUal/5Fc6v5u TcZrZhPwT3tCkjF3duKWz/8+bemLiyCX5AT2U9jPZNjy9IQ4ubrIp9yiAEpjsmZMkaLYn7115+r dnnFHhXcC3njkkm885mpP6RvUIier54HYxGHZvXN244lef8NHYiGwGemrdWukEbnQ3/C7GADswJ MmN+TPoD5zTMkSVhl89r/zyFWTGwESXI3SDubpnlx1reix2kcGNqtGzLMO22GZNIVy5wV8dBmgm KCnfgSeh7 X-Google-Smtp-Source: AGHT+IGbdoNi06NS6wzrVv6mFJYumUFRyY98CiC8WUE63c4nGi2FkkcrjIgHqhgoeVL1w5LA1srvA7SACC7W X-Received: by 2002:a05:6214:501d:b0:880:4fcc:7525 with SMTP id 6a1803df08f44-8804fcc8327mr107567866d6.29.1762246785781; Tue, 04 Nov 2025 00:59:45 -0800 (PST) Received: from postal.iol.unh.edu (postal.iol.unh.edu. [2606:4100:3880:1234::84]) by smtp-relay.gmail.com with ESMTPS id 6a1803df08f44-88060db8ee2sm2324336d6.10.2025.11.04.00.59.45 (version=TLS1_2 cipher=ECDHE-ECDSA-AES128-GCM-SHA256 bits=128/128); Tue, 04 Nov 2025 00:59:45 -0800 (PST) X-Relaying-Domain: iol.unh.edu Date: Tue, 04 Nov 2025 00:59:45 -0800 (PST) Message-ID: <6909c081.d40a0220.a15cd.dab7SMTPIN_ADDED_MISSING@mx.google.com> Received: from [172.21.0.3] (unknown [172.18.0.240]) by postal.iol.unh.edu (Postfix) with ESMTP id 80C8F6051830; Tue, 4 Nov 2025 03:59:45 -0500 (EST) Subject: |SUCCESS| pw158402-158404 [PATCH] [3/3] app/testpmd: support stop sp From: dpdklab@iol.unh.edu To: Test Report Cc: dpdk-test-reports@iol.unh.edu, Stephen Hemminger In-Reply-To: <20251104040916.25864-4-fengchengwen@huawei.com> References: <20251104040916.25864-4-fengchengwen@huawei.com> Content-Type: text/plain X-BeenThere: test-report@dpdk.org X-Mailman-Version: 2.1.29 Precedence: list List-Id: automatic DPDK test reports List-Unsubscribe: , List-Archive: List-Post: List-Help: List-Subscribe: , Errors-To: test-report-bounces@dpdk.org Test-Label: iol-compile-arm64-testing Test-Status: SUCCESS http://dpdk.org/patch/158404 _Testing PASS_ Submitter: fengchengwen Date: Tuesday, November 04 2025 04:09:16 DPDK git baseline: Repo:dpdk-next-net Branch: master CommitID:80dea84c15d0ba5b8b092db744e26319a6f23a04 158402-158404 --> testing pass Upstream job id: Generic-DPDK-Compile-Meson#440334 Test environment and result as below: +------------------------------+--------------------+ | Environment | dpdk_meson_compile | +==============================+====================+ | Red Hat Enterprise Linux 9.5 | PASS | +------------------------------+--------------------+ | CentOS Stream 10 | PASS | +------------------------------+--------------------+ | Debian GNU/Linux 12 | PASS | +------------------------------+--------------------+ | Ubuntu 20.04 | PASS | +------------------------------+--------------------+ | Ubuntu 22.04 | PASS | +------------------------------+--------------------+ | Fedora Linux 42 | PASS | +------------------------------+--------------------+ | CentOS Stream 9 | PASS | +------------------------------+--------------------+ | Ubuntu 24.04 | PASS | +------------------------------+--------------------+ Red Hat Enterprise Linux 9.5 Kernel: 5.4 Compiler: gcc gcc (GCC) 11.5.0 20240719 (Red Hat 11.5.0-2) CentOS Stream 10 Kernel: 5.4 Compiler: gcc gcc (GCC) 14.2.1 20250110 (Red Hat 14.2.1-8) Debian GNU/Linux 12 Kernel: 5.4 Compiler: gcc gcc (Debian 12.2.0-14+deb12u1) 12.2.0 Ubuntu 20.04 Kernel: 5.4 Compiler: gcc gcc (Ubuntu 9.4.0-1ubuntu1~20.04.2) 9.4.0 Ubuntu 22.04 Kernel: 5.4 Compiler: gcc gcc (Ubuntu 11.4.0-1ubuntu1~22.04) 11.4.0 Fedora Linux 42 Kernel: 5.4 Compiler: gcc gcc (GCC) 15.2.1 20250808 (Red Hat 15.2.1-1) CentOS Stream 9 Kernel: 5.4 Compiler: gcc gcc (GCC) 11.5.0 20240719 (Red Hat 11.5.0-11) Ubuntu 24.04 Kernel: 5.4 Compiler: gcc gcc (Ubuntu 13.3.0-6ubuntu2~24.04) 13.3.0 To view detailed results, visit: https://lab.dpdk.org/results/dashboard/patchsets/34450/ UNH-IOL DPDK Community Lab To manage your email subscriptions, visit: https://lab.dpdk.org/results/dashboard/preferences/subscriptions/