From mboxrd@z Thu Jan 1 00:00:00 1970 Return-Path: Received: from mails.dpdk.org (mails.dpdk.org [217.70.189.124]) by inbox.dpdk.org (Postfix) with ESMTP id 2112448A9F for ; Tue, 4 Nov 2025 10:00:16 +0100 (CET) Received: from mails.dpdk.org (localhost [127.0.0.1]) by mails.dpdk.org (Postfix) with ESMTP id 19F1D40285; Tue, 4 Nov 2025 10:00:16 +0100 (CET) Received: from mail-pj1-f97.google.com (mail-pj1-f97.google.com [209.85.216.97]) by mails.dpdk.org (Postfix) with ESMTP id E0C6440285 for ; Tue, 4 Nov 2025 10:00:14 +0100 (CET) Received: by mail-pj1-f97.google.com with SMTP id 98e67ed59e1d1-34182b1c64bso183650a91.3 for ; Tue, 04 Nov 2025 01:00:14 -0800 (PST) DKIM-Signature: v=1; a=rsa-sha256; c=relaxed/relaxed; d=iol.unh.edu; s=unh-iol; t=1762246814; x=1762851614; darn=dpdk.org; h=references:in-reply-to:cc:to:from:subject:message-id:date:from:to :cc:subject:date:message-id:reply-to; bh=qNM63NKXH0A4RxjJCHD5JeFf7wN1rcYVKtgH2cqfyVw=; b=cyPmIDPsky5sg9bNCl9SZWm3mrLb1iKXRxT6gHNNBA3x+92av467fYvAL4fcj9TJAM Ij95yhxmxvtMUG5kCkyzLYMVKykhmN5h2KbjBoz+eIUR6GdRycoLctdTSNGw0/dI/90y 6Qxp9Y34sOAmmAfimHO+Pu+4AxCElCw2oJLRE= X-Google-DKIM-Signature: v=1; a=rsa-sha256; c=relaxed/relaxed; d=1e100.net; s=20230601; t=1762246814; x=1762851614; h=references:in-reply-to:cc:to:from:subject:message-id:date :x-gm-message-state:from:to:cc:subject:date:message-id:reply-to; bh=qNM63NKXH0A4RxjJCHD5JeFf7wN1rcYVKtgH2cqfyVw=; b=qGC76KgAugV8nfu6b6wr9HA9t+vdZPn53tz3vZiY0cGw+71JGFlGWFQ/bBQDayN+sl Z3W1n8zDpVmfBH0YmW2hS8OF6a2KFHnWCWVAP/xCMjc0WZJYBLu5eFePwMrdy01Q8Drd hqWGqBLHtWoPAsR12jjC6Sj9e+vklkwTKikYtlB9s1wqlknCiNAu9/0jnV8cdK3t7qmW +pn2ESDQzk0Rm0yLZgz6O+4VhDe2KH3JTFdM9hmtazGJWa1080qxc1sKkLwpToSIVOUF OgiwezW9dbM6bmC7y24sYMdjOIam17AgAXaXWoVHHcEGuL8YbNut/kufNLdv0ISrnUGp 498Q== X-Gm-Message-State: AOJu0YxBKEsLnxWxvd7BPb3TZR73q+Oz9SwTzsaQA377kj1Ft4Pz69j3 /325ePUJpaKBWgDkjqqN5U+0SCAbDZMM0fJVHHkXTEibGCCN3oVyBVRk1TQFl1I635qhuhWDtZN k7xuzqFIzYyV9rEZuGPPnbrqacAQA3Ucf/06+UJTVBwbm X-Gm-Gg: ASbGnctLLzbxF/jvJqFyfuELYcmemtSHdDm/eE91kp2y5rr1npTHYTrv+xcR6ck+OqQ lEWemxJ1BZGVR42gyZZOHY059cXrrNW/0YYBM0tFWdoiOk43WzINiRtd5GsT8F99/ZXbS4gv2P/ KejfiByb6o+c84MwV8YmWHQVBWSdYl9POCi6E+9RiIplvDbB6vx9SM62PgHpCGPZw7+1Q9dXpa8 hEMBHG/9cNjKnDiJxPb8CBj9tWbSMFxJiy90Oat/Oc0sOMGHkn87xkDlwFkisVdShNMay/MlIUu pkF6z1ZKpUJ2Eav+eRbtc2s79C2KI2sLNC1ye8RtI4HrCPEdcuhzpH10NdV5Bok3OJX/25AYH8n nBiNWqgJkd2CVysXiqU/hwE5SjL3aJ+g= X-Google-Smtp-Source: AGHT+IHfEsv9rLF3IWqRi3N2/UaFAlEbEYW9gGby/yXkmBuL/I5pNAShK5/bjVkrjXDczgrcYOOM3/AwNAfi X-Received: by 2002:a17:90b:5385:b0:341:69e3:785a with SMTP id 98e67ed59e1d1-34169e37e2cmr3848551a91.16.1762246813843; Tue, 04 Nov 2025 01:00:13 -0800 (PST) Received: from postal.iol.unh.edu (postal.iol.unh.edu. [132.177.123.84]) by smtp-relay.gmail.com with ESMTPS id 41be03b00d2f7-ba1f493da44sm113627a12.11.2025.11.04.01.00.13 (version=TLS1_2 cipher=ECDHE-ECDSA-AES128-GCM-SHA256 bits=128/128); Tue, 04 Nov 2025 01:00:13 -0800 (PST) X-Relaying-Domain: iol.unh.edu Date: Tue, 04 Nov 2025 01:00:13 -0800 (PST) Message-ID: <6909c09d.050a0220.33d82e.64cbSMTPIN_ADDED_MISSING@mx.google.com> Received: from [172.21.0.3] (unknown [172.18.0.240]) by postal.iol.unh.edu (Postfix) with ESMTP id 1AC426051830; Tue, 4 Nov 2025 04:00:13 -0500 (EST) Subject: |SUCCESS| pw158405-158409 [PATCH] [v3,5/5] vhost_user: Increase numb From: dpdklab@iol.unh.edu To: Test Report Cc: dpdk-test-reports@iol.unh.edu, Chenbo Xia , Maxime Coquelin In-Reply-To: <20251104042142.2787631-6-pravin.bathija@dell.com> References: <20251104042142.2787631-6-pravin.bathija@dell.com> Content-Type: text/plain X-BeenThere: test-report@dpdk.org X-Mailman-Version: 2.1.29 Precedence: list List-Id: automatic DPDK test reports List-Unsubscribe: , List-Archive: List-Post: List-Help: List-Subscribe: , Errors-To: test-report-bounces@dpdk.org Test-Label: iol-compile-arm64-testing Test-Status: SUCCESS http://dpdk.org/patch/158409 _Testing PASS_ Submitter: Bathija, Pravin Date: Tuesday, November 04 2025 04:21:41 DPDK git baseline: Repo:dpdk-next-virtio Branch: master CommitID:6b37c26a95388aa41bb5267c7c42f604fd571a38 158405-158409 --> testing pass Upstream job id: Generic-DPDK-Compile-Meson#440348 Test environment and result as below: +------------------------------+--------------------+ | Environment | dpdk_meson_compile | +==============================+====================+ | Ubuntu 20.04 | PASS | +------------------------------+--------------------+ | Red Hat Enterprise Linux 9.5 | PASS | +------------------------------+--------------------+ | Fedora Linux 42 | PASS | +------------------------------+--------------------+ | Ubuntu 24.04 | PASS | +------------------------------+--------------------+ | CentOS Stream 9 | PASS | +------------------------------+--------------------+ | Debian GNU/Linux 12 | PASS | +------------------------------+--------------------+ | CentOS Stream 10 | PASS | +------------------------------+--------------------+ | Ubuntu 22.04 | PASS | +------------------------------+--------------------+ Ubuntu 20.04 Kernel: 5.4 Compiler: gcc gcc (Ubuntu 9.4.0-1ubuntu1~20.04.2) 9.4.0 Red Hat Enterprise Linux 9.5 Kernel: 5.4 Compiler: gcc gcc (GCC) 11.5.0 20240719 (Red Hat 11.5.0-2) Fedora Linux 42 Kernel: 5.4 Compiler: clang gcc (GCC) 15.2.1 20250808 (Red Hat 15.2.1-1) Ubuntu 24.04 Kernel: 5.4 Compiler: gcc gcc (Ubuntu 13.3.0-6ubuntu2~24.04) 13.3.0 CentOS Stream 9 Kernel: 5.4 Compiler: gcc gcc (GCC) 11.5.0 20240719 (Red Hat 11.5.0-11) Debian GNU/Linux 12 Kernel: 5.4 Compiler: gcc gcc (Debian 12.2.0-14+deb12u1) 12.2.0 CentOS Stream 10 Kernel: 5.4 Compiler: gcc gcc (GCC) 14.2.1 20250110 (Red Hat 14.2.1-8) Ubuntu 22.04 Kernel: 5.4 Compiler: gcc gcc (Ubuntu 11.4.0-1ubuntu1~22.04) 11.4.0 To view detailed results, visit: https://lab.dpdk.org/results/dashboard/patchsets/34451/ UNH-IOL DPDK Community Lab To manage your email subscriptions, visit: https://lab.dpdk.org/results/dashboard/preferences/subscriptions/