From mboxrd@z Thu Jan 1 00:00:00 1970 Return-Path: Received: from mails.dpdk.org (mails.dpdk.org [217.70.189.124]) by inbox.dpdk.org (Postfix) with ESMTP id 3214C48AA0 for ; Tue, 4 Nov 2025 10:12:47 +0100 (CET) Received: from mails.dpdk.org (localhost [127.0.0.1]) by mails.dpdk.org (Postfix) with ESMTP id 2D59840285; Tue, 4 Nov 2025 10:12:47 +0100 (CET) Received: from mail-il1-f228.google.com (mail-il1-f228.google.com [209.85.166.228]) by mails.dpdk.org (Postfix) with ESMTP id EB03040285 for ; Tue, 4 Nov 2025 10:12:45 +0100 (CET) Received: by mail-il1-f228.google.com with SMTP id e9e14a558f8ab-4330e3080bfso17449855ab.2 for ; Tue, 04 Nov 2025 01:12:45 -0800 (PST) DKIM-Signature: v=1; a=rsa-sha256; c=relaxed/relaxed; d=iol.unh.edu; s=unh-iol; t=1762247565; x=1762852365; darn=dpdk.org; h=references:in-reply-to:cc:to:from:subject:message-id:date:from:to :cc:subject:date:message-id:reply-to; bh=7FCA9jH0jPPU1jrEt1ebpxRsDYJswZjLbL+5FIDr9YM=; b=QbrRB1RGeeiI0BxizqQD0XqtHMmGZfDpxEvs6GB5UNWfuLYOTUWpFJ0qnCBJTzLGyZ 631WI0IIoBJJYvJ3ObUyo29vOmo08oxrn2KwdOA022W4ZvwMTRfoy7B1LRA5jAvdSi9X ONwsoDd4IlCwTtzsc/pmrgE/4qeTbvijL/Xko= X-Google-DKIM-Signature: v=1; a=rsa-sha256; c=relaxed/relaxed; d=1e100.net; s=20230601; t=1762247565; x=1762852365; h=references:in-reply-to:cc:to:from:subject:message-id:date :x-gm-message-state:from:to:cc:subject:date:message-id:reply-to; bh=7FCA9jH0jPPU1jrEt1ebpxRsDYJswZjLbL+5FIDr9YM=; b=tF4lmex6nksFNh71eHL/wFDGjWCxxNnsVZqBu0XeP3r3kaQ/KQxJo5bRufIMT07vPO h5Xj6H0BNPfN8NMe8JX6oJmj6I2PDmoGdXHLZ/czkpW/sy3m9y8vL//xxrvvsdxZIyMJ CXK5hC5CiM1cdj5/P1nih1f2MRPWqUWX/VftvjSUq7/CQsRv23FNYbJTzJJNxbmzfQPI 2uh/Q29eJzxpP+pNE0aAGHgVLS2J1rKXNBw7x2DHWQnbMXthnH2HVvl681g1GDqw4czQ LLozQ9RsbjcZhwuOmVmJTACP7d25wijfJRfGiqP1yHZXZxhCjUMfw29w9AAWI8FTeSW6 0RPA== X-Gm-Message-State: AOJu0YwbjBTWkgO6M4+daYM07G3pjjZmpIhIPYJypGcuMwCqeDQUChvH eWEjly45CCHV4+HhyMpQX89icRpQA5KrIRdn8XMDQriCMqdgkj5KthdAsbMnkI3SovWMHusOHMJ RyXjjK3YOtzG0PeWAF0IouYddqrBOSPoQwYfW0H2FXPDUlTwMmxcA+ILeib+r X-Gm-Gg: ASbGncvYTbWvl2ko+CsL/dub3xl+lPhJ8Xs4fUMYP8nzzRUbKY3byhVjrn7T/giY6UE 3ntAeFNlzc7A8wyAZ0RUIhyzlkXQnKZgVPVTKaGmvNIHFflGKk6XMjVa3Y2WcfT7dSnOdMQvYHV a/T5QDiMGzuWKOPjvy3G+yt2Z2Nu6LsF7or1R1GgL7l2fwJ6d9hN/kxgKc/Pr7vuU3J2OW9MjRm VrefbGDKC5gCcnQnZgOkSt7mIpRsO9V/okhWbYmfRxF2zIZl4k2aj0QmUE1rKgf+gFa0x113y0p 5VRUicurOf6PWmnWSydE3xmEtuRXztF4LmjX04xD4UX4P9/fGvw+bWLCYm4K0WW96jqVKrD3wa0 FCd/QK8fv X-Google-Smtp-Source: AGHT+IGPzr5d8lpNwQj3B4OafKb9vNF+2qiqg0zJZh6pU2TArq1NcmgWoxhBXmUmwX00jfqeZEemkUnhOkpZ X-Received: by 2002:a05:6e02:4410:10b0:433:209d:fede with SMTP id e9e14a558f8ab-433209e211cmr135602895ab.1.1762247565247; Tue, 04 Nov 2025 01:12:45 -0800 (PST) Received: from postal.iol.unh.edu (postal.iol.unh.edu. [2606:4100:3880:1234::84]) by smtp-relay.gmail.com with ESMTPS id 8926c6da1cb9f-5b72272eb3csm289234173.37.2025.11.04.01.12.45 (version=TLS1_2 cipher=ECDHE-ECDSA-AES128-GCM-SHA256 bits=128/128); Tue, 04 Nov 2025 01:12:45 -0800 (PST) X-Relaying-Domain: iol.unh.edu Date: Tue, 04 Nov 2025 01:12:45 -0800 (PST) Message-ID: <6909c38d.050a0220.31946f.006cSMTPIN_ADDED_MISSING@mx.google.com> Received: from [172.21.0.3] (unknown [172.18.0.240]) by postal.iol.unh.edu (Postfix) with ESMTP id C34FD6051830; Tue, 4 Nov 2025 04:12:44 -0500 (EST) Subject: |SUCCESS| pw158418 [PATCH] vhost: fix use-after-free race during cle From: dpdklab@iol.unh.edu To: Test Report Cc: dpdk-test-reports@iol.unh.edu, Chenbo Xia , Maxime Coquelin In-Reply-To: <20251104080931.8102-1-shperetz@nvidia.com> References: <20251104080931.8102-1-shperetz@nvidia.com> Content-Type: text/plain X-BeenThere: test-report@dpdk.org X-Mailman-Version: 2.1.29 Precedence: list List-Id: automatic DPDK test reports List-Unsubscribe: , List-Archive: List-Post: List-Help: List-Subscribe: , Errors-To: test-report-bounces@dpdk.org Test-Label: iol-unit-amd64-testing Test-Status: SUCCESS http://dpdk.org/patch/158418 _Testing PASS_ Submitter: Shani Peretz Date: Tuesday, November 04 2025 08:09:31 DPDK git baseline: Repo:dpdk-next-virtio Branch: master CommitID:6b37c26a95388aa41bb5267c7c42f604fd571a38 158418 --> testing pass Upstream job id: Generic-Unit-Test-DPDK#388295 Test environment and result as below: +-------------------------------+----------------+ | Environment | dpdk_unit_test | +===============================+================+ | Red Hat Enterprise Linux 8.10 | PASS | +-------------------------------+----------------+ | Fedora Linux 42 | PASS | +-------------------------------+----------------+ | Fedora Linux 40 | PASS | +-------------------------------+----------------+ | Ubuntu 24.04 | PASS | +-------------------------------+----------------+ | Red Hat Enterprise Linux 9.5 | PASS | +-------------------------------+----------------+ | Ubuntu 20.04 | PASS | +-------------------------------+----------------+ | Fedora Linux 41 | PASS | +-------------------------------+----------------+ | Debian GNU/Linux 12 | PASS | +-------------------------------+----------------+ | CentOS Stream 10 | PASS | +-------------------------------+----------------+ | CentOS Stream 9 | PASS | +-------------------------------+----------------+ | Ubuntu 22.04 | PASS | +-------------------------------+----------------+ Red Hat Enterprise Linux 8.10 Kernel: 5.15 Compiler: gcc gcc (GCC) 8.5.0 20210514 (Red Hat 8.5.0-22) Fedora Linux 42 Kernel: 5.15 Compiler: clang gcc (GCC) 15.2.1 20250808 (Red Hat 15.2.1-1) Fedora Linux 40 Kernel: 5.15 Compiler: clang gcc (GCC) 14.2.1 20240912 (Red Hat 14.2.1-3) Ubuntu 24.04 Kernel: 5.15 Compiler: gcc gcc (Ubuntu 13.3.0-6ubuntu2~24.04) 13.3.0 Red Hat Enterprise Linux 9.5 Kernel: 5.15 Compiler: gcc gcc (GCC) 11.5.0 20240719 (Red Hat 11.5.0-2) Ubuntu 20.04 Kernel: 5.15 Compiler: gcc gcc (Ubuntu 9.4.0-1ubuntu1~20.04.2) 9.4.0 Fedora Linux 41 Kernel: 5.15 Compiler: gcc gcc (GCC) 14.3.1 20250523 (Red Hat 14.3.1-1) Debian GNU/Linux 12 Kernel: 5.15 Compiler: gcc gcc (Debian 12.2.0-14+deb12u1) 12.2.0 CentOS Stream 10 Kernel: 5.15 Compiler: gcc gcc (GCC) 14.2.1 20250110 (Red Hat 14.2.1-8) CentOS Stream 9 Kernel: 5.15 Compiler: gcc gcc (GCC) 11.5.0 20240719 (Red Hat 11.5.0-11) Ubuntu 22.04 Kernel: 5.15 Compiler: gcc gcc (Ubuntu 11.4.0-1ubuntu1~22.04) 11.4.0 To view detailed results, visit: https://lab.dpdk.org/results/dashboard/patchsets/34454/ UNH-IOL DPDK Community Lab To manage your email subscriptions, visit: https://lab.dpdk.org/results/dashboard/preferences/subscriptions/